BEGIN:VCALENDAR
VERSION:2.0
PRODID:-//BattleGroundZ - ECPv6.15.20//NONSGML v1.0//EN
CALSCALE:GREGORIAN
METHOD:PUBLISH
X-WR-CALNAME:BattleGroundZ
X-ORIGINAL-URL:https://battlegroundz.net
X-WR-CALDESC:Events for BattleGroundZ
REFRESH-INTERVAL;VALUE=DURATION:PT1H
X-Robots-Tag:noindex
X-PUBLISHED-TTL:PT1H
BEGIN:VTIMEZONE
TZID:America/New_York
BEGIN:DAYLIGHT
TZOFFSETFROM:-0500
TZOFFSETTO:-0400
TZNAME:EDT
DTSTART:20250309T070000
END:DAYLIGHT
BEGIN:STANDARD
TZOFFSETFROM:-0400
TZOFFSETTO:-0500
TZNAME:EST
DTSTART:20251102T060000
END:STANDARD
BEGIN:DAYLIGHT
TZOFFSETFROM:-0500
TZOFFSETTO:-0400
TZNAME:EDT
DTSTART:20260308T070000
END:DAYLIGHT
BEGIN:STANDARD
TZOFFSETFROM:-0400
TZOFFSETTO:-0500
TZNAME:EST
DTSTART:20261101T060000
END:STANDARD
BEGIN:DAYLIGHT
TZOFFSETFROM:-0500
TZOFFSETTO:-0400
TZNAME:EDT
DTSTART:20270314T070000
END:DAYLIGHT
BEGIN:STANDARD
TZOFFSETFROM:-0400
TZOFFSETTO:-0500
TZNAME:EST
DTSTART:20271107T060000
END:STANDARD
END:VTIMEZONE
BEGIN:VEVENT
DTSTART;TZID=America/New_York:20260406T170000
DTEND;TZID=America/New_York:20260406T220000
DTSTAMP:20260420T083013
CREATED:20250627T184545Z
LAST-MODIFIED:20260331T164202Z
UID:10008396-1775494800-1775512800@battlegroundz.net
SUMMARY:BOGO Archery Tag!
DESCRIPTION:Archery Tag is a fun and competitive game to play with friends on our turf field with inflatable barriers! We have youth and adult bows! \nCome on down to play some archery tag! Buy one round and get another for free!
URL:https://battlegroundz.net/event/bogo-archery-tag/
LOCATION:Battlegroundz\, 100 Higginson Ave\, Lincoln\, RI\, 02865\, United States
CATEGORIES:Archery Tag
ATTACH;FMTTYPE=image/jpeg:https://battlegroundz.net/wp-content/uploads/2025/06/BOGO-Archery-Tag.jpg
END:VEVENT
BEGIN:VEVENT
DTSTART;TZID=America/New_York:20260407T170000
DTEND;TZID=America/New_York:20260407T220000
DTSTAMP:20260420T083013
CREATED:20240828T134553Z
LAST-MODIFIED:20260331T195455Z
UID:10005694-1775581200-1775599200@battlegroundz.net
SUMMARY:Airsoft $20 Tuesday
DESCRIPTION:5pm-10pm \n$20 \n5 Hours session of Unlimited Game Time + 2 slices of pizza \n*Rental gear not included
URL:https://battlegroundz.net/event/airsoft-20-tuesday-2-2/2026-04-07/
LOCATION:RI
CATEGORIES:Airsoft
ATTACH;FMTTYPE=image/png:https://battlegroundz.net/wp-content/uploads/2023/08/20-tuesday-new-post.png
END:VEVENT
BEGIN:VEVENT
DTSTART;TZID=America/New_York:20260408T120000
DTEND;TZID=America/New_York:20260408T220000
DTSTAMP:20260420T083013
CREATED:20260331T172743Z
LAST-MODIFIED:20260331T172743Z
UID:10009219-1775649600-1775685600@battlegroundz.net
SUMMARY:Lazer Tag Wednesday!
DESCRIPTION:For today only\, play a 7 minute round of lazer tag for only 5$ per person! Our field can play up to 30 players with 4 different teams
URL:https://battlegroundz.net/event/lazer-tag-wednesday/
LOCATION:Battlegroundz\, 100 Higginson Ave\, Lincoln\, RI\, 02865\, United States
CATEGORIES:Lazer Tag
ATTACH;FMTTYPE=image/jpeg:https://battlegroundz.net/wp-content/uploads/2026/03/7-minute-round-of-lazer-tag-5pp.jpg
END:VEVENT
BEGIN:VEVENT
DTSTART;TZID=America/New_York:20260409T170000
DTEND;TZID=America/New_York:20260409T210000
DTSTAMP:20260420T083013
CREATED:20241028T193722Z
LAST-MODIFIED:20241119T170747Z
UID:10006703-1775754000-1775768400@battlegroundz.net
SUMMARY:Unlimited Paintball + 2 Slices of Pizza ONLY $30
DESCRIPTION:5pm-9pm \nUnlimited Paintball for only $30 \nincludes all rental gear & ammo \n 
URL:https://battlegroundz.net/event/unlimited-paintball-2-slices-of-pizza-only-30/2026-04-09/
LOCATION:RI
CATEGORIES:Paintball
ATTACH;FMTTYPE=image/png:https://battlegroundz.net/wp-content/uploads/2024/10/Thursday-Paintball-Unlimited.png
END:VEVENT
BEGIN:VEVENT
DTSTART;TZID=America/New_York:20260410T160000
DTEND;TZID=America/New_York:20260410T235900
DTSTAMP:20260420T083013
CREATED:20260331T164837Z
LAST-MODIFIED:20260331T164837Z
UID:10008959-1775836800-1775865540@battlegroundz.net
SUMMARY:Special 6-Hour Session Times!
DESCRIPTION:BattlegroundZ is offering two 6 hour sessions from 4-12 tonight. An airsoft extension is only $10! Stop by tonight for hours of fun!
URL:https://battlegroundz.net/event/special-6-hour-session-times/2026-04-10/
LOCATION:Battlegroundz\, 100 Higginson Ave\, Lincoln\, RI\, 02865\, United States
CATEGORIES:Airsoft,Airsoft
ATTACH;FMTTYPE=image/jpeg:https://battlegroundz.net/wp-content/uploads/2026/03/3-27-26-Friday-Session-Times.jpg
END:VEVENT
BEGIN:VEVENT
DTSTART;TZID=America/New_York:20260411T120000
DTEND;TZID=America/New_York:20260411T220000
DTSTAMP:20260420T083013
CREATED:20260130T235126Z
LAST-MODIFIED:20260331T174239Z
UID:10008941-1775908800-1775944800@battlegroundz.net
SUMMARY:Battle Burger w/ Fries\, Only $9.99!
DESCRIPTION:Enjoy a juicy 1/3 lb burger topped with onion rings and bbq sauce on a toasted hamburger bun! Only $9.99!
URL:https://battlegroundz.net/event/battle-burger-w-fries-only-12-49/
LOCATION:Battlegroundz\, 100 Higginson Ave\, Lincoln\, RI\, 02865\, United States
CATEGORIES:Restaurant and Bar Specials
ATTACH;FMTTYPE=image/jpeg:https://battlegroundz.net/wp-content/uploads/2026/01/battle-burger-9.99.jpg
END:VEVENT
BEGIN:VEVENT
DTSTART;TZID=America/New_York:20260412T120000
DTEND;TZID=America/New_York:20260412T220000
DTSTAMP:20260420T083013
CREATED:20260115T212453Z
LAST-MODIFIED:20260331T175927Z
UID:10008927-1775995200-1776031200@battlegroundz.net
SUMMARY:Soft Hot Pretzel\, Only $2.99 Today!
DESCRIPTION:Today only\, enjoy a soft pretzel from the Mess Hall for $2.99\, add nacho cheese for $1.25! The kitchen is open 12-8PM
URL:https://battlegroundz.net/event/soft-hot-pretzel-only-2-99-today/
LOCATION:Battlegroundz\, 100 Higginson Ave\, Lincoln\, RI\, 02865\, United States
CATEGORIES:Restaurant and Bar Specials
ATTACH;FMTTYPE=image/png:https://battlegroundz.net/wp-content/uploads/2026/01/Pretzel-2.99-add-cheese-1.25.png
END:VEVENT
END:VCALENDAR