BEGIN:VCALENDAR
VERSION:2.0
PRODID:-//BattleGroundZ - ECPv6.15.20//NONSGML v1.0//EN
CALSCALE:GREGORIAN
METHOD:PUBLISH
X-ORIGINAL-URL:https://battlegroundz.net
X-WR-CALDESC:Events for BattleGroundZ
REFRESH-INTERVAL;VALUE=DURATION:PT1H
X-Robots-Tag:noindex
X-PUBLISHED-TTL:PT1H
BEGIN:VTIMEZONE
TZID:America/New_York
BEGIN:DAYLIGHT
TZOFFSETFROM:-0500
TZOFFSETTO:-0400
TZNAME:EDT
DTSTART:20250309T070000
END:DAYLIGHT
BEGIN:STANDARD
TZOFFSETFROM:-0400
TZOFFSETTO:-0500
TZNAME:EST
DTSTART:20251102T060000
END:STANDARD
BEGIN:DAYLIGHT
TZOFFSETFROM:-0500
TZOFFSETTO:-0400
TZNAME:EDT
DTSTART:20260308T070000
END:DAYLIGHT
BEGIN:STANDARD
TZOFFSETFROM:-0400
TZOFFSETTO:-0500
TZNAME:EST
DTSTART:20261101T060000
END:STANDARD
BEGIN:DAYLIGHT
TZOFFSETFROM:-0500
TZOFFSETTO:-0400
TZNAME:EDT
DTSTART:20270314T070000
END:DAYLIGHT
BEGIN:STANDARD
TZOFFSETFROM:-0400
TZOFFSETTO:-0500
TZNAME:EST
DTSTART:20271107T060000
END:STANDARD
END:VTIMEZONE
BEGIN:VEVENT
DTSTART;TZID=America/New_York:20260309T120000
DTEND;TZID=America/New_York:20260309T220000
DTSTAMP:20260420T161257
CREATED:20260308T201141Z
LAST-MODIFIED:20260308T201238Z
UID:10008945-1773057600-1773093600@battlegroundz.net
SUMMARY:Lazer Tag Matinee Pricing All Day!
DESCRIPTION:Today only\, play 3 rounds of lazer tag\, gel blasters\, dodgeball\, archery tag\, or dart wars with matinee pricing! 3 rds/$20\, 6 rds/$35!
URL:https://battlegroundz.net/event/lazer-tag-matinee-pricing-all-day-9/
LOCATION:Battlegroundz\, 100 Higginson Ave\, Lincoln\, RI\, 02865\, United States
CATEGORIES:Lazer Tag
ATTACH;FMTTYPE=image/png:https://battlegroundz.net/wp-content/uploads/2024/02/Lazer-Tag-Matinee-Pricing-ALL-DAY.png
END:VEVENT
BEGIN:VEVENT
DTSTART;TZID=America/New_York:20260310T170000
DTEND;TZID=America/New_York:20260310T220000
DTSTAMP:20260420T161257
CREATED:20240828T134553Z
LAST-MODIFIED:20260331T195455Z
UID:10005690-1773162000-1773180000@battlegroundz.net
SUMMARY:Airsoft $20 Tuesday
DESCRIPTION:5pm-10pm \n$20 \n5 Hours session of Unlimited Game Time + 2 slices of pizza \n*Rental gear not included
URL:https://battlegroundz.net/event/airsoft-20-tuesday-2-2/2026-03-10/
LOCATION:RI
CATEGORIES:Airsoft
ATTACH;FMTTYPE=image/png:https://battlegroundz.net/wp-content/uploads/2023/08/20-tuesday-new-post.png
END:VEVENT
BEGIN:VEVENT
DTSTART;TZID=America/New_York:20260311T170000
DTEND;TZID=America/New_York:20260311T220000
DTSTAMP:20260420T161257
CREATED:20260308T212828Z
LAST-MODIFIED:20260308T212828Z
UID:10008946-1773248400-1773266400@battlegroundz.net
SUMMARY:20% Off Airsoft Gun Rentals!
DESCRIPTION:Today only\, get everything you need to play airsoft for only $20! (Comes with a chest protector\, mask\, rental gun & Magazine + 300 BB’s!). Fields open at 5PM.
URL:https://battlegroundz.net/event/20-off-airsoft-gun-rentals/
LOCATION:Battlegroundz\, 100 Higginson Ave\, Lincoln\, RI\, 02865\, United States
CATEGORIES:Airsoft,Airsoft
ATTACH;FMTTYPE=image/jpeg:https://battlegroundz.net/wp-content/uploads/2026/03/20-Off-Airsoft-Rentals.jpg
END:VEVENT
BEGIN:VEVENT
DTSTART;TZID=America/New_York:20260312T170000
DTEND;TZID=America/New_York:20260312T210000
DTSTAMP:20260420T161257
CREATED:20241028T193722Z
LAST-MODIFIED:20241119T170747Z
UID:10006675-1773334800-1773349200@battlegroundz.net
SUMMARY:Unlimited Paintball + 2 Slices of Pizza ONLY $30
DESCRIPTION:5pm-9pm \nUnlimited Paintball for only $30 \nincludes all rental gear & ammo \n 
URL:https://battlegroundz.net/event/unlimited-paintball-2-slices-of-pizza-only-30/2026-03-12/
LOCATION:RI
CATEGORIES:Paintball
ATTACH;FMTTYPE=image/png:https://battlegroundz.net/wp-content/uploads/2024/10/Thursday-Paintball-Unlimited.png
END:VEVENT
BEGIN:VEVENT
DTSTART;TZID=America/New_York:20260314T120000
DTEND;TZID=America/New_York:20260314T220000
DTSTAMP:20260420T161257
CREATED:20260309T192239Z
LAST-MODIFIED:20260309T192239Z
UID:10008948-1773489600-1773525600@battlegroundz.net
SUMMARY:2 Hot Dogs W/ Fries\, Only $9.99
DESCRIPTION:Stop by and enjoy a classic comfort food from the mess hall with golden brown fries! The kitchen will be open from 12-10PM
URL:https://battlegroundz.net/event/2-hot-dogs-w-fries-only-9-99/
LOCATION:Battlegroundz\, 100 Higginson Ave\, Lincoln\, RI\, 02865\, United States
CATEGORIES:Restaurant and Bar Specials
ATTACH;FMTTYPE=image/png:https://battlegroundz.net/wp-content/uploads/2026/03/2-hot-dogs-with-fries-dod-1.png
END:VEVENT
BEGIN:VEVENT
DTSTART;TZID=America/New_York:20260315T120000
DTEND;TZID=America/New_York:20260315T200000
DTSTAMP:20260420T161258
CREATED:20260309T193226Z
LAST-MODIFIED:20260309T193226Z
UID:10008949-1773576000-1773604800@battlegroundz.net
SUMMARY:Chicken Snack Wrap\, Only $2.99 Today!
DESCRIPTION:Enjoy one of our newest menu items today for only $2.99. This quick snack will be sure to satisfy your hunger! The Mess Hall is open from 12-8PM tonight!
URL:https://battlegroundz.net/event/chicken-snack-wrap-only-2-99-today/
LOCATION:Battlegroundz\, 100 Higginson Ave\, Lincoln\, RI\, 02865\, United States
CATEGORIES:Restaurant and Bar Specials
ATTACH;FMTTYPE=image/png:https://battlegroundz.net/wp-content/uploads/2026/03/Chicken-snack-wrap.png
END:VEVENT
END:VCALENDAR