BEGIN:VCALENDAR
VERSION:2.0
PRODID:-//BattleGroundZ - ECPv6.15.20//NONSGML v1.0//EN
CALSCALE:GREGORIAN
METHOD:PUBLISH
X-ORIGINAL-URL:https://battlegroundz.net
X-WR-CALDESC:Events for BattleGroundZ
REFRESH-INTERVAL;VALUE=DURATION:PT1H
X-Robots-Tag:noindex
X-PUBLISHED-TTL:PT1H
BEGIN:VTIMEZONE
TZID:America/New_York
BEGIN:DAYLIGHT
TZOFFSETFROM:-0500
TZOFFSETTO:-0400
TZNAME:EDT
DTSTART:20250309T070000
END:DAYLIGHT
BEGIN:STANDARD
TZOFFSETFROM:-0400
TZOFFSETTO:-0500
TZNAME:EST
DTSTART:20251102T060000
END:STANDARD
BEGIN:DAYLIGHT
TZOFFSETFROM:-0500
TZOFFSETTO:-0400
TZNAME:EDT
DTSTART:20260308T070000
END:DAYLIGHT
BEGIN:STANDARD
TZOFFSETFROM:-0400
TZOFFSETTO:-0500
TZNAME:EST
DTSTART:20261101T060000
END:STANDARD
BEGIN:DAYLIGHT
TZOFFSETFROM:-0500
TZOFFSETTO:-0400
TZNAME:EDT
DTSTART:20270314T070000
END:DAYLIGHT
BEGIN:STANDARD
TZOFFSETFROM:-0400
TZOFFSETTO:-0500
TZNAME:EST
DTSTART:20271107T060000
END:STANDARD
END:VTIMEZONE
BEGIN:VEVENT
DTSTART;TZID=America/New_York:20260203T170000
DTEND;TZID=America/New_York:20260203T220000
DTSTAMP:20260424T183908
CREATED:20240828T134553Z
LAST-MODIFIED:20260331T195455Z
UID:10005685-1770138000-1770156000@battlegroundz.net
SUMMARY:Airsoft $20 Tuesday
DESCRIPTION:5pm-10pm \n$20 \n5 Hours session of Unlimited Game Time + 2 slices of pizza \n*Rental gear not included
URL:https://battlegroundz.net/event/airsoft-20-tuesday-2-2/2026-02-03/
LOCATION:RI
CATEGORIES:Airsoft
ATTACH;FMTTYPE=image/png:https://battlegroundz.net/wp-content/uploads/2023/08/20-tuesday-new-post.png
END:VEVENT
BEGIN:VEVENT
DTSTART;TZID=America/New_York:20260204T170000
DTEND;TZID=America/New_York:20260204T220000
DTSTAMP:20260424T183908
CREATED:20260130T223519Z
LAST-MODIFIED:20260130T223519Z
UID:10008930-1770224400-1770242400@battlegroundz.net
SUMMARY:3 Games Of Paintball for Groups of 4+\, Only $30!
DESCRIPTION:Enjoy 3 games of paintball for $30 🤯 Mask\, chest protector\, a rental paintball gun & 200 paintballs per game included
URL:https://battlegroundz.net/event/3-games-of-paintball-for-groups-of-4-only-30/
LOCATION:Battlegroundz\, 100 Higginson Ave\, Lincoln\, RI\, 02865\, United States
CATEGORIES:Paintball
ATTACH;FMTTYPE=image/jpeg:https://battlegroundz.net/wp-content/uploads/2026/01/5-off-3-games-of-paint-ball-groups-of-4-or-more.jpg
END:VEVENT
BEGIN:VEVENT
DTSTART;TZID=America/New_York:20260205T170000
DTEND;TZID=America/New_York:20260205T210000
DTSTAMP:20260424T183908
CREATED:20241028T193722Z
LAST-MODIFIED:20241119T170747Z
UID:10006640-1770310800-1770325200@battlegroundz.net
SUMMARY:Unlimited Paintball + 2 Slices of Pizza ONLY $30
DESCRIPTION:5pm-9pm \nUnlimited Paintball for only $30 \nincludes all rental gear & ammo \n 
URL:https://battlegroundz.net/event/unlimited-paintball-2-slices-of-pizza-only-30/2026-02-05/
LOCATION:RI
CATEGORIES:Paintball
ATTACH;FMTTYPE=image/png:https://battlegroundz.net/wp-content/uploads/2024/10/Thursday-Paintball-Unlimited.png
END:VEVENT
BEGIN:VEVENT
DTSTART;TZID=America/New_York:20260207T120000
DTEND;TZID=America/New_York:20260207T220000
DTSTAMP:20260424T183908
CREATED:20260130T223859Z
LAST-MODIFIED:20260130T223859Z
UID:10008931-1770465600-1770501600@battlegroundz.net
SUMMARY:Grilled Cheese w/ Fries\, only $6.99!
DESCRIPTION:Come on in from 12-10PM tonight and enjoy a gooey grilled cheese on white or wheat bread! Comes with a side of fries\, only $6.99!
URL:https://battlegroundz.net/event/grilled-cheese-w-fries-only-6-99/
LOCATION:Battlegroundz\, 100 Higginson Ave\, Lincoln\, RI\, 02865\, United States
CATEGORIES:Restaurant and Bar Specials
ATTACH;FMTTYPE=image/png:https://battlegroundz.net/wp-content/uploads/2026/01/DOTD-Grilled-Cheese-Fries.png
END:VEVENT
BEGIN:VEVENT
DTSTART;TZID=America/New_York:20260208T120000
DTEND;TZID=America/New_York:20260208T200000
DTSTAMP:20260424T183908
CREATED:20260130T224649Z
LAST-MODIFIED:20260130T224649Z
UID:10008932-1770552000-1770580800@battlegroundz.net
SUMMARY:Happy Super Bowl Sunday!
DESCRIPTION:Stop by from 12-8 tonight and enjoy a savory buffalo chicken sub while you watch the game. Only $10.99!
URL:https://battlegroundz.net/event/happy-super-bowl-sunday/
LOCATION:Battlegroundz\, 100 Higginson Ave\, Lincoln\, RI\, 02865\, United States
CATEGORIES:Restaurant and Bar Specials
ATTACH;FMTTYPE=image/png:https://battlegroundz.net/wp-content/uploads/2026/01/Buffalo-Chicken-Sub.png
END:VEVENT
END:VCALENDAR