BEGIN:VCALENDAR
VERSION:2.0
PRODID:-//BattleGroundZ - ECPv6.15.20//NONSGML v1.0//EN
CALSCALE:GREGORIAN
METHOD:PUBLISH
X-ORIGINAL-URL:https://battlegroundz.net
X-WR-CALDESC:Events for BattleGroundZ
REFRESH-INTERVAL;VALUE=DURATION:PT1H
X-Robots-Tag:noindex
X-PUBLISHED-TTL:PT1H
BEGIN:VTIMEZONE
TZID:America/New_York
BEGIN:DAYLIGHT
TZOFFSETFROM:-0500
TZOFFSETTO:-0400
TZNAME:EDT
DTSTART:20240310T070000
END:DAYLIGHT
BEGIN:STANDARD
TZOFFSETFROM:-0400
TZOFFSETTO:-0500
TZNAME:EST
DTSTART:20241103T060000
END:STANDARD
BEGIN:DAYLIGHT
TZOFFSETFROM:-0500
TZOFFSETTO:-0400
TZNAME:EDT
DTSTART:20250309T070000
END:DAYLIGHT
BEGIN:STANDARD
TZOFFSETFROM:-0400
TZOFFSETTO:-0500
TZNAME:EST
DTSTART:20251102T060000
END:STANDARD
BEGIN:DAYLIGHT
TZOFFSETFROM:-0500
TZOFFSETTO:-0400
TZNAME:EDT
DTSTART:20260308T070000
END:DAYLIGHT
BEGIN:STANDARD
TZOFFSETFROM:-0400
TZOFFSETTO:-0500
TZNAME:EST
DTSTART:20261101T060000
END:STANDARD
BEGIN:DAYLIGHT
TZOFFSETFROM:-0500
TZOFFSETTO:-0400
TZNAME:EDT
DTSTART:20270314T070000
END:DAYLIGHT
BEGIN:STANDARD
TZOFFSETFROM:-0400
TZOFFSETTO:-0500
TZNAME:EST
DTSTART:20271107T060000
END:STANDARD
END:VTIMEZONE
BEGIN:VEVENT
DTSTART;VALUE=DATE:20251228
DTEND;VALUE=DATE:20251230
DTSTAMP:20260420T231108
CREATED:20251211T205400Z
LAST-MODIFIED:20251211T205400Z
UID:10008777-1766883600-1766969999@battlegroundz.net
SUMMARY:$2 OFF ANY PIZZA!
DESCRIPTION:Today only! Score $2 off any whole pizza from the Mess Hall menu! We have plenty of toppings and specialty pizzas like the zesty garlic white pizza\, steak and cheese pizza\, and buffalo/BBQ chicken pizzas
URL:https://battlegroundz.net/event/2-off-any-pizza/
LOCATION:Battlegroundz\, 100 Higginson Ave\, Lincoln\, RI\, 02865\, United States
ATTACH;FMTTYPE=image/jpeg:https://battlegroundz.net/wp-content/uploads/2025/12/2-Off-Any-Whole-Pizza.jpg
END:VEVENT
BEGIN:VEVENT
DTSTART;VALUE=DATE:20251229
DTEND;VALUE=DATE:20251231
DTSTAMP:20260420T231108
CREATED:20251211T210106Z
LAST-MODIFIED:20251211T210106Z
UID:10008778-1766970000-1767056399@battlegroundz.net
SUMMARY:All Day Mix & Match!
DESCRIPTION:Today Only! Mix and match unlimited lazer tag\, dodgeball\, gel blasters\, or dart wars activities from 12-5PM or 5-10PM. Only $40 per player!
URL:https://battlegroundz.net/event/all-day-mix-match/
LOCATION:Battlegroundz\, 100 Higginson Ave\, Lincoln\, RI\, 02865\, United States
CATEGORIES:Lazer Tag
ATTACH;FMTTYPE=image/jpeg:https://battlegroundz.net/wp-content/uploads/2025/12/Deal-of-the-Day-Mix-N-Match-12-10PM.jpg
END:VEVENT
BEGIN:VEVENT
DTSTART;TZID=America/New_York:20251230T120000
DTEND;TZID=America/New_York:20251230T220000
DTSTAMP:20260420T231108
CREATED:20251214T225025Z
LAST-MODIFIED:20251229T004715Z
UID:10008779-1767096000-1767132000@battlegroundz.net
SUMMARY:Special Hours Today!
DESCRIPTION:School Vacation is here! Today Airsoft and Paintball open at noon\, and Laser Tag\, Gel Blasters\, Dodgeball\, Dart Wars and Archery Tag open at 2pm today. All will be closing at 10pm. \nTodays Deals are: \n$20 Tuesday Airsoft- A full session of Airsoft is only $20/pp and includes 2 slices of cheese pizza! Rental gear is not included but can be added for $25.                                                                                   Airsoft Session Times Today: 12pm to 4:30pm and 5pm to 10pm \nMix-N-Match Matinee- Choose any combination of Laser Tag\, Gel Blaster\, Dodgeball and Dart Wars and pay $20/pp for 3 rounds\, or $35/pp for 6 rounds from 2pm to 6pm \nHappy Kwanzaa!
URL:https://battlegroundz.net/event/special-hours-today/
LOCATION:Battlegroundz\, 100 Higginson Ave\, Lincoln\, RI\, 02865\, United States
CATEGORIES:Experience Special Hours
ATTACH;FMTTYPE=image/jpeg:https://battlegroundz.net/wp-content/uploads/2025/12/20-Tuesday-Promo-2-Sessions.jpg
END:VEVENT
BEGIN:VEVENT
DTSTART;TZID=America/New_York:20251230T170000
DTEND;TZID=America/New_York:20251230T220000
DTSTAMP:20260420T231108
CREATED:20240828T134553Z
LAST-MODIFIED:20260331T195455Z
UID:10005680-1767114000-1767132000@battlegroundz.net
SUMMARY:Airsoft $20 Tuesday
DESCRIPTION:5pm-10pm \n$20 \n5 Hours session of Unlimited Game Time + 2 slices of pizza \n*Rental gear not included
URL:https://battlegroundz.net/event/airsoft-20-tuesday-2-2/2025-12-30/
LOCATION:RI
CATEGORIES:Airsoft
ATTACH;FMTTYPE=image/png:https://battlegroundz.net/wp-content/uploads/2023/08/20-tuesday-new-post.png
END:VEVENT
BEGIN:VEVENT
DTSTART;TZID=America/New_York:20251231T120000
DTEND;TZID=America/New_York:20251231T200000
DTSTAMP:20260420T231108
CREATED:20251226T181233Z
LAST-MODIFIED:20251229T000903Z
UID:10008852-1767182400-1767211200@battlegroundz.net
SUMMARY:Happy New Year's Eve! Special Hours Today!
DESCRIPTION:Happy New Year’s Eve from all of us here at BattlegroundZ! To celebrate\, we will be hosting multiple 5 hour airsoft extensions for only $20. Play 8 hours for only $25! We hope to see you soon!
URL:https://battlegroundz.net/event/happy-new-years-eve-special-hours-today/
LOCATION:Battlegroundz\, 100 Higginson Ave\, Lincoln\, RI\, 02865\, United States
CATEGORIES:Experience Special Hours
ATTACH;FMTTYPE=image/jpeg:https://battlegroundz.net/wp-content/uploads/2025/12/Happy-New-Year-Post.jpg
END:VEVENT
BEGIN:VEVENT
DTSTART;TZID=America/New_York:20260101T170000
DTEND;TZID=America/New_York:20260101T210000
DTSTAMP:20260420T231108
CREATED:20241028T193722Z
LAST-MODIFIED:20241119T170747Z
UID:10006605-1767286800-1767301200@battlegroundz.net
SUMMARY:Unlimited Paintball + 2 Slices of Pizza ONLY $30
DESCRIPTION:5pm-9pm \nUnlimited Paintball for only $30 \nincludes all rental gear & ammo \n 
URL:https://battlegroundz.net/event/unlimited-paintball-2-slices-of-pizza-only-30/2026-01-01/
LOCATION:RI
CATEGORIES:Paintball
ATTACH;FMTTYPE=image/png:https://battlegroundz.net/wp-content/uploads/2024/10/Thursday-Paintball-Unlimited.png
END:VEVENT
BEGIN:VEVENT
DTSTART;TZID=America/New_York:20260103T120000
DTEND;TZID=America/New_York:20260103T220000
DTSTAMP:20260420T231108
CREATED:20251231T235727Z
LAST-MODIFIED:20260101T172045Z
UID:10008855-1767441600-1767477600@battlegroundz.net
SUMMARY:Cheesburger and Fries Deal!
DESCRIPTION:Today only\, get a cheeseburger with fries for only $11.00! Our 1/3 pound burgers are fresh and will be sure to satisfy your appetite! Come on by from 12-10PM to score this deal! \nWe are also available on DoorDash and Grubhub if you want it delivered! Just search “BattlegroundZ”!
URL:https://battlegroundz.net/event/cheesburger-and-fries-deal/
LOCATION:Battlegroundz\, 100 Higginson Ave\, Lincoln\, RI\, 02865\, United States
CATEGORIES:Restaurant and Bar Specials
ATTACH;FMTTYPE=image/png:https://battlegroundz.net/wp-content/uploads/2025/12/Chz-Burger-Fry.png
END:VEVENT
BEGIN:VEVENT
DTSTART;TZID=America/New_York:20260104T120000
DTEND;TZID=America/New_York:20260104T200000
DTSTAMP:20260420T231108
CREATED:20260101T182020Z
LAST-MODIFIED:20260101T182020Z
UID:10008856-1767528000-1767556800@battlegroundz.net
SUMMARY:2 Classic Hot Dogs w Fries\, only $9.99!
DESCRIPTION:Today only\, you can grab this awesome deal from the Mess Hall! \nCome in and check out our delicious menu items! We have everything from 1/3 pound fresh signature burgers & meat lovers pizza to grab and go items for those that can’t wait to get back into the gaming action. Our top notch quality will pleasantly surprise you!
URL:https://battlegroundz.net/event/2-classic-hot-dogs-w-fries-only-9-99/
LOCATION:Battlegroundz\, 100 Higginson Ave\, Lincoln\, RI\, 02865\, United States
CATEGORIES:Restaurant and Bar Specials
ATTACH;FMTTYPE=image/png:https://battlegroundz.net/wp-content/uploads/2026/01/2-Classic-Hot-Dogs-w-fries.png
END:VEVENT
END:VCALENDAR