BEGIN:VCALENDAR
VERSION:2.0
PRODID:-//BattleGroundZ - ECPv6.15.20//NONSGML v1.0//EN
CALSCALE:GREGORIAN
METHOD:PUBLISH
X-WR-CALNAME:BattleGroundZ
X-ORIGINAL-URL:https://battlegroundz.net
X-WR-CALDESC:Events for BattleGroundZ
REFRESH-INTERVAL;VALUE=DURATION:PT1H
X-Robots-Tag:noindex
X-PUBLISHED-TTL:PT1H
BEGIN:VTIMEZONE
TZID:America/New_York
BEGIN:DAYLIGHT
TZOFFSETFROM:-0500
TZOFFSETTO:-0400
TZNAME:EDT
DTSTART:20240310T070000
END:DAYLIGHT
BEGIN:STANDARD
TZOFFSETFROM:-0400
TZOFFSETTO:-0500
TZNAME:EST
DTSTART:20241103T060000
END:STANDARD
BEGIN:DAYLIGHT
TZOFFSETFROM:-0500
TZOFFSETTO:-0400
TZNAME:EDT
DTSTART:20250309T070000
END:DAYLIGHT
BEGIN:STANDARD
TZOFFSETFROM:-0400
TZOFFSETTO:-0500
TZNAME:EST
DTSTART:20251102T060000
END:STANDARD
BEGIN:DAYLIGHT
TZOFFSETFROM:-0500
TZOFFSETTO:-0400
TZNAME:EDT
DTSTART:20260308T070000
END:DAYLIGHT
BEGIN:STANDARD
TZOFFSETFROM:-0400
TZOFFSETTO:-0500
TZNAME:EST
DTSTART:20261101T060000
END:STANDARD
END:VTIMEZONE
BEGIN:VEVENT
DTSTART;TZID=America/New_York:20250728T120000
DTEND;TZID=America/New_York:20250728T220000
DTSTAMP:20260421T080208
CREATED:20250627T201230Z
LAST-MODIFIED:20250627T201230Z
UID:10008458-1753704000-1753740000@battlegroundz.net
SUMMARY:Buy 4 Get 2 Games of Laser Tag
DESCRIPTION:Purchase 4 rounds of laser tag ($32 per person)\, play 2 extra rounds completely free!
URL:https://battlegroundz.net/event/buy-4-get-2-games-of-laser-tag/
LOCATION:RI
END:VEVENT
BEGIN:VEVENT
DTSTART;TZID=America/New_York:20250729T120000
DTEND;TZID=America/New_York:20250729T220000
DTSTAMP:20260421T080208
CREATED:20250603T005616Z
LAST-MODIFIED:20250603T005616Z
UID:10008364-1753790400-1753826400@battlegroundz.net
SUMMARY:$20 Tuesday
DESCRIPTION:Tuesdays from 12pm to 5pm and 5pm to 10pm enjoy 5 hours of unlimited airsoft play for only $20 AND receive two slices of cheese pizza! Gun rental not included ($25)
URL:https://battlegroundz.net/event/20-tuesday-2/2025-07-29/
LOCATION:RI
END:VEVENT
BEGIN:VEVENT
DTSTART;TZID=America/New_York:20250729T170000
DTEND;TZID=America/New_York:20250729T220000
DTSTAMP:20260421T080208
CREATED:20240828T134553Z
LAST-MODIFIED:20260331T195455Z
UID:10005658-1753808400-1753826400@battlegroundz.net
SUMMARY:Airsoft $20 Tuesday
DESCRIPTION:5pm-10pm \n$20 \n5 Hours session of Unlimited Game Time + 2 slices of pizza \n*Rental gear not included
URL:https://battlegroundz.net/event/airsoft-20-tuesday-2-2/2025-07-29/
LOCATION:RI
CATEGORIES:Airsoft
ATTACH;FMTTYPE=image/png:https://battlegroundz.net/wp-content/uploads/2023/08/20-tuesday-new-post.png
END:VEVENT
BEGIN:VEVENT
DTSTART;TZID=America/New_York:20250730T120000
DTEND;TZID=America/New_York:20250730T220000
DTSTAMP:20260421T080208
CREATED:20250702T155121Z
LAST-MODIFIED:20250702T155121Z
UID:10008459-1753876800-1753912800@battlegroundz.net
SUMMARY:New Memberships with no Activation Fee!
DESCRIPTION:Join with a new Battlegroundz battlepass membership with no fee for activation today! \nMemberships come with perks such as unlimited airsoft and paintball\, discounted laser tag\, and more!
URL:https://battlegroundz.net/event/new-memberships-with-no-activation-fee/
LOCATION:RI
END:VEVENT
BEGIN:VEVENT
DTSTART;TZID=America/New_York:20250731T170000
DTEND;TZID=America/New_York:20250731T210000
DTSTAMP:20260421T080208
CREATED:20241028T193722Z
LAST-MODIFIED:20241119T170747Z
UID:10006451-1753981200-1753995600@battlegroundz.net
SUMMARY:Unlimited Paintball + 2 Slices of Pizza ONLY $30
DESCRIPTION:5pm-9pm \nUnlimited Paintball for only $30 \nincludes all rental gear & ammo \n 
URL:https://battlegroundz.net/event/unlimited-paintball-2-slices-of-pizza-only-30/2025-07-31/
LOCATION:RI
CATEGORIES:Paintball
ATTACH;FMTTYPE=image/png:https://battlegroundz.net/wp-content/uploads/2024/10/Thursday-Paintball-Unlimited.png
END:VEVENT
BEGIN:VEVENT
DTSTART;TZID=America/New_York:20250801T120000
DTEND;TZID=America/New_York:20250801T120000
DTSTAMP:20260421T080208
CREATED:20250603T030226Z
LAST-MODIFIED:20250724T172259Z
UID:10008374-1754049600-1754049600@battlegroundz.net
SUMMARY:Airsoft Session Extension $5
DESCRIPTION:Buy a 6-HOUR session of Airsoft and get the next same-day session for only $5 \n(That’s 12 Hours for $35!) \nSession 1: 12pm-6pm \nSession 2: 4pm-10pm \nSession 3: 6pm-12am \n*Rental gear not included
URL:https://battlegroundz.net/event/buy-a-session-of-airsoft-and-get-the-next-same-day-session-for-only-10-2-2-2/2025-08-01/
LOCATION:RI
CATEGORIES:Airsoft
ATTACH;FMTTYPE=image/png:https://battlegroundz.net/wp-content/uploads/2025/06/6-Hour-Summer-Friday-Session-Times-Updated-1.png
END:VEVENT
BEGIN:VEVENT
DTSTART;TZID=America/New_York:20250802T120000
DTEND;TZID=America/New_York:20250802T220000
DTSTAMP:20260421T080208
CREATED:20250724T170358Z
LAST-MODIFIED:20250724T170358Z
UID:10008470-1754136000-1754172000@battlegroundz.net
SUMMARY:Mess Hall BBQ Chicken Loaded Fries $9.99
DESCRIPTION:Try our BBQ chicken loaded fries today (Saturday August 2nd) for $9.99 with our deal of the day!
URL:https://battlegroundz.net/event/mess-hall-bbq-chicken-loaded-fries-9-99/
LOCATION:RI
ATTACH;FMTTYPE=image/png:https://battlegroundz.net/wp-content/uploads/2025/07/Mess-Hall-Menu-one-page.png
END:VEVENT
BEGIN:VEVENT
DTSTART;TZID=America/New_York:20250803T120000
DTEND;TZID=America/New_York:20250803T210000
DTSTAMP:20260421T080208
CREATED:20250724T185605Z
LAST-MODIFIED:20250725T183008Z
UID:10008481-1754222400-1754254800@battlegroundz.net
SUMMARY:Safety Kill Sub with Fries $14.99!
DESCRIPTION:Come try today’s combo meal of a Safety Kill sub including grilled shaved steak with cheddar cheese sauce\, bacon\, and BBQ served on freshly baked torpedo roll alongside a boat of fries for $14.99
URL:https://battlegroundz.net/event/grenade-sub-with-fries-14-99/
LOCATION:RI
ATTACH;FMTTYPE=image/png:https://battlegroundz.net/wp-content/uploads/2025/07/Mess-Hall-Menu-one-page-2.png
END:VEVENT
END:VCALENDAR