BEGIN:VCALENDAR
VERSION:2.0
PRODID:-//BattleGroundZ - ECPv6.15.20//NONSGML v1.0//EN
CALSCALE:GREGORIAN
METHOD:PUBLISH
X-WR-CALNAME:BattleGroundZ
X-ORIGINAL-URL:https://battlegroundz.net
X-WR-CALDESC:Events for BattleGroundZ
REFRESH-INTERVAL;VALUE=DURATION:PT1H
X-Robots-Tag:noindex
X-PUBLISHED-TTL:PT1H
BEGIN:VTIMEZONE
TZID:America/New_York
BEGIN:DAYLIGHT
TZOFFSETFROM:-0500
TZOFFSETTO:-0400
TZNAME:EDT
DTSTART:20240310T070000
END:DAYLIGHT
BEGIN:STANDARD
TZOFFSETFROM:-0400
TZOFFSETTO:-0500
TZNAME:EST
DTSTART:20241103T060000
END:STANDARD
BEGIN:DAYLIGHT
TZOFFSETFROM:-0500
TZOFFSETTO:-0400
TZNAME:EDT
DTSTART:20250309T070000
END:DAYLIGHT
BEGIN:STANDARD
TZOFFSETFROM:-0400
TZOFFSETTO:-0500
TZNAME:EST
DTSTART:20251102T060000
END:STANDARD
BEGIN:DAYLIGHT
TZOFFSETFROM:-0500
TZOFFSETTO:-0400
TZNAME:EDT
DTSTART:20260308T070000
END:DAYLIGHT
BEGIN:STANDARD
TZOFFSETFROM:-0400
TZOFFSETTO:-0500
TZNAME:EST
DTSTART:20261101T060000
END:STANDARD
END:VTIMEZONE
BEGIN:VEVENT
DTSTART;TZID=America/New_York:20250714T120000
DTEND;TZID=America/New_York:20250714T220000
DTSTAMP:20260421T174908
CREATED:20250627T194209Z
LAST-MODIFIED:20250627T194209Z
UID:10008454-1752494400-1752530400@battlegroundz.net
SUMMARY:3 Games of Paintball for 15% off!
DESCRIPTION:Enjoy 3 games of paintball for $30 per person! \nSessions from 12pm-5pm and 5pm-10pm
URL:https://battlegroundz.net/event/3-games-of-paintball-for-15-off/
LOCATION:RI
END:VEVENT
BEGIN:VEVENT
DTSTART;TZID=America/New_York:20250715T120000
DTEND;TZID=America/New_York:20250715T220000
DTSTAMP:20260421T174908
CREATED:20250603T005616Z
LAST-MODIFIED:20250603T005616Z
UID:10008362-1752580800-1752616800@battlegroundz.net
SUMMARY:$20 Tuesday
DESCRIPTION:Tuesdays from 12pm to 5pm and 5pm to 10pm enjoy 5 hours of unlimited airsoft play for only $20 AND receive two slices of cheese pizza! Gun rental not included ($25)
URL:https://battlegroundz.net/event/20-tuesday-2/2025-07-15/
LOCATION:RI
END:VEVENT
BEGIN:VEVENT
DTSTART;TZID=America/New_York:20250715T170000
DTEND;TZID=America/New_York:20250715T220000
DTSTAMP:20260421T174908
CREATED:20240828T134553Z
LAST-MODIFIED:20260331T195455Z
UID:10005656-1752598800-1752616800@battlegroundz.net
SUMMARY:Airsoft $20 Tuesday
DESCRIPTION:5pm-10pm \n$20 \n5 Hours session of Unlimited Game Time + 2 slices of pizza \n*Rental gear not included
URL:https://battlegroundz.net/event/airsoft-20-tuesday-2-2/2025-07-15/
LOCATION:RI
CATEGORIES:Airsoft
ATTACH;FMTTYPE=image/png:https://battlegroundz.net/wp-content/uploads/2023/08/20-tuesday-new-post.png
END:VEVENT
BEGIN:VEVENT
DTSTART;TZID=America/New_York:20250716T120000
DTEND;TZID=America/New_York:20250716T210000
DTSTAMP:20260421T174908
CREATED:20250627T194624Z
LAST-MODIFIED:20250627T194624Z
UID:10008455-1752667200-1752699600@battlegroundz.net
SUMMARY:3 Games of Archery Tag for $20!
DESCRIPTION:Bring your friends to play three rounds of archery tag for $20 per person (20% discount!)
URL:https://battlegroundz.net/event/3-games-of-archery-tag-for-20/
LOCATION:RI
END:VEVENT
BEGIN:VEVENT
DTSTART;TZID=America/New_York:20250717T170000
DTEND;TZID=America/New_York:20250717T210000
DTSTAMP:20260421T174908
CREATED:20241028T193722Z
LAST-MODIFIED:20241119T170747Z
UID:10006437-1752771600-1752786000@battlegroundz.net
SUMMARY:Unlimited Paintball + 2 Slices of Pizza ONLY $30
DESCRIPTION:5pm-9pm \nUnlimited Paintball for only $30 \nincludes all rental gear & ammo \n 
URL:https://battlegroundz.net/event/unlimited-paintball-2-slices-of-pizza-only-30/2025-07-17/
LOCATION:RI
CATEGORIES:Paintball
ATTACH;FMTTYPE=image/png:https://battlegroundz.net/wp-content/uploads/2024/10/Thursday-Paintball-Unlimited.png
END:VEVENT
BEGIN:VEVENT
DTSTART;TZID=America/New_York:20250718T120000
DTEND;TZID=America/New_York:20250718T120000
DTSTAMP:20260421T174908
CREATED:20250603T030226Z
LAST-MODIFIED:20250724T172259Z
UID:10008372-1752840000-1752840000@battlegroundz.net
SUMMARY:Airsoft Session Extension $5
DESCRIPTION:Buy a 6-HOUR session of Airsoft and get the next same-day session for only $5 \n(That’s 12 Hours for $35!) \nSession 1: 12pm-6pm \nSession 2: 4pm-10pm \nSession 3: 6pm-12am \n*Rental gear not included
URL:https://battlegroundz.net/event/buy-a-session-of-airsoft-and-get-the-next-same-day-session-for-only-10-2-2-2/2025-07-18/
LOCATION:RI
CATEGORIES:Airsoft
ATTACH;FMTTYPE=image/png:https://battlegroundz.net/wp-content/uploads/2025/06/6-Hour-Summer-Friday-Session-Times-Updated-1.png
END:VEVENT
BEGIN:VEVENT
DTSTART;TZID=America/New_York:20250719T120000
DTEND;TZID=America/New_York:20250719T220000
DTSTAMP:20260421T174908
CREATED:20250702T172306Z
LAST-MODIFIED:20250702T172306Z
UID:10008464-1752926400-1752962400@battlegroundz.net
SUMMARY:Grilled Cheese and Chips for $3.99
DESCRIPTION:Enjoy a combo meal with a grilled cheese and your choice of chips for $3.99 today!
URL:https://battlegroundz.net/event/grilled-cheese-and-chips-for-3-99/
LOCATION:RI
END:VEVENT
BEGIN:VEVENT
DTSTART;TZID=America/New_York:20250720T120000
DTEND;TZID=America/New_York:20250720T210000
DTSTAMP:20260421T174908
CREATED:20250702T172750Z
LAST-MODIFIED:20250702T172750Z
UID:10008465-1753012800-1753045200@battlegroundz.net
SUMMARY:Cheese Lovers Loaded Fries $9.99
DESCRIPTION:Enjoy golden fries loaded with cheddar cheese sauce and shredded cheddar for $9.99 today at the BGZ Mess Hall!
URL:https://battlegroundz.net/event/cheese-lovers-loaded-fries-9-99/
LOCATION:RI
END:VEVENT
END:VCALENDAR