BEGIN:VCALENDAR
VERSION:2.0
PRODID:-//BattleGroundZ - ECPv6.15.20//NONSGML v1.0//EN
CALSCALE:GREGORIAN
METHOD:PUBLISH
X-WR-CALNAME:BattleGroundZ
X-ORIGINAL-URL:https://battlegroundz.net
X-WR-CALDESC:Events for BattleGroundZ
REFRESH-INTERVAL;VALUE=DURATION:PT1H
X-Robots-Tag:noindex
X-PUBLISHED-TTL:PT1H
BEGIN:VTIMEZONE
TZID:America/New_York
BEGIN:DAYLIGHT
TZOFFSETFROM:-0500
TZOFFSETTO:-0400
TZNAME:EDT
DTSTART:20240310T070000
END:DAYLIGHT
BEGIN:STANDARD
TZOFFSETFROM:-0400
TZOFFSETTO:-0500
TZNAME:EST
DTSTART:20241103T060000
END:STANDARD
BEGIN:DAYLIGHT
TZOFFSETFROM:-0500
TZOFFSETTO:-0400
TZNAME:EDT
DTSTART:20250309T070000
END:DAYLIGHT
BEGIN:STANDARD
TZOFFSETFROM:-0400
TZOFFSETTO:-0500
TZNAME:EST
DTSTART:20251102T060000
END:STANDARD
BEGIN:DAYLIGHT
TZOFFSETFROM:-0500
TZOFFSETTO:-0400
TZNAME:EDT
DTSTART:20260308T070000
END:DAYLIGHT
BEGIN:STANDARD
TZOFFSETFROM:-0400
TZOFFSETTO:-0500
TZNAME:EST
DTSTART:20261101T060000
END:STANDARD
END:VTIMEZONE
BEGIN:VEVENT
DTSTART;TZID=America/New_York:20250623T120000
DTEND;TZID=America/New_York:20250623T220000
DTSTAMP:20260421T154724
CREATED:20250604T155126Z
LAST-MODIFIED:20250605T193719Z
UID:10008379-1750680000-1750716000@battlegroundz.net
SUMMARY:Extended Summer Hours Begin!
DESCRIPTION:June 23\, 2025 through September 1\, 2025 All fields open at noon!
URL:https://battlegroundz.net/event/extended-summer-hours-begin/
LOCATION:RI
ATTACH;FMTTYPE=image/png:https://battlegroundz.net/wp-content/uploads/2025/06/Summer-Hours-2025-Updated-1.png
END:VEVENT
BEGIN:VEVENT
DTSTART;TZID=America/New_York:20250624T120000
DTEND;TZID=America/New_York:20250624T220000
DTSTAMP:20260421T154724
CREATED:20250603T005616Z
LAST-MODIFIED:20250603T005616Z
UID:10008359-1750766400-1750802400@battlegroundz.net
SUMMARY:$20 Tuesday
DESCRIPTION:Tuesdays from 12pm to 5pm and 5pm to 10pm enjoy 5 hours of unlimited airsoft play for only $20 AND receive two slices of cheese pizza! Gun rental not included ($25)
URL:https://battlegroundz.net/event/20-tuesday-2/2025-06-24/
LOCATION:RI
END:VEVENT
BEGIN:VEVENT
DTSTART;TZID=America/New_York:20250624T170000
DTEND;TZID=America/New_York:20250624T220000
DTSTAMP:20260421T154724
CREATED:20240828T134553Z
LAST-MODIFIED:20260331T195455Z
UID:10005653-1750784400-1750802400@battlegroundz.net
SUMMARY:Airsoft $20 Tuesday
DESCRIPTION:5pm-10pm \n$20 \n5 Hours session of Unlimited Game Time + 2 slices of pizza \n*Rental gear not included
URL:https://battlegroundz.net/event/airsoft-20-tuesday-2-2/2025-06-24/
LOCATION:RI
CATEGORIES:Airsoft
ATTACH;FMTTYPE=image/png:https://battlegroundz.net/wp-content/uploads/2023/08/20-tuesday-new-post.png
END:VEVENT
BEGIN:VEVENT
DTSTART;TZID=America/New_York:20250625T120000
DTEND;TZID=America/New_York:20250625T220000
DTSTAMP:20260421T154724
CREATED:20250605T194833Z
LAST-MODIFIED:20250605T194833Z
UID:10008385-1750852800-1750888800@battlegroundz.net
SUMMARY:5 Games of Paintball for $30 per Person
DESCRIPTION:Come in and enjoy 5 rounds of paintball for $30/pp during our summer session times: \nSession 1: 12pm – 5pm \nSession 2: 5pm – 10pm
URL:https://battlegroundz.net/event/5-games-of-paintball-for-30-per-person/
LOCATION:RI
END:VEVENT
BEGIN:VEVENT
DTSTART;TZID=America/New_York:20250626T170000
DTEND;TZID=America/New_York:20250626T210000
DTSTAMP:20260421T154724
CREATED:20241028T193722Z
LAST-MODIFIED:20241119T170747Z
UID:10006416-1750957200-1750971600@battlegroundz.net
SUMMARY:Unlimited Paintball + 2 Slices of Pizza ONLY $30
DESCRIPTION:5pm-9pm \nUnlimited Paintball for only $30 \nincludes all rental gear & ammo \n 
URL:https://battlegroundz.net/event/unlimited-paintball-2-slices-of-pizza-only-30/2025-06-26/
LOCATION:RI
CATEGORIES:Paintball
ATTACH;FMTTYPE=image/png:https://battlegroundz.net/wp-content/uploads/2024/10/Thursday-Paintball-Unlimited.png
END:VEVENT
BEGIN:VEVENT
DTSTART;TZID=America/New_York:20250627T120000
DTEND;TZID=America/New_York:20250627T120000
DTSTAMP:20260421T154724
CREATED:20250603T030226Z
LAST-MODIFIED:20250724T172259Z
UID:10005943-1751025600-1751025600@battlegroundz.net
SUMMARY:Airsoft Session Extension $5
DESCRIPTION:Buy a 6-HOUR session of Airsoft and get the next same-day session for only $5 \n(That’s 12 Hours for $35!) \nSession 1: 12pm-6pm \nSession 2: 4pm-10pm \nSession 3: 6pm-12am \n*Rental gear not included
URL:https://battlegroundz.net/event/buy-a-session-of-airsoft-and-get-the-next-same-day-session-for-only-10-2-2-2/2025-06-27/
LOCATION:RI
CATEGORIES:Airsoft
ATTACH;FMTTYPE=image/png:https://battlegroundz.net/wp-content/uploads/2025/06/6-Hour-Summer-Friday-Session-Times-Updated-1.png
END:VEVENT
BEGIN:VEVENT
DTSTART;TZID=America/New_York:20250629T120000
DTEND;TZID=America/New_York:20250629T210000
DTSTAMP:20260421T154724
CREATED:20250606T002128Z
LAST-MODIFIED:20250609T183229Z
UID:10008392-1751198400-1751230800@battlegroundz.net
SUMMARY:BLT w/ Fries for $11.99
DESCRIPTION:Enjoy a BLT combo meal with a boat of fries for $11.99 and check out other items on our Mess Hall menu
URL:https://battlegroundz.net/event/blt-w-fries-for-11-99/
LOCATION:RI
ATTACH;FMTTYPE=image/png:https://battlegroundz.net/wp-content/uploads/2025/06/Mess-Hall-Menu-one-page-5.png
END:VEVENT
END:VCALENDAR