BEGIN:VCALENDAR
VERSION:2.0
PRODID:-//BattleGroundZ - ECPv6.15.20//NONSGML v1.0//EN
CALSCALE:GREGORIAN
METHOD:PUBLISH
X-ORIGINAL-URL:https://battlegroundz.net
X-WR-CALDESC:Events for BattleGroundZ
REFRESH-INTERVAL;VALUE=DURATION:PT1H
X-Robots-Tag:noindex
X-PUBLISHED-TTL:PT1H
BEGIN:VTIMEZONE
TZID:America/New_York
BEGIN:DAYLIGHT
TZOFFSETFROM:-0500
TZOFFSETTO:-0400
TZNAME:EDT
DTSTART:20240310T070000
END:DAYLIGHT
BEGIN:STANDARD
TZOFFSETFROM:-0400
TZOFFSETTO:-0500
TZNAME:EST
DTSTART:20241103T060000
END:STANDARD
BEGIN:DAYLIGHT
TZOFFSETFROM:-0500
TZOFFSETTO:-0400
TZNAME:EDT
DTSTART:20250309T070000
END:DAYLIGHT
BEGIN:STANDARD
TZOFFSETFROM:-0400
TZOFFSETTO:-0500
TZNAME:EST
DTSTART:20251102T060000
END:STANDARD
BEGIN:DAYLIGHT
TZOFFSETFROM:-0500
TZOFFSETTO:-0400
TZNAME:EDT
DTSTART:20260308T070000
END:DAYLIGHT
BEGIN:STANDARD
TZOFFSETFROM:-0400
TZOFFSETTO:-0500
TZNAME:EST
DTSTART:20261101T060000
END:STANDARD
END:VTIMEZONE
BEGIN:VEVENT
DTSTART;TZID=America/New_York:20250616T170000
DTEND;TZID=America/New_York:20250616T210000
DTSTAMP:20260421T172346
CREATED:20250605T203943Z
LAST-MODIFIED:20250605T203943Z
UID:10008386-1750093200-1750107600@battlegroundz.net
SUMMARY:5pm-9pm 3 Games of Paintball $30 per Person
DESCRIPTION:Have a fun end to your Monday by playing three rounds of paintball from 5pm-9pm for $30/pp
URL:https://battlegroundz.net/event/5pm-9pm-3-games-of-paintball-30-per-person/
LOCATION:RI
END:VEVENT
BEGIN:VEVENT
DTSTART;TZID=America/New_York:20250617T170000
DTEND;TZID=America/New_York:20250617T220000
DTSTAMP:20260421T172346
CREATED:20240828T134553Z
LAST-MODIFIED:20260331T195455Z
UID:10005652-1750179600-1750197600@battlegroundz.net
SUMMARY:Airsoft $20 Tuesday
DESCRIPTION:5pm-10pm \n$20 \n5 Hours session of Unlimited Game Time + 2 slices of pizza \n*Rental gear not included
URL:https://battlegroundz.net/event/airsoft-20-tuesday-2-2/2025-06-17/
LOCATION:RI
CATEGORIES:Airsoft
ATTACH;FMTTYPE=image/png:https://battlegroundz.net/wp-content/uploads/2023/08/20-tuesday-new-post.png
END:VEVENT
BEGIN:VEVENT
DTSTART;TZID=America/New_York:20250617T170000
DTEND;TZID=America/New_York:20250617T220000
DTSTAMP:20260421T172346
CREATED:20250603T005010Z
LAST-MODIFIED:20250603T005010Z
UID:10008358-1750179600-1750197600@battlegroundz.net
SUMMARY:$20 Tuesday
DESCRIPTION:Tuesdays from 5pm to 10pm enjoy 5 hours of unlimited airsoft play for only $20 AND receive two slices of cheese pizza! Gun rental not included ($25)
URL:https://battlegroundz.net/event/20-tuesday/2025-06-17/
LOCATION:Battlegroundz\, 100 Higginson Ave\, Lincoln\, RI\, 02865\, United States
END:VEVENT
BEGIN:VEVENT
DTSTART;TZID=America/New_York:20250618T120000
DTEND;TZID=America/New_York:20250618T220000
DTSTAMP:20260421T172346
CREATED:20250605T194326Z
LAST-MODIFIED:20250605T194326Z
UID:10008384-1750248000-1750284000@battlegroundz.net
SUMMARY:5pm-9pm Unlimited Laser Tag $40 per Person
DESCRIPTION:Feeling competitive? Bring your friends down to play as many games of laser tag as you can take for $4o per player!
URL:https://battlegroundz.net/event/5pm-9pm-unlimited-laser-tag-40-per-person/
LOCATION:RI
END:VEVENT
BEGIN:VEVENT
DTSTART;TZID=America/New_York:20250619T170000
DTEND;TZID=America/New_York:20250619T210000
DTSTAMP:20260421T172346
CREATED:20241028T193722Z
LAST-MODIFIED:20241119T170747Z
UID:10006409-1750352400-1750366800@battlegroundz.net
SUMMARY:Unlimited Paintball + 2 Slices of Pizza ONLY $30
DESCRIPTION:5pm-9pm \nUnlimited Paintball for only $30 \nincludes all rental gear & ammo \n 
URL:https://battlegroundz.net/event/unlimited-paintball-2-slices-of-pizza-only-30/2025-06-19/
LOCATION:RI
CATEGORIES:Paintball
ATTACH;FMTTYPE=image/png:https://battlegroundz.net/wp-content/uploads/2024/10/Thursday-Paintball-Unlimited.png
END:VEVENT
BEGIN:VEVENT
DTSTART;TZID=America/New_York:20250620T160000
DTEND;TZID=America/New_York:20250621T000000
DTSTAMP:20260421T172346
CREATED:20250603T014127Z
LAST-MODIFIED:20250603T014128Z
UID:10005942-1750435200-1750464000@battlegroundz.net
SUMMARY:Airsoft Session Extension $5
DESCRIPTION:Buy a 6-HOUR session of Airsoft and get the next same-day session for only $5 \n  \nSession 1: 4pm-10pm \nSession 2: 6pm-12am \n*Rental gear not included
URL:https://battlegroundz.net/event/buy-a-session-of-airsoft-and-get-the-next-same-day-session-for-only-10-2-2/2025-06-20/
LOCATION:RI
CATEGORIES:Airsoft
ATTACH;FMTTYPE=image/png:https://battlegroundz.net/wp-content/uploads/2024/08/New-6-Hour-Session-Times-June-Fridays-2.png
END:VEVENT
BEGIN:VEVENT
DTSTART;TZID=America/New_York:20250621T120000
DTEND;TZID=America/New_York:20250621T220000
DTSTAMP:20260421T172346
CREATED:20250605T205258Z
LAST-MODIFIED:20250609T182713Z
UID:10008389-1750507200-1750543200@battlegroundz.net
SUMMARY:2 Slices of Cheese Pizza w/ Fries for $6.49
DESCRIPTION:Enjoy two slices of cheese pizza and a boat of fries for $6.49 with many other meals offered by our Mess Hall \nAlso check out our swap meet starting at 7pm!
URL:https://battlegroundz.net/event/2-slices-of-cheese-pizza-w-fries-for-6-49/
LOCATION:RI
ATTACH;FMTTYPE=image/png:https://battlegroundz.net/wp-content/uploads/2025/06/Mess-Hall-Menu-one-page-1.png
END:VEVENT
BEGIN:VEVENT
DTSTART;TZID=America/New_York:20250621T190000
DTEND;TZID=America/New_York:20250621T220000
DTSTAMP:20260421T172346
CREATED:20250606T001813Z
LAST-MODIFIED:20250609T183037Z
UID:10008391-1750532400-1750543200@battlegroundz.net
SUMMARY:Swap Meet at 7pm
DESCRIPTION:The BGZ Swap Meet runs from 7pm-10pm. Bring in your gear\, guns\, parts\, to buy\, sell\, and trade with other players. Minors require a parental consent form.
URL:https://battlegroundz.net/event/swap-meet-at-7pm/
LOCATION:RI
ATTACH;FMTTYPE=image/png:https://battlegroundz.net/wp-content/uploads/2025/06/Swap-Meet-June-21st-Safe-for-Social.png
END:VEVENT
BEGIN:VEVENT
DTSTART;TZID=America/New_York:20250622T120000
DTEND;TZID=America/New_York:20250622T210000
DTSTAMP:20260421T172346
CREATED:20250605T204724Z
LAST-MODIFIED:20250609T183111Z
UID:10008388-1750593600-1750626000@battlegroundz.net
SUMMARY:$2 off Any Whole Pizza
DESCRIPTION:Feeling hungry? Come down and enjoy a $2 discount from any topping pizza you order at the BGZ Mess Hall
URL:https://battlegroundz.net/event/2-off-any-whole-pizza-2/
LOCATION:RI
ATTACH;FMTTYPE=image/png:https://battlegroundz.net/wp-content/uploads/2025/06/Mess-Hall-Menu-one-page-3.png
END:VEVENT
END:VCALENDAR