BEGIN:VCALENDAR
VERSION:2.0
PRODID:-//BattleGroundZ - ECPv6.15.20//NONSGML v1.0//EN
CALSCALE:GREGORIAN
METHOD:PUBLISH
X-WR-CALNAME:BattleGroundZ
X-ORIGINAL-URL:https://battlegroundz.net
X-WR-CALDESC:Events for BattleGroundZ
REFRESH-INTERVAL;VALUE=DURATION:PT1H
X-Robots-Tag:noindex
X-PUBLISHED-TTL:PT1H
BEGIN:VTIMEZONE
TZID:America/New_York
BEGIN:DAYLIGHT
TZOFFSETFROM:-0500
TZOFFSETTO:-0400
TZNAME:EDT
DTSTART:20240310T070000
END:DAYLIGHT
BEGIN:STANDARD
TZOFFSETFROM:-0400
TZOFFSETTO:-0500
TZNAME:EST
DTSTART:20241103T060000
END:STANDARD
BEGIN:DAYLIGHT
TZOFFSETFROM:-0500
TZOFFSETTO:-0400
TZNAME:EDT
DTSTART:20250309T070000
END:DAYLIGHT
BEGIN:STANDARD
TZOFFSETFROM:-0400
TZOFFSETTO:-0500
TZNAME:EST
DTSTART:20251102T060000
END:STANDARD
BEGIN:DAYLIGHT
TZOFFSETFROM:-0500
TZOFFSETTO:-0400
TZNAME:EDT
DTSTART:20260308T070000
END:DAYLIGHT
BEGIN:STANDARD
TZOFFSETFROM:-0400
TZOFFSETTO:-0500
TZNAME:EST
DTSTART:20261101T060000
END:STANDARD
END:VTIMEZONE
BEGIN:VEVENT
DTSTART;TZID=America/New_York:20250609T120000
DTEND;TZID=America/New_York:20250609T213000
DTSTAMP:20260421T161107
CREATED:20250608T195532Z
LAST-MODIFIED:20250608T203127Z
UID:10008393-1749470400-1749504600@battlegroundz.net
SUMMARY:Laser Tag Discount Today!
DESCRIPTION:Come in today\, Monday June 9th anytime between 12 noon and 9:30pm and play 3 rounds of Laser Tag for $20/pp or 6 rounds for $35/pp. \nMust be 5 years+ to play\, have completed a 2025 waiver\, and be wearing sneakers.
URL:https://battlegroundz.net/event/laser-tag-discount-today/
LOCATION:RI
END:VEVENT
BEGIN:VEVENT
DTSTART;TZID=America/New_York:20250610T170000
DTEND;TZID=America/New_York:20250610T220000
DTSTAMP:20260421T161107
CREATED:20240828T134553Z
LAST-MODIFIED:20260331T195455Z
UID:10005651-1749574800-1749592800@battlegroundz.net
SUMMARY:Airsoft $20 Tuesday
DESCRIPTION:5pm-10pm \n$20 \n5 Hours session of Unlimited Game Time + 2 slices of pizza \n*Rental gear not included
URL:https://battlegroundz.net/event/airsoft-20-tuesday-2-2/2025-06-10/
LOCATION:RI
CATEGORIES:Airsoft
ATTACH;FMTTYPE=image/png:https://battlegroundz.net/wp-content/uploads/2023/08/20-tuesday-new-post.png
END:VEVENT
BEGIN:VEVENT
DTSTART;TZID=America/New_York:20250610T170000
DTEND;TZID=America/New_York:20250610T220000
DTSTAMP:20260421T161107
CREATED:20250603T005010Z
LAST-MODIFIED:20250603T005010Z
UID:10008357-1749574800-1749592800@battlegroundz.net
SUMMARY:$20 Tuesday
DESCRIPTION:Tuesdays from 5pm to 10pm enjoy 5 hours of unlimited airsoft play for only $20 AND receive two slices of cheese pizza! Gun rental not included ($25)
URL:https://battlegroundz.net/event/20-tuesday/2025-06-10/
LOCATION:Battlegroundz\, 100 Higginson Ave\, Lincoln\, RI\, 02865\, United States
END:VEVENT
BEGIN:VEVENT
DTSTART;TZID=America/New_York:20250611T170000
DTEND;TZID=America/New_York:20250611T220000
DTSTAMP:20260421T161107
CREATED:20250605T184957Z
LAST-MODIFIED:20250605T184957Z
UID:10008380-1749661200-1749679200@battlegroundz.net
SUMMARY:$5 off an Airsoft Session!
DESCRIPTION:Today’s session is from 5pm-10pm. With this deal you get 5 hours of unlimited play for $25/pp
URL:https://battlegroundz.net/event/5-off-an-airsoft-session/
LOCATION:RI
END:VEVENT
BEGIN:VEVENT
DTSTART;TZID=America/New_York:20250612T170000
DTEND;TZID=America/New_York:20250612T210000
DTSTAMP:20260421T161107
CREATED:20241028T193722Z
LAST-MODIFIED:20241119T170747Z
UID:10006402-1749747600-1749762000@battlegroundz.net
SUMMARY:Unlimited Paintball + 2 Slices of Pizza ONLY $30
DESCRIPTION:5pm-9pm \nUnlimited Paintball for only $30 \nincludes all rental gear & ammo \n 
URL:https://battlegroundz.net/event/unlimited-paintball-2-slices-of-pizza-only-30/2025-06-12/
LOCATION:RI
CATEGORIES:Paintball
ATTACH;FMTTYPE=image/png:https://battlegroundz.net/wp-content/uploads/2024/10/Thursday-Paintball-Unlimited.png
END:VEVENT
BEGIN:VEVENT
DTSTART;TZID=America/New_York:20250613T160000
DTEND;TZID=America/New_York:20250614T000000
DTSTAMP:20260421T161107
CREATED:20250603T014127Z
LAST-MODIFIED:20250603T014128Z
UID:10005941-1749830400-1749859200@battlegroundz.net
SUMMARY:Airsoft Session Extension $5
DESCRIPTION:Buy a 6-HOUR session of Airsoft and get the next same-day session for only $5 \n  \nSession 1: 4pm-10pm \nSession 2: 6pm-12am \n*Rental gear not included
URL:https://battlegroundz.net/event/buy-a-session-of-airsoft-and-get-the-next-same-day-session-for-only-10-2-2/2025-06-13/
LOCATION:RI
CATEGORIES:Airsoft
ATTACH;FMTTYPE=image/png:https://battlegroundz.net/wp-content/uploads/2024/08/New-6-Hour-Session-Times-June-Fridays-2.png
END:VEVENT
BEGIN:VEVENT
DTSTART;TZID=America/New_York:20250614T120000
DTEND;TZID=America/New_York:20250614T220000
DTSTAMP:20260421T161107
CREATED:20250605T190623Z
LAST-MODIFIED:20250609T182617Z
UID:10008383-1749902400-1749938400@battlegroundz.net
SUMMARY:Grilled Cheese with Fries for $9.49
DESCRIPTION:Come by for a tasty grilled cheese with a boat of fries for $9.49 at the Mess Hall with many more great meals available
URL:https://battlegroundz.net/event/grilled-cheese-with-fries-for-9-49/
LOCATION:RI
ATTACH;FMTTYPE=image/png:https://battlegroundz.net/wp-content/uploads/2025/06/Mess-Hall-Menu-one-page.png
END:VEVENT
BEGIN:VEVENT
DTSTART;TZID=America/New_York:20250615T120000
DTEND;TZID=America/New_York:20250615T210000
DTSTAMP:20260421T161107
CREATED:20250605T204511Z
LAST-MODIFIED:20250609T182751Z
UID:10008387-1749988800-1750021200@battlegroundz.net
SUMMARY:10pc Mac n Cheese Bites for $6.49
DESCRIPTION:Enjoy our fried mac and cheese bites\, $6.49 per order of 10\, with much more from the BGZ Mess Hall
URL:https://battlegroundz.net/event/10pc-mac-n-cheese-bites-for-6-49/
LOCATION:RI
ATTACH;FMTTYPE=image/png:https://battlegroundz.net/wp-content/uploads/2025/06/Mess-Hall-Menu-one-page-2.png
END:VEVENT
BEGIN:VEVENT
DTSTART;TZID=America/New_York:20250615T120000
DTEND;TZID=America/New_York:20250615T220000
DTSTAMP:20260421T161107
CREATED:20250608T202703Z
LAST-MODIFIED:20250609T201411Z
UID:10008395-1749988800-1750024800@battlegroundz.net
SUMMARY:Deal for Dad! Happy Father's Day!
DESCRIPTION:Happy Father’s Day Dad! Come on in Dad and enjoy 50% off your game play and rental gear. All fields open at noon today!
URL:https://battlegroundz.net/event/deal-for-dad-happy-fathers-day/
LOCATION:RI
ATTACH;FMTTYPE=image/png:https://battlegroundz.net/wp-content/uploads/2025/06/Fathers-Day-2025.png
END:VEVENT
END:VCALENDAR