BEGIN:VCALENDAR
VERSION:2.0
PRODID:-//BattleGroundZ - ECPv6.15.20//NONSGML v1.0//EN
CALSCALE:GREGORIAN
METHOD:PUBLISH
X-ORIGINAL-URL:https://battlegroundz.net
X-WR-CALDESC:Events for BattleGroundZ
REFRESH-INTERVAL;VALUE=DURATION:PT1H
X-Robots-Tag:noindex
X-PUBLISHED-TTL:PT1H
BEGIN:VTIMEZONE
TZID:America/New_York
BEGIN:DAYLIGHT
TZOFFSETFROM:-0500
TZOFFSETTO:-0400
TZNAME:EDT
DTSTART:20240310T070000
END:DAYLIGHT
BEGIN:STANDARD
TZOFFSETFROM:-0400
TZOFFSETTO:-0500
TZNAME:EST
DTSTART:20241103T060000
END:STANDARD
BEGIN:DAYLIGHT
TZOFFSETFROM:-0500
TZOFFSETTO:-0400
TZNAME:EDT
DTSTART:20250309T070000
END:DAYLIGHT
BEGIN:STANDARD
TZOFFSETFROM:-0400
TZOFFSETTO:-0500
TZNAME:EST
DTSTART:20251102T060000
END:STANDARD
BEGIN:DAYLIGHT
TZOFFSETFROM:-0500
TZOFFSETTO:-0400
TZNAME:EDT
DTSTART:20260308T070000
END:DAYLIGHT
BEGIN:STANDARD
TZOFFSETFROM:-0400
TZOFFSETTO:-0500
TZNAME:EST
DTSTART:20261101T060000
END:STANDARD
END:VTIMEZONE
BEGIN:VEVENT
DTSTART;TZID=America/New_York:20250217T120000
DTEND;TZID=America/New_York:20250217T220000
DTSTAMP:20260421T215132
CREATED:20250213T165931Z
LAST-MODIFIED:20250213T165931Z
UID:10008077-1739793600-1739829600@battlegroundz.net
SUMMARY:$5 Off Paintball for groups of 4 or more!
DESCRIPTION:Today you can purchase 3 games of Paintball for $30 or 5 games for $40 \nField is open 12pm to 10pm today
URL:https://battlegroundz.net/event/5-off-paintball-for-groups-of-4-or-more/
LOCATION:RI
END:VEVENT
BEGIN:VEVENT
DTSTART;TZID=America/New_York:20250218T170000
DTEND;TZID=America/New_York:20250218T220000
DTSTAMP:20260421T215132
CREATED:20240828T134553Z
LAST-MODIFIED:20260331T195455Z
UID:10005635-1739898000-1739916000@battlegroundz.net
SUMMARY:Airsoft $20 Tuesday
DESCRIPTION:5pm-10pm \n$20 \n5 Hours session of Unlimited Game Time + 2 slices of pizza \n*Rental gear not included
URL:https://battlegroundz.net/event/airsoft-20-tuesday-2-2/2025-02-18/
LOCATION:RI
CATEGORIES:Airsoft
ATTACH;FMTTYPE=image/png:https://battlegroundz.net/wp-content/uploads/2023/08/20-tuesday-new-post.png
END:VEVENT
BEGIN:VEVENT
DTSTART;TZID=America/New_York:20250219T120000
DTEND;TZID=America/New_York:20250219T200000
DTSTAMP:20260421T215133
CREATED:20250213T165005Z
LAST-MODIFIED:20250213T165005Z
UID:10008075-1739966400-1739995200@battlegroundz.net
SUMMARY:$2 Off Any Whole Pizza
DESCRIPTION:The Mess Hall opens at 12pm! Get you favorite pizza today!
URL:https://battlegroundz.net/event/2-off-any-whole-pizza/
LOCATION:RI
END:VEVENT
BEGIN:VEVENT
DTSTART;TZID=America/New_York:20250220T170000
DTEND;TZID=America/New_York:20250220T210000
DTSTAMP:20260421T215133
CREATED:20241028T193722Z
LAST-MODIFIED:20241119T170747Z
UID:10006290-1740070800-1740085200@battlegroundz.net
SUMMARY:Unlimited Paintball + 2 Slices of Pizza ONLY $30
DESCRIPTION:5pm-9pm \nUnlimited Paintball for only $30 \nincludes all rental gear & ammo \n 
URL:https://battlegroundz.net/event/unlimited-paintball-2-slices-of-pizza-only-30/2025-02-20/
LOCATION:RI
CATEGORIES:Paintball
ATTACH;FMTTYPE=image/png:https://battlegroundz.net/wp-content/uploads/2024/10/Thursday-Paintball-Unlimited.png
END:VEVENT
BEGIN:VEVENT
DTSTART;TZID=America/New_York:20250221T160000
DTEND;TZID=America/New_York:20250222T000000
DTSTAMP:20260421T215133
CREATED:20240828T140743Z
LAST-MODIFIED:20241118T164711Z
UID:10005925-1740153600-1740182400@battlegroundz.net
SUMMARY:Airsoft Session Extension $10
DESCRIPTION:Buy a session of Airsoft and get the next same-day session for only $10 \n  \nSession 1 :4pm-8pm \nSession 2: 8pm-12am \n*Rental gear not included
URL:https://battlegroundz.net/event/buy-a-session-of-airsoft-and-get-the-next-same-day-session-for-only-10-2/2025-02-21/
LOCATION:RI
CATEGORIES:Airsoft
ATTACH;FMTTYPE=image/jpeg:https://battlegroundz.net/wp-content/uploads/2023/08/Airsoft-Extension-Friday.jpg
END:VEVENT
BEGIN:VEVENT
DTSTART;TZID=America/New_York:20250221T190000
DTEND;TZID=America/New_York:20250221T210000
DTSTAMP:20260421T215133
CREATED:20250213T165710Z
LAST-MODIFIED:20250213T182311Z
UID:10008076-1740164400-1740171600@battlegroundz.net
SUMMARY:Paint Night!
DESCRIPTION:Beginners welcome! Instructor Joshua Altobelli will explain every stoke of paint so come on in and let your creativity flow! Tonight’s painting in titled Fall-ing in Love. \n  \n\n132 events| \n\n\n5.00(3) \n\n\n\nPaint Nite: Fall-ing In Love\n\n\n\nFri · Feb 21 7:00 pm EST\nBattlegroundz\n100 Higginson Ave\nLincoln\, RI | View Map\n\n\n\nFor: Legal Drinking Age\n2 hours\nLanguage: English
URL:https://battlegroundz.net/event/paint-night/
LOCATION:RI
END:VEVENT
BEGIN:VEVENT
DTSTART;TZID=America/New_York:20250222T120000
DTEND;TZID=America/New_York:20250222T200000
DTSTAMP:20260421T215133
CREATED:20250213T172006Z
LAST-MODIFIED:20250213T181427Z
UID:10008078-1740225600-1740254400@battlegroundz.net
SUMMARY:Steak & Cheese Sub w/fries $13.99
DESCRIPTION:*tax not included in price
URL:https://battlegroundz.net/event/steak-cheese-sub-w-fries-13-99/
LOCATION:RI
END:VEVENT
BEGIN:VEVENT
DTSTART;TZID=America/New_York:20250223T120000
DTEND;TZID=America/New_York:20250223T200000
DTSTAMP:20260421T215133
CREATED:20250213T181544Z
LAST-MODIFIED:20250213T181544Z
UID:10008079-1740312000-1740340800@battlegroundz.net
SUMMARY:BLT with Fries $11.99
DESCRIPTION:The Mess Hall is open 12pm to 8pm!
URL:https://battlegroundz.net/event/blt-with-fries-11-99/
LOCATION:RI
END:VEVENT
END:VCALENDAR