BEGIN:VCALENDAR
VERSION:2.0
PRODID:-//BattleGroundZ - ECPv6.15.20//NONSGML v1.0//EN
CALSCALE:GREGORIAN
METHOD:PUBLISH
X-ORIGINAL-URL:https://battlegroundz.net
X-WR-CALDESC:Events for BattleGroundZ
REFRESH-INTERVAL;VALUE=DURATION:PT1H
X-Robots-Tag:noindex
X-PUBLISHED-TTL:PT1H
BEGIN:VTIMEZONE
TZID:America/New_York
BEGIN:DAYLIGHT
TZOFFSETFROM:-0500
TZOFFSETTO:-0400
TZNAME:EDT
DTSTART:20230312T070000
END:DAYLIGHT
BEGIN:STANDARD
TZOFFSETFROM:-0400
TZOFFSETTO:-0500
TZNAME:EST
DTSTART:20231105T060000
END:STANDARD
BEGIN:DAYLIGHT
TZOFFSETFROM:-0500
TZOFFSETTO:-0400
TZNAME:EDT
DTSTART:20240310T070000
END:DAYLIGHT
BEGIN:STANDARD
TZOFFSETFROM:-0400
TZOFFSETTO:-0500
TZNAME:EST
DTSTART:20241103T060000
END:STANDARD
BEGIN:DAYLIGHT
TZOFFSETFROM:-0500
TZOFFSETTO:-0400
TZNAME:EDT
DTSTART:20250309T070000
END:DAYLIGHT
BEGIN:STANDARD
TZOFFSETFROM:-0400
TZOFFSETTO:-0500
TZNAME:EST
DTSTART:20251102T060000
END:STANDARD
END:VTIMEZONE
BEGIN:VEVENT
DTSTART;VALUE=DATE:20241223
DTEND;VALUE=DATE:20241225
DTSTAMP:20260421T215134
CREATED:20240401T180533Z
LAST-MODIFIED:20241115T213421Z
UID:10005319-1734915600-1735001999@battlegroundz.net
SUMMARY:SPECIAL HOURS!
DESCRIPTION:ALL FIELDS OPEN AT 12pm \n12pm-10pm \nAirsoft Sessions: \n1st Session: 12pm-5pm \n2nd Session: 5pm-10pm \n  \n 
URL:https://battlegroundz.net/event/special-hours-15/
LOCATION:RI
CATEGORIES:Experience Special Hours
END:VEVENT
BEGIN:VEVENT
DTSTART;TZID=America/New_York:20241223T120000
DTEND;TZID=America/New_York:20241223T200000
DTSTAMP:20260421T215134
CREATED:20230630T171001Z
LAST-MODIFIED:20241118T173445Z
UID:10002686-1734955200-1734984000@battlegroundz.net
SUMMARY:Mess Hall Special
DESCRIPTION:Grilled Cheese & Small Fries $5.99 \n*food taxes not included in the price
URL:https://battlegroundz.net/event/mess-hall-special-21/
LOCATION:RI
CATEGORIES:Restaurant and Bar Specials
ATTACH;FMTTYPE=image/png:https://battlegroundz.net/wp-content/uploads/2023/05/Mess-hall.png
END:VEVENT
BEGIN:VEVENT
DTSTART;VALUE=DATE:20241224
DTEND;VALUE=DATE:20241226
DTSTAMP:20260421T215134
CREATED:20241115T213519Z
LAST-MODIFIED:20241115T213733Z
UID:10008003-1735002000-1735088399@battlegroundz.net
SUMMARY:SPECIAL HOURS!
DESCRIPTION:Christmas Eve \n*CLOSING EARLY @ 6pm \nALL FIELDS OPEN AT 12pm \n12pm-6pm \nAirsoft Sessions: \n1st Session: 12pm-6pm \n  \n  \n 
URL:https://battlegroundz.net/event/special-hours-16/
LOCATION:RI
CATEGORIES:Experience Special Hours
END:VEVENT
BEGIN:VEVENT
DTSTART;TZID=America/New_York:20241224T120000
DTEND;TZID=America/New_York:20241224T180000
DTSTAMP:20260421T215134
CREATED:20231101T144244Z
LAST-MODIFIED:20241118T165726Z
UID:10005202-1735041600-1735063200@battlegroundz.net
SUMMARY:Airsoft $20 Tuesday!
DESCRIPTION:$20 Airsoft Session + 2 slices of cheese pizza \nSession 1: 12pm-6pm \n*Rental gear not included
URL:https://battlegroundz.net/event/20-airsoft-session-2-slices-of-cheese-pizza/
LOCATION:RI
CATEGORIES:Special Operating Hours
ATTACH;FMTTYPE=image/jpeg:https://battlegroundz.net/wp-content/uploads/2023/04/292396390_576834900643481_5015748945188152924_n.jpg
END:VEVENT
BEGIN:VEVENT
DTSTART;VALUE=DATE:20241225
DTEND;VALUE=DATE:20241227
DTSTAMP:20260421T215134
CREATED:20231128T150605Z
LAST-MODIFIED:20241118T164254Z
UID:10005223-1735088400-1735174799@battlegroundz.net
SUMMARY:CLOSED!!
DESCRIPTION:We are CLOSED! \n  \nHAPPY HOLIDAYS!
URL:https://battlegroundz.net/event/we-are-closed-happy-holiday/
LOCATION:RI
CATEGORIES:Experience Special Hours
END:VEVENT
BEGIN:VEVENT
DTSTART;VALUE=DATE:20241226
DTEND;VALUE=DATE:20241228
DTSTAMP:20260421T215134
CREATED:20241115T213540Z
LAST-MODIFIED:20241115T213540Z
UID:10008004-1735174800-1735261199@battlegroundz.net
SUMMARY:SPECIAL HOURS!
DESCRIPTION:ALL FIELDS OPEN AT 12pm \n12pm-10pm \nAirsoft Sessions: \n1st Session: 12pm-5pm \n2nd Session: 5pm-10pm \n  \n 
URL:https://battlegroundz.net/event/special-hours-17/
LOCATION:RI
CATEGORIES:Experience Special Hours
END:VEVENT
BEGIN:VEVENT
DTSTART;TZID=America/New_York:20241226T170000
DTEND;TZID=America/New_York:20241226T210000
DTSTAMP:20260421T215134
CREATED:20241028T193722Z
LAST-MODIFIED:20241119T170747Z
UID:10006234-1735232400-1735246800@battlegroundz.net
SUMMARY:Unlimited Paintball + 2 Slices of Pizza ONLY $30
DESCRIPTION:5pm-9pm \nUnlimited Paintball for only $30 \nincludes all rental gear & ammo \n 
URL:https://battlegroundz.net/event/unlimited-paintball-2-slices-of-pizza-only-30/2024-12-26/
LOCATION:RI
CATEGORIES:Paintball
ATTACH;FMTTYPE=image/png:https://battlegroundz.net/wp-content/uploads/2024/10/Thursday-Paintball-Unlimited.png
END:VEVENT
BEGIN:VEVENT
DTSTART;VALUE=DATE:20241227
DTEND;VALUE=DATE:20241229
DTSTAMP:20260421T215134
CREATED:20241115T213618Z
LAST-MODIFIED:20241115T213628Z
UID:10008005-1735261200-1735347599@battlegroundz.net
SUMMARY:SPECIAL HOURS!
DESCRIPTION:ALL FIELDS OPEN AT 12pm \n12pm-12am \nAirsoft Sessions: \n1st Session: 12pm-4pm \n2nd Session: 4pm-8pm \n3rd Session: 8pm-12am \n 
URL:https://battlegroundz.net/event/special-hours-18/
LOCATION:RI
CATEGORIES:Experience Special Hours
END:VEVENT
BEGIN:VEVENT
DTSTART;TZID=America/New_York:20241227T120000
DTEND;TZID=America/New_York:20241228T000000
DTSTAMP:20260421T215134
CREATED:20231204T190458Z
LAST-MODIFIED:20241118T164837Z
UID:10008016-1735300800-1735344000@battlegroundz.net
SUMMARY:Airsoft Session Extension $10
DESCRIPTION:Buy a session of Airsoft and get the next same-day session for only $10 \nSession 1 :12pm-4pm \nSession 2 :4pm-8pm \nSession 3: 8pm-12am \n*Rental gear not included
URL:https://battlegroundz.net/event/airsoft-session-extension-10-6/2024-12-27/
LOCATION:RI
CATEGORIES:Airsoft
ATTACH;FMTTYPE=image/jpeg:https://battlegroundz.net/wp-content/uploads/2023/12/Airsoft-Extension-wfriday.jpg
END:VEVENT
BEGIN:VEVENT
DTSTART;TZID=America/New_York:20241228T113000
DTEND;TZID=America/New_York:20241228T220000
DTSTAMP:20260421T215134
CREATED:20241118T173517Z
LAST-MODIFIED:20241118T173517Z
UID:10008027-1735385400-1735423200@battlegroundz.net
SUMMARY:Mess Hall Special
DESCRIPTION:Cheese Lovers Loaded Fries $9.99 \n*food taxes not included in the price
URL:https://battlegroundz.net/event/mess-hall-special-45/
LOCATION:RI
CATEGORIES:Restaurant and Bar Specials
ATTACH;FMTTYPE=image/png:https://battlegroundz.net/wp-content/uploads/2023/05/Mess-hall.png
END:VEVENT
BEGIN:VEVENT
DTSTART;TZID=America/New_York:20241229T120000
DTEND;TZID=America/New_York:20241229T200000
DTSTAMP:20260421T215134
CREATED:20241118T173603Z
LAST-MODIFIED:20241118T173603Z
UID:10008028-1735473600-1735502400@battlegroundz.net
SUMMARY:Mess Hall Special
DESCRIPTION:5pc Plain Wings with fries $11.99 \n*food taxes not included in the price
URL:https://battlegroundz.net/event/mess-hall-special-46/
LOCATION:RI
CATEGORIES:Restaurant and Bar Specials
ATTACH;FMTTYPE=image/png:https://battlegroundz.net/wp-content/uploads/2023/05/Mess-hall.png
END:VEVENT
END:VCALENDAR