BEGIN:VCALENDAR
VERSION:2.0
PRODID:-//BattleGroundZ - ECPv6.15.20//NONSGML v1.0//EN
CALSCALE:GREGORIAN
METHOD:PUBLISH
X-WR-CALNAME:BattleGroundZ
X-ORIGINAL-URL:https://battlegroundz.net
X-WR-CALDESC:Events for BattleGroundZ
REFRESH-INTERVAL;VALUE=DURATION:PT1H
X-Robots-Tag:noindex
X-PUBLISHED-TTL:PT1H
BEGIN:VTIMEZONE
TZID:America/New_York
BEGIN:DAYLIGHT
TZOFFSETFROM:-0500
TZOFFSETTO:-0400
TZNAME:EDT
DTSTART:20230312T070000
END:DAYLIGHT
BEGIN:STANDARD
TZOFFSETFROM:-0400
TZOFFSETTO:-0500
TZNAME:EST
DTSTART:20231105T060000
END:STANDARD
BEGIN:DAYLIGHT
TZOFFSETFROM:-0500
TZOFFSETTO:-0400
TZNAME:EDT
DTSTART:20240310T070000
END:DAYLIGHT
BEGIN:STANDARD
TZOFFSETFROM:-0400
TZOFFSETTO:-0500
TZNAME:EST
DTSTART:20241103T060000
END:STANDARD
BEGIN:DAYLIGHT
TZOFFSETFROM:-0500
TZOFFSETTO:-0400
TZNAME:EDT
DTSTART:20250309T070000
END:DAYLIGHT
BEGIN:STANDARD
TZOFFSETFROM:-0400
TZOFFSETTO:-0500
TZNAME:EST
DTSTART:20251102T060000
END:STANDARD
END:VTIMEZONE
BEGIN:VEVENT
DTSTART;TZID=America/New_York:20241216T170000
DTEND;TZID=America/New_York:20241216T220000
DTSTAMP:20260421T214809
CREATED:20230731T174317Z
LAST-MODIFIED:20241118T172810Z
UID:10003761-1734368400-1734386400@battlegroundz.net
SUMMARY:$5 off a Session of Airsoft
DESCRIPTION:$5 off a Session of Airsoft
URL:https://battlegroundz.net/event/5-off-a-session-of-airsoft/
LOCATION:RI
CATEGORIES:Airsoft
ATTACH;FMTTYPE=image/jpeg:https://battlegroundz.net/wp-content/uploads/2023/05/IMG_2339.jpg
END:VEVENT
BEGIN:VEVENT
DTSTART;TZID=America/New_York:20241217T170000
DTEND;TZID=America/New_York:20241217T220000
DTSTAMP:20260421T214809
CREATED:20240828T134553Z
LAST-MODIFIED:20260331T195455Z
UID:10005626-1734454800-1734472800@battlegroundz.net
SUMMARY:Airsoft $20 Tuesday
DESCRIPTION:5pm-10pm \n$20 \n5 Hours session of Unlimited Game Time + 2 slices of pizza \n*Rental gear not included
URL:https://battlegroundz.net/event/airsoft-20-tuesday-2-2/2024-12-17/
LOCATION:RI
CATEGORIES:Airsoft
ATTACH;FMTTYPE=image/png:https://battlegroundz.net/wp-content/uploads/2023/08/20-tuesday-new-post.png
END:VEVENT
BEGIN:VEVENT
DTSTART;TZID=America/New_York:20241218T170000
DTEND;TZID=America/New_York:20241218T220000
DTSTAMP:20260421T214809
CREATED:20240201T201824Z
LAST-MODIFIED:20241118T172842Z
UID:10005261-1734541200-1734559200@battlegroundz.net
SUMMARY:5 Games of Paintball for $35
DESCRIPTION:5 Games of Paintball for only $35 per person \n(Regular Price $45) \n*All Rental Gear included \n 
URL:https://battlegroundz.net/event/5-games-of-paintball-for-35-3/
LOCATION:RI
CATEGORIES:Paintball
ATTACH;FMTTYPE=image/jpeg:https://battlegroundz.net/wp-content/uploads/2023/04/IMG_2279.jpg
END:VEVENT
BEGIN:VEVENT
DTSTART;TZID=America/New_York:20241219T170000
DTEND;TZID=America/New_York:20241219T210000
DTSTAMP:20260421T214809
CREATED:20241028T193722Z
LAST-MODIFIED:20241119T170747Z
UID:10006227-1734627600-1734642000@battlegroundz.net
SUMMARY:Unlimited Paintball + 2 Slices of Pizza ONLY $30
DESCRIPTION:5pm-9pm \nUnlimited Paintball for only $30 \nincludes all rental gear & ammo \n 
URL:https://battlegroundz.net/event/unlimited-paintball-2-slices-of-pizza-only-30/2024-12-19/
LOCATION:RI
CATEGORIES:Paintball
ATTACH;FMTTYPE=image/png:https://battlegroundz.net/wp-content/uploads/2024/10/Thursday-Paintball-Unlimited.png
END:VEVENT
BEGIN:VEVENT
DTSTART;TZID=America/New_York:20241220T160000
DTEND;TZID=America/New_York:20241221T000000
DTSTAMP:20260421T214809
CREATED:20240828T140743Z
LAST-MODIFIED:20241118T164711Z
UID:10005916-1734710400-1734739200@battlegroundz.net
SUMMARY:Airsoft Session Extension $10
DESCRIPTION:Buy a session of Airsoft and get the next same-day session for only $10 \n  \nSession 1 :4pm-8pm \nSession 2: 8pm-12am \n*Rental gear not included
URL:https://battlegroundz.net/event/buy-a-session-of-airsoft-and-get-the-next-same-day-session-for-only-10-2/2024-12-20/
LOCATION:RI
CATEGORIES:Airsoft
ATTACH;FMTTYPE=image/jpeg:https://battlegroundz.net/wp-content/uploads/2023/08/Airsoft-Extension-Friday.jpg
END:VEVENT
BEGIN:VEVENT
DTSTART;TZID=America/New_York:20241220T190000
DTEND;TZID=America/New_York:20241220T210000
DTSTAMP:20260421T214809
CREATED:20241118T173118Z
LAST-MODIFIED:20241118T173118Z
UID:10008025-1734721200-1734728400@battlegroundz.net
SUMMARY:Paint Nite: Snowy Sparkle Sunset
DESCRIPTION:7pm \nPaint Nite \nHosted by Joshua Altobelli \n\n\nPaint Night: Unleash your inner artist\n\n\nChristmas is coming! Let’s paint a nice winter scene for ourselves\, or as a gift! Let’s eat\, drink\, and socialize as we paint this magical scene! \nFeel free to purchase food or drinks while you paint! Supplies are provided. No prior experience is necessary. Please purchase your tickets well in advanced. \nSIGN UP TODAY
URL:https://battlegroundz.net/event/paint-nite-snowy-sparkle-sunset/
LOCATION:RI
CATEGORIES:Classes
ATTACH;FMTTYPE=image/jpeg:https://battlegroundz.net/wp-content/uploads/2024/11/Dec-2024-paintnite.jpg
END:VEVENT
BEGIN:VEVENT
DTSTART;TZID=America/New_York:20241221T113000
DTEND;TZID=America/New_York:20241221T220000
DTSTAMP:20260421T214809
CREATED:20230530T203902Z
LAST-MODIFIED:20241118T173319Z
UID:10002130-1734780600-1734818400@battlegroundz.net
SUMMARY:Mess Hall Special
DESCRIPTION:Meatball Sub $9.99 \nBeef meatballs with Marinara and mozzarella served on freshly baked Italian bread \n*food taxes not included in the price
URL:https://battlegroundz.net/event/mess-hall-special-12/
LOCATION:RI
ATTACH;FMTTYPE=image/png:https://battlegroundz.net/wp-content/uploads/2023/05/Mess-hall.png
END:VEVENT
BEGIN:VEVENT
DTSTART;TZID=America/New_York:20241222T120000
DTEND;TZID=America/New_York:20241222T200000
DTSTAMP:20260421T214809
CREATED:20241118T173352Z
LAST-MODIFIED:20241118T173352Z
UID:10008026-1734868800-1734897600@battlegroundz.net
SUMMARY:Mess Hall Special
DESCRIPTION:American Cheeseburger with fries  $11.49 \nChar-grilled Cheeseburger on a Brioche bun with Lettuce\, Tomato\, onion\, mayo & ketchup with a side of fries \n*food taxes not included in the price
URL:https://battlegroundz.net/event/mess-hall-special-44/
LOCATION:RI
CATEGORIES:Restaurant and Bar Specials
ATTACH;FMTTYPE=image/png:https://battlegroundz.net/wp-content/uploads/2023/05/Mess-hall.png
END:VEVENT
END:VCALENDAR