BEGIN:VCALENDAR
VERSION:2.0
PRODID:-//BattleGroundZ - ECPv6.15.20//NONSGML v1.0//EN
CALSCALE:GREGORIAN
METHOD:PUBLISH
X-ORIGINAL-URL:https://battlegroundz.net
X-WR-CALDESC:Events for BattleGroundZ
REFRESH-INTERVAL;VALUE=DURATION:PT1H
X-Robots-Tag:noindex
X-PUBLISHED-TTL:PT1H
BEGIN:VTIMEZONE
TZID:America/New_York
BEGIN:DAYLIGHT
TZOFFSETFROM:-0500
TZOFFSETTO:-0400
TZNAME:EDT
DTSTART:20230312T070000
END:DAYLIGHT
BEGIN:STANDARD
TZOFFSETFROM:-0400
TZOFFSETTO:-0500
TZNAME:EST
DTSTART:20231105T060000
END:STANDARD
BEGIN:DAYLIGHT
TZOFFSETFROM:-0500
TZOFFSETTO:-0400
TZNAME:EDT
DTSTART:20240310T070000
END:DAYLIGHT
BEGIN:STANDARD
TZOFFSETFROM:-0400
TZOFFSETTO:-0500
TZNAME:EST
DTSTART:20241103T060000
END:STANDARD
BEGIN:DAYLIGHT
TZOFFSETFROM:-0500
TZOFFSETTO:-0400
TZNAME:EDT
DTSTART:20250309T070000
END:DAYLIGHT
BEGIN:STANDARD
TZOFFSETFROM:-0400
TZOFFSETTO:-0500
TZNAME:EST
DTSTART:20251102T060000
END:STANDARD
END:VTIMEZONE
BEGIN:VEVENT
DTSTART;VALUE=DATE:20241014
DTEND;VALUE=DATE:20241016
DTSTAMP:20260422T200648
CREATED:20231004T141205Z
LAST-MODIFIED:20240927T134140Z
UID:10004623-1728867600-1728953999@battlegroundz.net
SUMMARY:**SPECIAL HOURS** COLUMBUS DAY
DESCRIPTION:COLUMBUS DAY \n**ALL FIELDS OPEN EARLY** \n12pm-10pm \nAirsoft\, \nPaintball\, \nLazer Tag\, \nGel Blasters\, \nDart Wars\, \nDodgeball\, \nArcade \nAirsoft Session 1 12pm-5pm \nAirsoft Session 2: 5pm-10pm \n  \n**Mess Hall and Battle Bar available
URL:https://battlegroundz.net/event/columbus-day-all-fields-open-early/
LOCATION:RI
END:VEVENT
BEGIN:VEVENT
DTSTART;TZID=America/New_York:20241014T120000
DTEND;TZID=America/New_York:20241014T220000
DTSTAMP:20260422T200648
CREATED:20240229T173836Z
LAST-MODIFIED:20240927T134238Z
UID:10005313-1728907200-1728943200@battlegroundz.net
SUMMARY:Airsoft Session Only $25
DESCRIPTION:12pm-5pm \n5pm-10pm \nAirsoft Session ONLY $25 \n*Rental Gear not included
URL:https://battlegroundz.net/event/airsoft-session-25/
LOCATION:RI
CATEGORIES:Airsoft
ATTACH;FMTTYPE=image/jpeg:https://battlegroundz.net/wp-content/uploads/2023/05/IMG_2339.jpg
END:VEVENT
BEGIN:VEVENT
DTSTART;TZID=America/New_York:20241015T120000
DTEND;TZID=America/New_York:20241015T220000
DTSTAMP:20260422T200648
CREATED:20240828T135434Z
LAST-MODIFIED:20240828T135723Z
UID:10005878-1728993600-1729029600@battlegroundz.net
SUMMARY:1/2 OFF Arcade Cards 
DESCRIPTION:1/2 OFF Arcade Cards \nPurchase a $20 Play card for only $10 \nPurchase a $30 Play Card for only $15 \n  \n**This special is available every Tuesday & Friday \nSeptember 1- October 31
URL:https://battlegroundz.net/event/1-2-off-arcade-cards/2024-10-15/
LOCATION:RI
CATEGORIES:Entertainment
ATTACH;FMTTYPE=image/png:https://battlegroundz.net/wp-content/uploads/2024/08/half-Off-Play-Card-sign.png
END:VEVENT
BEGIN:VEVENT
DTSTART;TZID=America/New_York:20241015T170000
DTEND;TZID=America/New_York:20241015T220000
DTSTAMP:20260422T200648
CREATED:20240828T134553Z
LAST-MODIFIED:20260331T195455Z
UID:10005617-1729011600-1729029600@battlegroundz.net
SUMMARY:Airsoft $20 Tuesday
DESCRIPTION:5pm-10pm \n$20 \n5 Hours session of Unlimited Game Time + 2 slices of pizza \n*Rental gear not included
URL:https://battlegroundz.net/event/airsoft-20-tuesday-2-2/2024-10-15/
LOCATION:RI
CATEGORIES:Airsoft
ATTACH;FMTTYPE=image/png:https://battlegroundz.net/wp-content/uploads/2023/08/20-tuesday-new-post.png
END:VEVENT
BEGIN:VEVENT
DTSTART;TZID=America/New_York:20241018T120000
DTEND;TZID=America/New_York:20241018T233000
DTSTAMP:20260422T200648
CREATED:20240828T135922Z
LAST-MODIFIED:20240828T140513Z
UID:10005896-1729252800-1729294200@battlegroundz.net
SUMMARY:1/2 OFF Arcade Cards 
DESCRIPTION:1/2 OFF Arcade Cards \nPurchase a $20 Play card for only $10 \nPurchase a $30 Play Card for only $15 \n  \n**This special is available every Tuesday & Friday \nSeptember 1- October 31
URL:https://battlegroundz.net/event/1-2-off-arcade-cards-2/2024-10-18/
LOCATION:RI
CATEGORIES:Entertainment
ATTACH;FMTTYPE=image/png:https://battlegroundz.net/wp-content/uploads/2024/08/half-Off-Play-Card-sign.png
END:VEVENT
BEGIN:VEVENT
DTSTART;TZID=America/New_York:20241018T160000
DTEND;TZID=America/New_York:20241019T000000
DTSTAMP:20260422T200649
CREATED:20240828T140743Z
LAST-MODIFIED:20241118T164711Z
UID:10005907-1729267200-1729296000@battlegroundz.net
SUMMARY:Airsoft Session Extension $10
DESCRIPTION:Buy a session of Airsoft and get the next same-day session for only $10 \n  \nSession 1 :4pm-8pm \nSession 2: 8pm-12am \n*Rental gear not included
URL:https://battlegroundz.net/event/buy-a-session-of-airsoft-and-get-the-next-same-day-session-for-only-10-2/2024-10-18/
LOCATION:RI
CATEGORIES:Airsoft
ATTACH;FMTTYPE=image/jpeg:https://battlegroundz.net/wp-content/uploads/2023/08/Airsoft-Extension-Friday.jpg
END:VEVENT
END:VCALENDAR