BEGIN:VCALENDAR
VERSION:2.0
PRODID:-//BattleGroundZ - ECPv6.15.20//NONSGML v1.0//EN
CALSCALE:GREGORIAN
METHOD:PUBLISH
X-WR-CALNAME:BattleGroundZ
X-ORIGINAL-URL:https://battlegroundz.net
X-WR-CALDESC:Events for BattleGroundZ
REFRESH-INTERVAL;VALUE=DURATION:PT1H
X-Robots-Tag:noindex
X-PUBLISHED-TTL:PT1H
BEGIN:VTIMEZONE
TZID:America/New_York
BEGIN:DAYLIGHT
TZOFFSETFROM:-0500
TZOFFSETTO:-0400
TZNAME:EDT
DTSTART:20230312T070000
END:DAYLIGHT
BEGIN:STANDARD
TZOFFSETFROM:-0400
TZOFFSETTO:-0500
TZNAME:EST
DTSTART:20231105T060000
END:STANDARD
BEGIN:DAYLIGHT
TZOFFSETFROM:-0500
TZOFFSETTO:-0400
TZNAME:EDT
DTSTART:20240310T070000
END:DAYLIGHT
BEGIN:STANDARD
TZOFFSETFROM:-0400
TZOFFSETTO:-0500
TZNAME:EST
DTSTART:20241103T060000
END:STANDARD
BEGIN:DAYLIGHT
TZOFFSETFROM:-0500
TZOFFSETTO:-0400
TZNAME:EDT
DTSTART:20250309T070000
END:DAYLIGHT
BEGIN:STANDARD
TZOFFSETFROM:-0400
TZOFFSETTO:-0500
TZNAME:EST
DTSTART:20251102T060000
END:STANDARD
END:VTIMEZONE
BEGIN:VEVENT
DTSTART;TZID=America/New_York:20241008T120000
DTEND;TZID=America/New_York:20241008T220000
DTSTAMP:20260422T143447
CREATED:20240828T135434Z
LAST-MODIFIED:20240828T135723Z
UID:10005877-1728388800-1728424800@battlegroundz.net
SUMMARY:1/2 OFF Arcade Cards 
DESCRIPTION:1/2 OFF Arcade Cards \nPurchase a $20 Play card for only $10 \nPurchase a $30 Play Card for only $15 \n  \n**This special is available every Tuesday & Friday \nSeptember 1- October 31
URL:https://battlegroundz.net/event/1-2-off-arcade-cards/2024-10-08/
LOCATION:RI
CATEGORIES:Entertainment
ATTACH;FMTTYPE=image/png:https://battlegroundz.net/wp-content/uploads/2024/08/half-Off-Play-Card-sign.png
END:VEVENT
BEGIN:VEVENT
DTSTART;TZID=America/New_York:20241008T170000
DTEND;TZID=America/New_York:20241008T220000
DTSTAMP:20260422T143447
CREATED:20240828T134553Z
LAST-MODIFIED:20260331T195455Z
UID:10005616-1728406800-1728424800@battlegroundz.net
SUMMARY:Airsoft $20 Tuesday
DESCRIPTION:5pm-10pm \n$20 \n5 Hours session of Unlimited Game Time + 2 slices of pizza \n*Rental gear not included
URL:https://battlegroundz.net/event/airsoft-20-tuesday-2-2/2024-10-08/
LOCATION:RI
CATEGORIES:Airsoft
ATTACH;FMTTYPE=image/png:https://battlegroundz.net/wp-content/uploads/2023/08/20-tuesday-new-post.png
END:VEVENT
BEGIN:VEVENT
DTSTART;TZID=America/New_York:20241011T120000
DTEND;TZID=America/New_York:20241011T233000
DTSTAMP:20260422T143447
CREATED:20240828T135922Z
LAST-MODIFIED:20240828T140513Z
UID:10005895-1728648000-1728689400@battlegroundz.net
SUMMARY:1/2 OFF Arcade Cards 
DESCRIPTION:1/2 OFF Arcade Cards \nPurchase a $20 Play card for only $10 \nPurchase a $30 Play Card for only $15 \n  \n**This special is available every Tuesday & Friday \nSeptember 1- October 31
URL:https://battlegroundz.net/event/1-2-off-arcade-cards-2/2024-10-11/
LOCATION:RI
CATEGORIES:Entertainment
ATTACH;FMTTYPE=image/png:https://battlegroundz.net/wp-content/uploads/2024/08/half-Off-Play-Card-sign.png
END:VEVENT
BEGIN:VEVENT
DTSTART;TZID=America/New_York:20241011T160000
DTEND;TZID=America/New_York:20241012T000000
DTSTAMP:20260422T143447
CREATED:20240828T140743Z
LAST-MODIFIED:20241118T164711Z
UID:10005906-1728662400-1728691200@battlegroundz.net
SUMMARY:Airsoft Session Extension $10
DESCRIPTION:Buy a session of Airsoft and get the next same-day session for only $10 \n  \nSession 1 :4pm-8pm \nSession 2: 8pm-12am \n*Rental gear not included
URL:https://battlegroundz.net/event/buy-a-session-of-airsoft-and-get-the-next-same-day-session-for-only-10-2/2024-10-11/
LOCATION:RI
CATEGORIES:Airsoft
ATTACH;FMTTYPE=image/jpeg:https://battlegroundz.net/wp-content/uploads/2023/08/Airsoft-Extension-Friday.jpg
END:VEVENT
BEGIN:VEVENT
DTSTART;TZID=America/New_York:20241011T190000
DTEND;TZID=America/New_York:20241011T210000
DTSTAMP:20260422T143447
CREATED:20240927T133842Z
LAST-MODIFIED:20240927T133852Z
UID:10006165-1728673200-1728680400@battlegroundz.net
SUMMARY:Paint Nite: Jack& Sally Glasses
DESCRIPTION:7pm \nPaint Nite \nHosted by Joshua Altobelli \n\n\nPaint Night: Unleash your inner artist\n\n\nHalloween is approaching! Let’s welcome the holiday with a painting of a pair of drinking glasses! Eat\, drink\, and socialize as we paint these glasses Nightmare Before Christmas Style! Don’t want to paint two glasses? Bring a special someone to paint the other! \n  \nhttps://www.paintnite.com/us/ri/lincoln/23268/events/battlegroundz/october-11/halloween-drinkware-paint-nite-at-battleground-z-10337566/
URL:https://battlegroundz.net/event/paint-nite-jack-sally-glasses/
LOCATION:RI
CATEGORIES:Classes
ATTACH;FMTTYPE=image/jpeg:https://battlegroundz.net/wp-content/uploads/2024/09/October-Pic.jpg
END:VEVENT
END:VCALENDAR