BEGIN:VCALENDAR
VERSION:2.0
PRODID:-//BattleGroundZ - ECPv6.15.20//NONSGML v1.0//EN
CALSCALE:GREGORIAN
METHOD:PUBLISH
X-ORIGINAL-URL:https://battlegroundz.net
X-WR-CALDESC:Events for BattleGroundZ
REFRESH-INTERVAL;VALUE=DURATION:PT1H
X-Robots-Tag:noindex
X-PUBLISHED-TTL:PT1H
BEGIN:VTIMEZONE
TZID:America/New_York
BEGIN:DAYLIGHT
TZOFFSETFROM:-0500
TZOFFSETTO:-0400
TZNAME:EDT
DTSTART:20230312T070000
END:DAYLIGHT
BEGIN:STANDARD
TZOFFSETFROM:-0400
TZOFFSETTO:-0500
TZNAME:EST
DTSTART:20231105T060000
END:STANDARD
BEGIN:DAYLIGHT
TZOFFSETFROM:-0500
TZOFFSETTO:-0400
TZNAME:EDT
DTSTART:20240310T070000
END:DAYLIGHT
BEGIN:STANDARD
TZOFFSETFROM:-0400
TZOFFSETTO:-0500
TZNAME:EST
DTSTART:20241103T060000
END:STANDARD
BEGIN:DAYLIGHT
TZOFFSETFROM:-0500
TZOFFSETTO:-0400
TZNAME:EDT
DTSTART:20250309T070000
END:DAYLIGHT
BEGIN:STANDARD
TZOFFSETFROM:-0400
TZOFFSETTO:-0500
TZNAME:EST
DTSTART:20251102T060000
END:STANDARD
END:VTIMEZONE
BEGIN:VEVENT
DTSTART;TZID=America/New_York:20240729T120000
DTEND;TZID=America/New_York:20240729T220000
DTSTAMP:20260421T135644
CREATED:20230630T173954Z
LAST-MODIFIED:20240630T002413Z
UID:10002700-1722254400-1722290400@battlegroundz.net
SUMMARY:5 Games of Paintball for $35
DESCRIPTION:5 Games of Paintball for only $35 per person \n(Regular Price $45) \n*All Rental Gear included \n 
URL:https://battlegroundz.net/event/5-games-of-paintball-for-only-35-per-person/
LOCATION:RI
CATEGORIES:Paintball
ATTACH;FMTTYPE=image/jpeg:https://battlegroundz.net/wp-content/uploads/2023/04/IMG_2279.jpg
END:VEVENT
BEGIN:VEVENT
DTSTART;TZID=America/New_York:20240730T120000
DTEND;TZID=America/New_York:20240730T220000
DTSTAMP:20260421T135644
CREATED:20240630T195842Z
LAST-MODIFIED:20240826T180829Z
UID:10005351-1722340800-1722376800@battlegroundz.net
SUMMARY:Airsoft $20 Tuesday
DESCRIPTION:Session 1: 12pm-5pm \nSession 2: 5pm-10pm \n$20 \n5 Hours session of Unlimited Game Time + 2 slices of pizza \n*Rental gear not included
URL:https://battlegroundz.net/event/airsoft-20-tuesday-3/2024-07-30/
LOCATION:RI
CATEGORIES:Special Operating Hours
ATTACH;FMTTYPE=image/jpeg:https://battlegroundz.net/wp-content/uploads/2023/04/292396390_576834900643481_5015748945188152924_n.jpg
END:VEVENT
BEGIN:VEVENT
DTSTART;TZID=America/New_York:20240802T120000
DTEND;TZID=America/New_York:20240803T000000
DTSTAMP:20260421T135644
CREATED:20240524T151744Z
LAST-MODIFIED:20240524T151912Z
UID:10005340-1722600000-1722643200@battlegroundz.net
SUMMARY:Airsoft Session Extension $10
DESCRIPTION:Session 1: 12pm-4pm \nSession 2:4 pm-8pm \nSession 3: 8pm-12am \n  \nBuy a session of Airsoft and get the next same day session for only $10 \n*Rental gear not included
URL:https://battlegroundz.net/event/airsoft-session-extension-10-4-2/2024-08-02/
LOCATION:RI
ATTACH;FMTTYPE=image/jpeg:https://battlegroundz.net/wp-content/uploads/2023/05/IMG_2339.jpg
END:VEVENT
BEGIN:VEVENT
DTSTART;TZID=America/New_York:20240804T120000
DTEND;TZID=America/New_York:20240804T200000
DTSTAMP:20260421T135644
CREATED:20230731T183245Z
LAST-MODIFIED:20240729T194133Z
UID:10003765-1722772800-1722801600@battlegroundz.net
SUMMARY:Mess Hall Special
DESCRIPTION:Breaded Boneless Chicken Bites $10.99 \n*food taxes not included in the price
URL:https://battlegroundz.net/event/mess-hall-special-32/
LOCATION:RI
CATEGORIES:Restaurant and Bar Specials
ATTACH;FMTTYPE=image/png:https://battlegroundz.net/wp-content/uploads/2023/05/Mess-hall.png
END:VEVENT
END:VCALENDAR