BEGIN:VCALENDAR
VERSION:2.0
PRODID:-//BattleGroundZ - ECPv6.15.20//NONSGML v1.0//EN
CALSCALE:GREGORIAN
METHOD:PUBLISH
X-ORIGINAL-URL:https://battlegroundz.net
X-WR-CALDESC:Events for BattleGroundZ
REFRESH-INTERVAL;VALUE=DURATION:PT1H
X-Robots-Tag:noindex
X-PUBLISHED-TTL:PT1H
BEGIN:VTIMEZONE
TZID:America/New_York
BEGIN:DAYLIGHT
TZOFFSETFROM:-0500
TZOFFSETTO:-0400
TZNAME:EDT
DTSTART:20230312T070000
END:DAYLIGHT
BEGIN:STANDARD
TZOFFSETFROM:-0400
TZOFFSETTO:-0500
TZNAME:EST
DTSTART:20231105T060000
END:STANDARD
BEGIN:DAYLIGHT
TZOFFSETFROM:-0500
TZOFFSETTO:-0400
TZNAME:EDT
DTSTART:20240310T070000
END:DAYLIGHT
BEGIN:STANDARD
TZOFFSETFROM:-0400
TZOFFSETTO:-0500
TZNAME:EST
DTSTART:20241103T060000
END:STANDARD
BEGIN:DAYLIGHT
TZOFFSETFROM:-0500
TZOFFSETTO:-0400
TZNAME:EDT
DTSTART:20250309T070000
END:DAYLIGHT
BEGIN:STANDARD
TZOFFSETFROM:-0400
TZOFFSETTO:-0500
TZNAME:EST
DTSTART:20251102T060000
END:STANDARD
END:VTIMEZONE
BEGIN:VEVENT
DTSTART;TZID=America/New_York:20240628T120000
DTEND;TZID=America/New_York:20240629T000000
DTSTAMP:20260421T135645
CREATED:20240524T151744Z
LAST-MODIFIED:20240524T151912Z
UID:10005335-1719576000-1719619200@battlegroundz.net
SUMMARY:Airsoft Session Extension $10
DESCRIPTION:Session 1: 12pm-4pm \nSession 2:4 pm-8pm \nSession 3: 8pm-12am \n  \nBuy a session of Airsoft and get the next same day session for only $10 \n*Rental gear not included
URL:https://battlegroundz.net/event/airsoft-session-extension-10-4-2/2024-06-28/
LOCATION:RI
ATTACH;FMTTYPE=image/jpeg:https://battlegroundz.net/wp-content/uploads/2023/05/IMG_2339.jpg
END:VEVENT
BEGIN:VEVENT
DTSTART;TZID=America/New_York:20240628T190000
DTEND;TZID=America/New_York:20240628T210000
DTSTAMP:20260421T135645
CREATED:20240523T173029Z
LAST-MODIFIED:20240523T173029Z
UID:10005331-1719601200-1719608400@battlegroundz.net
SUMMARY:Paint Nite: Flight of the Fireflies
DESCRIPTION:7pm \nPaint Nite \nHosted by Joshua Altobelli \n\n\nPaint Night: Unleash your inner artist\n\n\nThe weather is warming up\, so let’s welcome the incoming change in season with a painting of a nice firefly scene! Feel free to purchase food or drinks while you paint! Supplies are provided. No prior experience is necessary. Please purchase your tickets well in advanced. \n\n\n\nSIGN UP TODAY! \n\nhttps://www.paintnite.com/us/ri/lincoln/23268/events/battlegroundz/june-28/firefly-scene-painting-at-battleground-z-10333275/
URL:https://battlegroundz.net/event/paint-nite-flight-of-the-fireflies/
LOCATION:RI
CATEGORIES:Classes
ATTACH;FMTTYPE=image/png:https://battlegroundz.net/wp-content/uploads/2024/05/junethisone.png
END:VEVENT
BEGIN:VEVENT
DTSTART;TZID=America/New_York:20240629T113000
DTEND;TZID=America/New_York:20240629T220000
DTSTAMP:20260421T135645
CREATED:20230731T183141Z
LAST-MODIFIED:20240524T145330Z
UID:10003764-1719660600-1719698400@battlegroundz.net
SUMMARY:Mess Hall Special
DESCRIPTION:BLT & small fries $11.99 \n*food taxes not included in the price
URL:https://battlegroundz.net/event/mess-hall-special-31/
LOCATION:RI
CATEGORIES:Restaurant and Bar Specials
ATTACH;FMTTYPE=image/png:https://battlegroundz.net/wp-content/uploads/2023/05/Mess-hall.png
END:VEVENT
BEGIN:VEVENT
DTSTART;TZID=America/New_York:20240630T120000
DTEND;TZID=America/New_York:20240630T200000
DTSTAMP:20260421T135645
CREATED:20240104T162547Z
LAST-MODIFIED:20240524T145403Z
UID:10005226-1719748800-1719777600@battlegroundz.net
SUMMARY:Mess Hall Special
DESCRIPTION:American Cheeseburger with fries  $11.49 \nChar-grilled Cheeseburger on a Brioche bun with Lettuce\, Tomato\, onion\, mayo & ketchup with a side of fries \n*food taxes not included in the price
URL:https://battlegroundz.net/event/mess-hall-special-38/
LOCATION:RI
CATEGORIES:Restaurant and Bar Specials
ATTACH;FMTTYPE=image/png:https://battlegroundz.net/wp-content/uploads/2023/05/Mess-hall.png
END:VEVENT
END:VCALENDAR