BEGIN:VCALENDAR
VERSION:2.0
PRODID:-//BattleGroundZ - ECPv6.15.20//NONSGML v1.0//EN
CALSCALE:GREGORIAN
METHOD:PUBLISH
X-ORIGINAL-URL:https://battlegroundz.net
X-WR-CALDESC:Events for BattleGroundZ
REFRESH-INTERVAL;VALUE=DURATION:PT1H
X-Robots-Tag:noindex
X-PUBLISHED-TTL:PT1H
BEGIN:VTIMEZONE
TZID:America/New_York
BEGIN:DAYLIGHT
TZOFFSETFROM:-0500
TZOFFSETTO:-0400
TZNAME:EDT
DTSTART:20230312T070000
END:DAYLIGHT
BEGIN:STANDARD
TZOFFSETFROM:-0400
TZOFFSETTO:-0500
TZNAME:EST
DTSTART:20231105T060000
END:STANDARD
BEGIN:DAYLIGHT
TZOFFSETFROM:-0500
TZOFFSETTO:-0400
TZNAME:EDT
DTSTART:20240310T070000
END:DAYLIGHT
BEGIN:STANDARD
TZOFFSETFROM:-0400
TZOFFSETTO:-0500
TZNAME:EST
DTSTART:20241103T060000
END:STANDARD
BEGIN:DAYLIGHT
TZOFFSETFROM:-0500
TZOFFSETTO:-0400
TZNAME:EDT
DTSTART:20250309T070000
END:DAYLIGHT
BEGIN:STANDARD
TZOFFSETFROM:-0400
TZOFFSETTO:-0500
TZNAME:EST
DTSTART:20251102T060000
END:STANDARD
END:VTIMEZONE
BEGIN:VEVENT
DTSTART;TZID=America/New_York:20240520T170000
DTEND;TZID=America/New_York:20240520T220000
DTSTAMP:20260420T190553
CREATED:20230602T144003Z
LAST-MODIFIED:20240426T150438Z
UID:10002413-1716224400-1716242400@battlegroundz.net
SUMMARY:3 Games of Paintball for $20
DESCRIPTION:3 Games of Paintball for only $20 per person \n  \nreg. price $35 \n*All Rental Gear included \n 
URL:https://battlegroundz.net/event/3-games-of-paintball-for-only-20-per-person/
LOCATION:RI
ATTACH;FMTTYPE=image/jpeg:https://battlegroundz.net/wp-content/uploads/2023/04/IMG_2279.jpg
END:VEVENT
BEGIN:VEVENT
DTSTART;TZID=America/New_York:20240521T170000
DTEND;TZID=America/New_York:20240521T220000
DTSTAMP:20260420T190553
CREATED:20230823T182227Z
LAST-MODIFIED:20240630T195615Z
UID:10004396-1716310800-1716328800@battlegroundz.net
SUMMARY:Airsoft $20 Tuesday
DESCRIPTION:5pm-10pm \n$20 \n5 Hours session of Unlimited Game Time + 2 slices of pizza \n*Rental gear not included
URL:https://battlegroundz.net/event/airsoft-20-tuesday-2/2024-05-21/
LOCATION:RI
CATEGORIES:Airsoft
ATTACH;FMTTYPE=image/png:https://battlegroundz.net/wp-content/uploads/2023/08/20-tuesday-new-post.png
END:VEVENT
BEGIN:VEVENT
DTSTART;TZID=America/New_York:20240524T160000
DTEND;TZID=America/New_York:20240525T000000
DTSTAMP:20260420T190553
CREATED:20230823T181927Z
LAST-MODIFIED:20240524T151200Z
UID:10004116-1716566400-1716595200@battlegroundz.net
SUMMARY:Airsoft Session Extension $10
DESCRIPTION:Buy a session of Airsoft and get the next same-day session for only $10 \n  \nSession 1 :4pm-8pm \nSession 2: 8pm-12am \n*Rental gear not included
URL:https://battlegroundz.net/event/buy-a-session-of-airsoft-and-get-the-next-same-day-session-for-only-10/2024-05-24/
LOCATION:RI
CATEGORIES:Airsoft
ATTACH;FMTTYPE=image/jpeg:https://battlegroundz.net/wp-content/uploads/2023/08/Airsoft-Extension-Friday.jpg
END:VEVENT
BEGIN:VEVENT
DTSTART;TZID=America/New_York:20240525T113000
DTEND;TZID=America/New_York:20240525T220000
DTSTAMP:20260420T190553
CREATED:20240426T151035Z
LAST-MODIFIED:20240426T151035Z
UID:10005328-1716636600-1716674400@battlegroundz.net
SUMMARY:Mess Hall Special
DESCRIPTION:2 Cheeseburger Sliders with fries $9.99 \n  \n*food taxes not included in the price
URL:https://battlegroundz.net/event/mess-hall-special-40/
LOCATION:RI
CATEGORIES:Restaurant and Bar Specials
ATTACH;FMTTYPE=image/png:https://battlegroundz.net/wp-content/uploads/2023/05/Mess-hall.png
END:VEVENT
END:VCALENDAR