BEGIN:VCALENDAR
VERSION:2.0
PRODID:-//BattleGroundZ - ECPv6.15.20//NONSGML v1.0//EN
CALSCALE:GREGORIAN
METHOD:PUBLISH
X-ORIGINAL-URL:https://battlegroundz.net
X-WR-CALDESC:Events for BattleGroundZ
REFRESH-INTERVAL;VALUE=DURATION:PT1H
X-Robots-Tag:noindex
X-PUBLISHED-TTL:PT1H
BEGIN:VTIMEZONE
TZID:America/New_York
BEGIN:DAYLIGHT
TZOFFSETFROM:-0500
TZOFFSETTO:-0400
TZNAME:EDT
DTSTART:20230312T070000
END:DAYLIGHT
BEGIN:STANDARD
TZOFFSETFROM:-0400
TZOFFSETTO:-0500
TZNAME:EST
DTSTART:20231105T060000
END:STANDARD
BEGIN:DAYLIGHT
TZOFFSETFROM:-0500
TZOFFSETTO:-0400
TZNAME:EDT
DTSTART:20240310T070000
END:DAYLIGHT
BEGIN:STANDARD
TZOFFSETFROM:-0400
TZOFFSETTO:-0500
TZNAME:EST
DTSTART:20241103T060000
END:STANDARD
BEGIN:DAYLIGHT
TZOFFSETFROM:-0500
TZOFFSETTO:-0400
TZNAME:EDT
DTSTART:20250309T070000
END:DAYLIGHT
BEGIN:STANDARD
TZOFFSETFROM:-0400
TZOFFSETTO:-0500
TZNAME:EST
DTSTART:20251102T060000
END:STANDARD
END:VTIMEZONE
BEGIN:VEVENT
DTSTART;VALUE=DATE:20240512
DTEND;VALUE=DATE:20240514
DTSTAMP:20260420T223118
CREATED:20240208T154318Z
LAST-MODIFIED:20240426T151538Z
UID:10005274-1715475600-1715561999@battlegroundz.net
SUMMARY:OPEN 2pm-10pm
DESCRIPTION:Happy Mother’s Day! \nALL FIELDS OPEN 2pm-10pm \nAirsoft Sessions: \n1st Session: 2pm-6pm \n2nd Session: 5pm-10pm \n  \n  \n 
URL:https://battlegroundz.net/event/special-hours-7/
LOCATION:RI
CATEGORIES:Experience Special Hours
END:VEVENT
BEGIN:VEVENT
DTSTART;TZID=America/New_York:20240514T170000
DTEND;TZID=America/New_York:20240514T220000
DTSTAMP:20260420T223118
CREATED:20230823T182227Z
LAST-MODIFIED:20240630T195615Z
UID:10004395-1715706000-1715724000@battlegroundz.net
SUMMARY:Airsoft $20 Tuesday
DESCRIPTION:5pm-10pm \n$20 \n5 Hours session of Unlimited Game Time + 2 slices of pizza \n*Rental gear not included
URL:https://battlegroundz.net/event/airsoft-20-tuesday-2/2024-05-14/
LOCATION:RI
CATEGORIES:Airsoft
ATTACH;FMTTYPE=image/png:https://battlegroundz.net/wp-content/uploads/2023/08/20-tuesday-new-post.png
END:VEVENT
BEGIN:VEVENT
DTSTART;TZID=America/New_York:20240517T160000
DTEND;TZID=America/New_York:20240518T000000
DTSTAMP:20260420T223118
CREATED:20230823T181927Z
LAST-MODIFIED:20240524T151200Z
UID:10004115-1715961600-1715990400@battlegroundz.net
SUMMARY:Airsoft Session Extension $10
DESCRIPTION:Buy a session of Airsoft and get the next same-day session for only $10 \n  \nSession 1 :4pm-8pm \nSession 2: 8pm-12am \n*Rental gear not included
URL:https://battlegroundz.net/event/buy-a-session-of-airsoft-and-get-the-next-same-day-session-for-only-10/2024-05-17/
LOCATION:RI
CATEGORIES:Airsoft
ATTACH;FMTTYPE=image/jpeg:https://battlegroundz.net/wp-content/uploads/2023/08/Airsoft-Extension-Friday.jpg
END:VEVENT
BEGIN:VEVENT
DTSTART;TZID=America/New_York:20240517T190000
DTEND;TZID=America/New_York:20240517T210000
DTSTAMP:20260420T223118
CREATED:20240426T145112Z
LAST-MODIFIED:20240426T150317Z
UID:10005326-1715972400-1715979600@battlegroundz.net
SUMMARY:Paint Nite: Firework Flowers
DESCRIPTION:7pm \nPaint Nite \nHosted by Joshua Altobelli \n\n\nPaint Night: Unleash your inner artist\n\n\nLet’s paint a nice picture of some firework flowers for our loving mothers! No prior experience necessary. Please purchase your tickets ahead of time. Supplies are provided. Drinks and food are available for purchase. No outside drinks please. Possible contest by popular vote can win a prize! \n\n\n\nSIGN UP TODAY! \n\nhttps://www.paintnite.com/us/ri/lincoln/23268/events/battlegroundz/may-17/firework-flowers-at-battleground-z-10328042/
URL:https://battlegroundz.net/event/paint-nite-firework-flowers/
LOCATION:RI
CATEGORIES:Classes
ATTACH;FMTTYPE=image/webp:https://battlegroundz.net/wp-content/uploads/2024/04/May-Paintnight.webp
END:VEVENT
END:VCALENDAR