BEGIN:VCALENDAR
VERSION:2.0
PRODID:-//BattleGroundZ - ECPv6.15.20//NONSGML v1.0//EN
CALSCALE:GREGORIAN
METHOD:PUBLISH
X-WR-CALNAME:BattleGroundZ
X-ORIGINAL-URL:https://battlegroundz.net
X-WR-CALDESC:Events for BattleGroundZ
REFRESH-INTERVAL;VALUE=DURATION:PT1H
X-Robots-Tag:noindex
X-PUBLISHED-TTL:PT1H
BEGIN:VTIMEZONE
TZID:America/New_York
BEGIN:DAYLIGHT
TZOFFSETFROM:-0500
TZOFFSETTO:-0400
TZNAME:EDT
DTSTART:20230312T070000
END:DAYLIGHT
BEGIN:STANDARD
TZOFFSETFROM:-0400
TZOFFSETTO:-0500
TZNAME:EST
DTSTART:20231105T060000
END:STANDARD
BEGIN:DAYLIGHT
TZOFFSETFROM:-0500
TZOFFSETTO:-0400
TZNAME:EDT
DTSTART:20240310T070000
END:DAYLIGHT
BEGIN:STANDARD
TZOFFSETFROM:-0400
TZOFFSETTO:-0500
TZNAME:EST
DTSTART:20241103T060000
END:STANDARD
BEGIN:DAYLIGHT
TZOFFSETFROM:-0500
TZOFFSETTO:-0400
TZNAME:EDT
DTSTART:20250309T070000
END:DAYLIGHT
BEGIN:STANDARD
TZOFFSETFROM:-0400
TZOFFSETTO:-0500
TZNAME:EST
DTSTART:20251102T060000
END:STANDARD
END:VTIMEZONE
BEGIN:VEVENT
DTSTART;TZID=America/New_York:20240506T170000
DTEND;TZID=America/New_York:20240506T220000
DTSTAMP:20260420T125146
CREATED:20230501T174228Z
LAST-MODIFIED:20240426T143411Z
UID:10001590-1715014800-1715032800@battlegroundz.net
SUMMARY:$10 OFF a Airsoft Gun Rental
DESCRIPTION:$10 OFF  Airsoft Rental Gear \nreg. price $25 \n  \nRental Gear Includes: Airsoft Gun\, Full Face Mask\, Chest Protector\, 300bbs \n  \n 
URL:https://battlegroundz.net/event/10-off-a-airsoft-rental-gear/
LOCATION:RI
CATEGORIES:Airsoft
ATTACH;FMTTYPE=image/jpeg:https://battlegroundz.net/wp-content/uploads/2023/05/IMG_2339.jpg
END:VEVENT
BEGIN:VEVENT
DTSTART;TZID=America/New_York:20240507T170000
DTEND;TZID=America/New_York:20240507T220000
DTSTAMP:20260420T125146
CREATED:20230823T182227Z
LAST-MODIFIED:20240630T195615Z
UID:10004394-1715101200-1715119200@battlegroundz.net
SUMMARY:Airsoft $20 Tuesday
DESCRIPTION:5pm-10pm \n$20 \n5 Hours session of Unlimited Game Time + 2 slices of pizza \n*Rental gear not included
URL:https://battlegroundz.net/event/airsoft-20-tuesday-2/2024-05-07/
LOCATION:RI
CATEGORIES:Airsoft
ATTACH;FMTTYPE=image/png:https://battlegroundz.net/wp-content/uploads/2023/08/20-tuesday-new-post.png
END:VEVENT
BEGIN:VEVENT
DTSTART;TZID=America/New_York:20240510T160000
DTEND;TZID=America/New_York:20240511T000000
DTSTAMP:20260420T125146
CREATED:20230823T181927Z
LAST-MODIFIED:20240524T151200Z
UID:10004114-1715356800-1715385600@battlegroundz.net
SUMMARY:Airsoft Session Extension $10
DESCRIPTION:Buy a session of Airsoft and get the next same-day session for only $10 \n  \nSession 1 :4pm-8pm \nSession 2: 8pm-12am \n*Rental gear not included
URL:https://battlegroundz.net/event/buy-a-session-of-airsoft-and-get-the-next-same-day-session-for-only-10/2024-05-10/
LOCATION:RI
CATEGORIES:Airsoft
ATTACH;FMTTYPE=image/jpeg:https://battlegroundz.net/wp-content/uploads/2023/08/Airsoft-Extension-Friday.jpg
END:VEVENT
BEGIN:VEVENT
DTSTART;VALUE=DATE:20240512
DTEND;VALUE=DATE:20240514
DTSTAMP:20260420T125146
CREATED:20240208T154318Z
LAST-MODIFIED:20240426T151538Z
UID:10005274-1715475600-1715561999@battlegroundz.net
SUMMARY:OPEN 2pm-10pm
DESCRIPTION:Happy Mother’s Day! \nALL FIELDS OPEN 2pm-10pm \nAirsoft Sessions: \n1st Session: 2pm-6pm \n2nd Session: 5pm-10pm \n  \n  \n 
URL:https://battlegroundz.net/event/special-hours-7/
LOCATION:RI
CATEGORIES:Experience Special Hours
END:VEVENT
END:VCALENDAR