BEGIN:VCALENDAR
VERSION:2.0
PRODID:-//BattleGroundZ - ECPv6.15.20//NONSGML v1.0//EN
CALSCALE:GREGORIAN
METHOD:PUBLISH
X-ORIGINAL-URL:https://battlegroundz.net
X-WR-CALDESC:Events for BattleGroundZ
REFRESH-INTERVAL;VALUE=DURATION:PT1H
X-Robots-Tag:noindex
X-PUBLISHED-TTL:PT1H
BEGIN:VTIMEZONE
TZID:America/New_York
BEGIN:DAYLIGHT
TZOFFSETFROM:-0500
TZOFFSETTO:-0400
TZNAME:EDT
DTSTART:20230312T070000
END:DAYLIGHT
BEGIN:STANDARD
TZOFFSETFROM:-0400
TZOFFSETTO:-0500
TZNAME:EST
DTSTART:20231105T060000
END:STANDARD
BEGIN:DAYLIGHT
TZOFFSETFROM:-0500
TZOFFSETTO:-0400
TZNAME:EDT
DTSTART:20240310T070000
END:DAYLIGHT
BEGIN:STANDARD
TZOFFSETFROM:-0400
TZOFFSETTO:-0500
TZNAME:EST
DTSTART:20241103T060000
END:STANDARD
BEGIN:DAYLIGHT
TZOFFSETFROM:-0500
TZOFFSETTO:-0400
TZNAME:EDT
DTSTART:20250309T070000
END:DAYLIGHT
BEGIN:STANDARD
TZOFFSETFROM:-0400
TZOFFSETTO:-0500
TZNAME:EST
DTSTART:20251102T060000
END:STANDARD
END:VTIMEZONE
BEGIN:VEVENT
DTSTART;TZID=America/New_York:20240422T170000
DTEND;TZID=America/New_York:20240422T220000
DTSTAMP:20260420T161223
CREATED:20231101T135914Z
LAST-MODIFIED:20240401T174153Z
UID:10004886-1713805200-1713823200@battlegroundz.net
SUMMARY:FREE Game of Lazer Tag when you purchase 3 game of Paintball
DESCRIPTION:FREE Game of Lazer Tag when you purchase 3 game of Paintball $35 per person
URL:https://battlegroundz.net/event/free-game-of-lazer-tag-when-you-purchase-3-game-of-paintball/
LOCATION:RI
CATEGORIES:Lazer Tag,Paintball
ATTACH;FMTTYPE=image/jpeg:https://battlegroundz.net/wp-content/uploads/2023/11/IMG_2278.jpg
END:VEVENT
BEGIN:VEVENT
DTSTART;TZID=America/New_York:20240423T170000
DTEND;TZID=America/New_York:20240423T220000
DTSTAMP:20260420T161223
CREATED:20230823T182227Z
LAST-MODIFIED:20240630T195615Z
UID:10004392-1713891600-1713909600@battlegroundz.net
SUMMARY:Airsoft $20 Tuesday
DESCRIPTION:5pm-10pm \n$20 \n5 Hours session of Unlimited Game Time + 2 slices of pizza \n*Rental gear not included
URL:https://battlegroundz.net/event/airsoft-20-tuesday-2/2024-04-23/
LOCATION:RI
CATEGORIES:Airsoft
ATTACH;FMTTYPE=image/png:https://battlegroundz.net/wp-content/uploads/2023/08/20-tuesday-new-post.png
END:VEVENT
BEGIN:VEVENT
DTSTART;TZID=America/New_York:20240426T160000
DTEND;TZID=America/New_York:20240427T000000
DTSTAMP:20260420T161223
CREATED:20230823T181927Z
LAST-MODIFIED:20240524T151200Z
UID:10004112-1714147200-1714176000@battlegroundz.net
SUMMARY:Airsoft Session Extension $10
DESCRIPTION:Buy a session of Airsoft and get the next same-day session for only $10 \n  \nSession 1 :4pm-8pm \nSession 2: 8pm-12am \n*Rental gear not included
URL:https://battlegroundz.net/event/buy-a-session-of-airsoft-and-get-the-next-same-day-session-for-only-10/2024-04-26/
LOCATION:RI
CATEGORIES:Airsoft
ATTACH;FMTTYPE=image/jpeg:https://battlegroundz.net/wp-content/uploads/2023/08/Airsoft-Extension-Friday.jpg
END:VEVENT
BEGIN:VEVENT
DTSTART;TZID=America/New_York:20240427T113000
DTEND;TZID=America/New_York:20240427T220000
DTSTAMP:20260420T161223
CREATED:20240401T174506Z
LAST-MODIFIED:20240401T174506Z
UID:10005315-1714217400-1714255200@battlegroundz.net
SUMMARY:Mess Hall Special
DESCRIPTION:Chicken Parm Sub $8.49 \nGolden fried chicken smothered in mozzarella served on a freshly baked Torpedo Roll \n*food taxes not included in the price
URL:https://battlegroundz.net/event/mess-hall-special-39/
LOCATION:RI
CATEGORIES:Restaurant and Bar Specials
ATTACH;FMTTYPE=image/png:https://battlegroundz.net/wp-content/uploads/2023/05/Mess-hall.png
END:VEVENT
END:VCALENDAR