BEGIN:VCALENDAR
VERSION:2.0
PRODID:-//BattleGroundZ - ECPv6.15.20//NONSGML v1.0//EN
CALSCALE:GREGORIAN
METHOD:PUBLISH
X-WR-CALNAME:BattleGroundZ
X-ORIGINAL-URL:https://battlegroundz.net
X-WR-CALDESC:Events for BattleGroundZ
REFRESH-INTERVAL;VALUE=DURATION:PT1H
X-Robots-Tag:noindex
X-PUBLISHED-TTL:PT1H
BEGIN:VTIMEZONE
TZID:America/New_York
BEGIN:DAYLIGHT
TZOFFSETFROM:-0500
TZOFFSETTO:-0400
TZNAME:EDT
DTSTART:20230312T070000
END:DAYLIGHT
BEGIN:STANDARD
TZOFFSETFROM:-0400
TZOFFSETTO:-0500
TZNAME:EST
DTSTART:20231105T060000
END:STANDARD
BEGIN:DAYLIGHT
TZOFFSETFROM:-0500
TZOFFSETTO:-0400
TZNAME:EDT
DTSTART:20240310T070000
END:DAYLIGHT
BEGIN:STANDARD
TZOFFSETFROM:-0400
TZOFFSETTO:-0500
TZNAME:EST
DTSTART:20241103T060000
END:STANDARD
BEGIN:DAYLIGHT
TZOFFSETFROM:-0500
TZOFFSETTO:-0400
TZNAME:EDT
DTSTART:20250309T070000
END:DAYLIGHT
BEGIN:STANDARD
TZOFFSETFROM:-0400
TZOFFSETTO:-0500
TZNAME:EST
DTSTART:20251102T060000
END:STANDARD
END:VTIMEZONE
BEGIN:VEVENT
DTSTART;TZID=America/New_York:20240325T170000
DTEND;TZID=America/New_York:20240325T220000
DTSTAMP:20260421T004008
CREATED:20230501T174255Z
LAST-MODIFIED:20240229T172851Z
UID:10001591-1711386000-1711404000@battlegroundz.net
SUMMARY:Buy a Session of Airsoft and get one HALF OFF
DESCRIPTION:Buy a Session of Airsoft for $30 and get one HALF OFF for $15! \n  \n*Rental gear not included
URL:https://battlegroundz.net/event/buy-a-session-of-airsoft-and-your-friend-gets-one-half-off-2/
LOCATION:RI
CATEGORIES:Airsoft
ATTACH;FMTTYPE=image/jpeg:https://battlegroundz.net/wp-content/uploads/2023/05/IMG_2339.jpg
END:VEVENT
BEGIN:VEVENT
DTSTART;TZID=America/New_York:20240326T170000
DTEND;TZID=America/New_York:20240326T220000
DTSTAMP:20260421T004008
CREATED:20230823T182227Z
LAST-MODIFIED:20240630T195615Z
UID:10004388-1711472400-1711490400@battlegroundz.net
SUMMARY:Airsoft $20 Tuesday
DESCRIPTION:5pm-10pm \n$20 \n5 Hours session of Unlimited Game Time + 2 slices of pizza \n*Rental gear not included
URL:https://battlegroundz.net/event/airsoft-20-tuesday-2/2024-03-26/
LOCATION:RI
CATEGORIES:Airsoft
ATTACH;FMTTYPE=image/png:https://battlegroundz.net/wp-content/uploads/2023/08/20-tuesday-new-post.png
END:VEVENT
BEGIN:VEVENT
DTSTART;VALUE=DATE:20240329
DTEND;VALUE=DATE:20240331
DTSTAMP:20260421T004008
CREATED:20240229T155540Z
LAST-MODIFIED:20240229T155540Z
UID:10005306-1711674000-1711760399@battlegroundz.net
SUMMARY:GOOD FRIDAY! SPECIAL HOURS!
DESCRIPTION:ALL FIELDS OPEN AT 12pm \n12pm-12am \nAirsoft Sessions: \n1st Session: 12pm-4pm \n2nd Session: 4pm-8pm \n3rd Session: 8pm-12am \n  \n 
URL:https://battlegroundz.net/event/good-friday-special-hours/
LOCATION:RI
CATEGORIES:Experience Special Hours
END:VEVENT
BEGIN:VEVENT
DTSTART;TZID=America/New_York:20240329T190000
DTEND;TZID=America/New_York:20240329T210000
DTSTAMP:20260421T004008
CREATED:20240229T155822Z
LAST-MODIFIED:20240229T155822Z
UID:10005307-1711738800-1711746000@battlegroundz.net
SUMMARY:PAINT NITE: Spring Melt Down
DESCRIPTION:7pm \nPaint Nite \nHosted by Joshua Altobelli \n\nUNLEASH YOUR INNER ARTIST\n\nLet’s celebrate St. Patrick’s Day with a little greenery! Come and paint this nice scene of a stream as we eat\, drink\, and socialize! Tickets have to be bought before the event on Paintnite.com. Supplies are provided. Food and Drinks are available for purchase. No prior experience is necessary. Best painting of the night can win a prize! \n\nSIGN UP TODAY! \nhttps://www.paintnite.com/us/ri/lincoln/23268/events/battlegroundz/march-29/green-waterfall-at-battleground-z-10323295/ \n\n 
URL:https://battlegroundz.net/event/paint-nite-spring-melt-down/
LOCATION:RI
CATEGORIES:Classes
ATTACH;FMTTYPE=image/webp:https://battlegroundz.net/wp-content/uploads/2024/02/marchpaintnite.webp
END:VEVENT
BEGIN:VEVENT
DTSTART;VALUE=DATE:20240331
DTEND;VALUE=DATE:20240402
DTSTAMP:20260421T004008
CREATED:20240229T173435Z
LAST-MODIFIED:20240229T173435Z
UID:10005312-1711846800-1711933199@battlegroundz.net
SUMMARY:EASTER! SPECIAL HOURS!
DESCRIPTION:ALL FIELDS OPEN AT 4pm \n4pm-10pm \nAirsoft Sessions: \n1st Session: 4pm-10pm \n  \n*$25 Airsoft Session for 6 Hours of Game Time \nRental not included \n  \n  \n 
URL:https://battlegroundz.net/event/easter-special-hours/
LOCATION:RI
CATEGORIES:Experience Special Hours
END:VEVENT
END:VCALENDAR