BEGIN:VCALENDAR
VERSION:2.0
PRODID:-//BattleGroundZ - ECPv6.15.20//NONSGML v1.0//EN
CALSCALE:GREGORIAN
METHOD:PUBLISH
X-WR-CALNAME:BattleGroundZ
X-ORIGINAL-URL:https://battlegroundz.net
X-WR-CALDESC:Events for BattleGroundZ
REFRESH-INTERVAL;VALUE=DURATION:PT1H
X-Robots-Tag:noindex
X-PUBLISHED-TTL:PT1H
BEGIN:VTIMEZONE
TZID:America/New_York
BEGIN:DAYLIGHT
TZOFFSETFROM:-0500
TZOFFSETTO:-0400
TZNAME:EDT
DTSTART:20220313T070000
END:DAYLIGHT
BEGIN:STANDARD
TZOFFSETFROM:-0400
TZOFFSETTO:-0500
TZNAME:EST
DTSTART:20221106T060000
END:STANDARD
BEGIN:DAYLIGHT
TZOFFSETFROM:-0500
TZOFFSETTO:-0400
TZNAME:EDT
DTSTART:20230312T070000
END:DAYLIGHT
BEGIN:STANDARD
TZOFFSETFROM:-0400
TZOFFSETTO:-0500
TZNAME:EST
DTSTART:20231105T060000
END:STANDARD
BEGIN:DAYLIGHT
TZOFFSETFROM:-0500
TZOFFSETTO:-0400
TZNAME:EDT
DTSTART:20240310T070000
END:DAYLIGHT
BEGIN:STANDARD
TZOFFSETFROM:-0400
TZOFFSETTO:-0500
TZNAME:EST
DTSTART:20241103T060000
END:STANDARD
END:VTIMEZONE
BEGIN:VEVENT
DTSTART;TZID=America/New_York:20231205T170000
DTEND;TZID=America/New_York:20231205T220000
DTSTAMP:20260423T224951
CREATED:20230823T182227Z
LAST-MODIFIED:20240630T195615Z
UID:10004372-1701795600-1701813600@battlegroundz.net
SUMMARY:Airsoft $20 Tuesday
DESCRIPTION:5pm-10pm \n$20 \n5 Hours session of Unlimited Game Time + 2 slices of pizza \n*Rental gear not included
URL:https://battlegroundz.net/event/airsoft-20-tuesday-2/2023-12-05/
LOCATION:RI
CATEGORIES:Airsoft
ATTACH;FMTTYPE=image/png:https://battlegroundz.net/wp-content/uploads/2023/08/20-tuesday-new-post.png
END:VEVENT
BEGIN:VEVENT
DTSTART;TZID=America/New_York:20231208T160000
DTEND;TZID=America/New_York:20231209T000000
DTSTAMP:20260423T224951
CREATED:20230823T181927Z
LAST-MODIFIED:20240524T151200Z
UID:10004092-1702051200-1702080000@battlegroundz.net
SUMMARY:Airsoft Session Extension $10
DESCRIPTION:Buy a session of Airsoft and get the next same-day session for only $10 \n  \nSession 1 :4pm-8pm \nSession 2: 8pm-12am \n*Rental gear not included
URL:https://battlegroundz.net/event/buy-a-session-of-airsoft-and-get-the-next-same-day-session-for-only-10/2023-12-08/
LOCATION:RI
CATEGORIES:Airsoft
ATTACH;FMTTYPE=image/jpeg:https://battlegroundz.net/wp-content/uploads/2023/08/Airsoft-Extension-Friday.jpg
END:VEVENT
BEGIN:VEVENT
DTSTART;TZID=America/New_York:20231208T190000
DTEND;TZID=America/New_York:20231208T210000
DTSTAMP:20260423T224951
CREATED:20231101T144019Z
LAST-MODIFIED:20231128T150403Z
UID:10005201-1702062000-1702069200@battlegroundz.net
SUMMARY:PAINT NITE
DESCRIPTION:7pm \nPaint Nite \nHosted by Joshua Altobelli \n\nUNLEASH YOUR INNER ARTIST\n\nWelcome to Christmas at BattlegroundZ! We’ll celebrate the holiday season with painting this lovely angel. You can keep your painting afterwards\, or give it as a nice gift under the Christmas tree. Feel free to come\, paint\, socialize\, eat\, drink\, and play some games before or afterwards! No prior experience needed. Supplies are provided. Food and drinks are available for purchase. If you would like\, we can have a little competition among us! \n\nSING UP TODAY! \nhttps://www.paintnite.com/us/ri/lincoln/23268/events/battlegroundz/december-08/christmas-snowman-at-battleground-z-10321887/ \n\n 
URL:https://battlegroundz.net/event/paint-nite-3/
LOCATION:RI
CATEGORIES:Classes
ATTACH;FMTTYPE=image/webp:https://battlegroundz.net/wp-content/uploads/2023/11/decpaintnite.webp
END:VEVENT
END:VCALENDAR