BEGIN:VCALENDAR
VERSION:2.0
PRODID:-//BattleGroundZ - ECPv6.15.20//NONSGML v1.0//EN
CALSCALE:GREGORIAN
METHOD:PUBLISH
X-WR-CALNAME:BattleGroundZ
X-ORIGINAL-URL:https://battlegroundz.net
X-WR-CALDESC:Events for BattleGroundZ
REFRESH-INTERVAL;VALUE=DURATION:PT1H
X-Robots-Tag:noindex
X-PUBLISHED-TTL:PT1H
BEGIN:VTIMEZONE
TZID:America/New_York
BEGIN:DAYLIGHT
TZOFFSETFROM:-0500
TZOFFSETTO:-0400
TZNAME:EDT
DTSTART:20220313T070000
END:DAYLIGHT
BEGIN:STANDARD
TZOFFSETFROM:-0400
TZOFFSETTO:-0500
TZNAME:EST
DTSTART:20221106T060000
END:STANDARD
BEGIN:DAYLIGHT
TZOFFSETFROM:-0500
TZOFFSETTO:-0400
TZNAME:EDT
DTSTART:20230312T070000
END:DAYLIGHT
BEGIN:STANDARD
TZOFFSETFROM:-0400
TZOFFSETTO:-0500
TZNAME:EST
DTSTART:20231105T060000
END:STANDARD
BEGIN:DAYLIGHT
TZOFFSETFROM:-0500
TZOFFSETTO:-0400
TZNAME:EDT
DTSTART:20240310T070000
END:DAYLIGHT
BEGIN:STANDARD
TZOFFSETFROM:-0400
TZOFFSETTO:-0500
TZNAME:EST
DTSTART:20241103T060000
END:STANDARD
END:VTIMEZONE
BEGIN:VEVENT
DTSTART;TZID=America/New_York:20231121T170000
DTEND;TZID=America/New_York:20231121T220000
DTSTAMP:20260423T173829
CREATED:20230823T182227Z
LAST-MODIFIED:20240630T195615Z
UID:10004370-1700586000-1700604000@battlegroundz.net
SUMMARY:Airsoft $20 Tuesday
DESCRIPTION:5pm-10pm \n$20 \n5 Hours session of Unlimited Game Time + 2 slices of pizza \n*Rental gear not included
URL:https://battlegroundz.net/event/airsoft-20-tuesday-2/2023-11-21/
LOCATION:RI
CATEGORIES:Airsoft
ATTACH;FMTTYPE=image/png:https://battlegroundz.net/wp-content/uploads/2023/08/20-tuesday-new-post.png
END:VEVENT
BEGIN:VEVENT
DTSTART;VALUE=DATE:20231122
DTEND;VALUE=DATE:20231124
DTSTAMP:20260423T173829
CREATED:20231101T141259Z
LAST-MODIFIED:20231101T141259Z
UID:10004889-1700614800-1700701199@battlegroundz.net
SUMMARY:SPECIAL HOURS!
DESCRIPTION:ALL FIELDS OPEN AT 12pm \n12pm-10pm \nAirsoft Sessions: \n1st Session: 12pm-5pm \n2nd Session: 5pm-10pm \n  \n 
URL:https://battlegroundz.net/event/special-hours-2/
LOCATION:RI
CATEGORIES:Experience Special Hours
END:VEVENT
BEGIN:VEVENT
DTSTART;TZID=America/New_York:20231122T120000
DTEND;TZID=America/New_York:20231122T220000
DTSTAMP:20260423T173829
CREATED:20230602T143222Z
LAST-MODIFIED:20231101T142359Z
UID:10005197-1700654400-1700690400@battlegroundz.net
SUMMARY:Mix-N-Match Matinee Special All Day
DESCRIPTION:Buy 2 Rounds of Mix-N-Match and get 1 round FREE $14 per person \n  \n*Mix-N-Match can be used between Lazer Tag\, Gel Blasters\, Dart Wars and Dodgeball
URL:https://battlegroundz.net/event/mix-n-match/2023-11-22/
LOCATION:RI
ATTACH;FMTTYPE=image/png:https://battlegroundz.net/wp-content/uploads/2023/06/mix-n-match.png
END:VEVENT
BEGIN:VEVENT
DTSTART;TZID=America/New_York:20231124T110000
DTEND;TZID=America/New_York:20231124T170000
DTSTAMP:20260423T173829
CREATED:20230731T190900Z
LAST-MODIFIED:20231101T144903Z
UID:10003775-1700823600-1700845200@battlegroundz.net
SUMMARY:Airsoft Training 101 1 DAY ONLY!
DESCRIPTION:ONE DAY ONLY! 11am-5pm: Learn about Airsoft safety fundamentals\, gun anatomy & general maintenance\, various Airsoft game modes\, Tips & Tricks for beginner’s and advanced Players and MUCH MORE! $55 self equipped or $75 with rental package (rental package includes full face mask\, vest\, gun\, and 1000 BBs. Lunch will be provided. For ages 10-16 \n  \nSign up Today \nhttps://www.signupgenius.com/go/10C0849AFAF2CA3FEC70-44515379-airsoft
URL:https://battlegroundz.net/event/airsoft-training-101-day-1/
LOCATION:RI
CATEGORIES:Airsoft,Classes
ATTACH;FMTTYPE=image/png:https://battlegroundz.net/wp-content/uploads/2023/07/Airsoft-101-FLYER.png
END:VEVENT
BEGIN:VEVENT
DTSTART;TZID=America/New_York:20231124T120000
DTEND;TZID=America/New_York:20231125T000000
DTSTAMP:20260423T173829
CREATED:20231101T141932Z
LAST-MODIFIED:20240201T215217Z
UID:10005195-1700827200-1700870400@battlegroundz.net
SUMMARY:Airsoft Session Extension $10
DESCRIPTION:Buy a session of Airsoft and get the next same-day session for only $10 \nSession 1 :12pm-4pm \nSession 2 :4pm-8pm \nSession 3: 8pm-12am \n*Rental gear not included
URL:https://battlegroundz.net/event/airsoft-session-extension-10-5/2023-11-24/
LOCATION:RI
CATEGORIES:Airsoft
ATTACH;FMTTYPE=image/jpeg:https://battlegroundz.net/wp-content/uploads/2023/05/IMG_2339.jpg
END:VEVENT
END:VCALENDAR