BEGIN:VCALENDAR
VERSION:2.0
PRODID:-//BattleGroundZ - ECPv6.15.20//NONSGML v1.0//EN
CALSCALE:GREGORIAN
METHOD:PUBLISH
X-WR-CALNAME:BattleGroundZ
X-ORIGINAL-URL:https://battlegroundz.net
X-WR-CALDESC:Events for BattleGroundZ
REFRESH-INTERVAL;VALUE=DURATION:PT1H
X-Robots-Tag:noindex
X-PUBLISHED-TTL:PT1H
BEGIN:VTIMEZONE
TZID:America/New_York
BEGIN:DAYLIGHT
TZOFFSETFROM:-0500
TZOFFSETTO:-0400
TZNAME:EDT
DTSTART:20220313T070000
END:DAYLIGHT
BEGIN:STANDARD
TZOFFSETFROM:-0400
TZOFFSETTO:-0500
TZNAME:EST
DTSTART:20221106T060000
END:STANDARD
BEGIN:DAYLIGHT
TZOFFSETFROM:-0500
TZOFFSETTO:-0400
TZNAME:EDT
DTSTART:20230312T070000
END:DAYLIGHT
BEGIN:STANDARD
TZOFFSETFROM:-0400
TZOFFSETTO:-0500
TZNAME:EST
DTSTART:20231105T060000
END:STANDARD
BEGIN:DAYLIGHT
TZOFFSETFROM:-0500
TZOFFSETTO:-0400
TZNAME:EDT
DTSTART:20240310T070000
END:DAYLIGHT
BEGIN:STANDARD
TZOFFSETFROM:-0400
TZOFFSETTO:-0500
TZNAME:EST
DTSTART:20241103T060000
END:STANDARD
END:VTIMEZONE
BEGIN:VEVENT
DTSTART;VALUE=DATE:20231113
DTEND;VALUE=DATE:20231115
DTSTAMP:20260423T173857
CREATED:20231101T141031Z
LAST-MODIFIED:20231101T141131Z
UID:10004888-1699837200-1699923599@battlegroundz.net
SUMMARY:SPECIAL HOURS!
DESCRIPTION:ALL FIELDS OPEN AT 12pm \n12pm-10pm \nAirsoft Sessions: \n1st Session: 12pm-5pm \n2nd Session: 5pm-10pm \n  \n 
URL:https://battlegroundz.net/event/extended-hours/
LOCATION:RI
CATEGORIES:Experience Special Hours
END:VEVENT
BEGIN:VEVENT
DTSTART;TZID=America/New_York:20231113T120000
DTEND;TZID=America/New_York:20231113T220000
DTSTAMP:20260423T173857
CREATED:20230602T143222Z
LAST-MODIFIED:20231101T142359Z
UID:10005196-1699876800-1699912800@battlegroundz.net
SUMMARY:Mix-N-Match Matinee Special All Day
DESCRIPTION:Buy 2 Rounds of Mix-N-Match and get 1 round FREE $14 per person \n  \n*Mix-N-Match can be used between Lazer Tag\, Gel Blasters\, Dart Wars and Dodgeball
URL:https://battlegroundz.net/event/mix-n-match/2023-11-13/
LOCATION:RI
ATTACH;FMTTYPE=image/png:https://battlegroundz.net/wp-content/uploads/2023/06/mix-n-match.png
END:VEVENT
BEGIN:VEVENT
DTSTART;TZID=America/New_York:20231114T170000
DTEND;TZID=America/New_York:20231114T220000
DTSTAMP:20260423T173857
CREATED:20230823T182227Z
LAST-MODIFIED:20240630T195615Z
UID:10004369-1699981200-1699999200@battlegroundz.net
SUMMARY:Airsoft $20 Tuesday
DESCRIPTION:5pm-10pm \n$20 \n5 Hours session of Unlimited Game Time + 2 slices of pizza \n*Rental gear not included
URL:https://battlegroundz.net/event/airsoft-20-tuesday-2/2023-11-14/
LOCATION:RI
CATEGORIES:Airsoft
ATTACH;FMTTYPE=image/png:https://battlegroundz.net/wp-content/uploads/2023/08/20-tuesday-new-post.png
END:VEVENT
BEGIN:VEVENT
DTSTART;TZID=America/New_York:20231115T120000
DTEND;TZID=America/New_York:20231115T220000
DTSTAMP:20260423T173857
CREATED:20230430T215022Z
LAST-MODIFIED:20231101T142511Z
UID:10005198-1700049600-1700085600@battlegroundz.net
SUMMARY:Lazer Tag Matinee Pricing ALL Day!
DESCRIPTION:Buy 2 Rounds of Lazer Tag and get 1 FREE $14 per person
URL:https://battlegroundz.net/event/lazer-tag-matinee-pricing-all-day/2023-11-15/
LOCATION:RI
CATEGORIES:Lazer Tag
ATTACH;FMTTYPE=image/jpeg:https://battlegroundz.net/wp-content/uploads/2023/04/IMG_1681.jpg
END:VEVENT
BEGIN:VEVENT
DTSTART;TZID=America/New_York:20231116T170000
DTEND;TZID=America/New_York:20231116T210000
DTSTAMP:20260423T173857
CREATED:20230602T143442Z
LAST-MODIFIED:20231101T143110Z
UID:10002410-1700154000-1700168400@battlegroundz.net
SUMMARY:UNLIMITED PAINTBALL ONLY $30
DESCRIPTION:***UNLIMITED PAINTBALL ONLY $30*** \n5pm-9pm \n  \n**Includes are Rental Gear and ammo
URL:https://battlegroundz.net/event/unlimited-paintball-only-30/
LOCATION:RI
CATEGORIES:Paintball
ATTACH;FMTTYPE=image/jpeg:https://battlegroundz.net/wp-content/uploads/2023/04/IMG_2279.jpg
END:VEVENT
BEGIN:VEVENT
DTSTART;TZID=America/New_York:20231117T160000
DTEND;TZID=America/New_York:20231118T000000
DTSTAMP:20260423T173857
CREATED:20230823T181927Z
LAST-MODIFIED:20240524T151200Z
UID:10004089-1700236800-1700265600@battlegroundz.net
SUMMARY:Airsoft Session Extension $10
DESCRIPTION:Buy a session of Airsoft and get the next same-day session for only $10 \n  \nSession 1 :4pm-8pm \nSession 2: 8pm-12am \n*Rental gear not included
URL:https://battlegroundz.net/event/buy-a-session-of-airsoft-and-get-the-next-same-day-session-for-only-10/2023-11-17/
LOCATION:RI
CATEGORIES:Airsoft
ATTACH;FMTTYPE=image/jpeg:https://battlegroundz.net/wp-content/uploads/2023/08/Airsoft-Extension-Friday.jpg
END:VEVENT
END:VCALENDAR