BEGIN:VCALENDAR
VERSION:2.0
PRODID:-//BattleGroundZ - ECPv6.15.20//NONSGML v1.0//EN
CALSCALE:GREGORIAN
METHOD:PUBLISH
X-ORIGINAL-URL:https://battlegroundz.net
X-WR-CALDESC:Events for BattleGroundZ
REFRESH-INTERVAL;VALUE=DURATION:PT1H
X-Robots-Tag:noindex
X-PUBLISHED-TTL:PT1H
BEGIN:VTIMEZONE
TZID:America/New_York
BEGIN:DAYLIGHT
TZOFFSETFROM:-0500
TZOFFSETTO:-0400
TZNAME:EDT
DTSTART:20220313T070000
END:DAYLIGHT
BEGIN:STANDARD
TZOFFSETFROM:-0400
TZOFFSETTO:-0500
TZNAME:EST
DTSTART:20221106T060000
END:STANDARD
BEGIN:DAYLIGHT
TZOFFSETFROM:-0500
TZOFFSETTO:-0400
TZNAME:EDT
DTSTART:20230312T070000
END:DAYLIGHT
BEGIN:STANDARD
TZOFFSETFROM:-0400
TZOFFSETTO:-0500
TZNAME:EST
DTSTART:20231105T060000
END:STANDARD
BEGIN:DAYLIGHT
TZOFFSETFROM:-0500
TZOFFSETTO:-0400
TZNAME:EDT
DTSTART:20240310T070000
END:DAYLIGHT
BEGIN:STANDARD
TZOFFSETFROM:-0400
TZOFFSETTO:-0500
TZNAME:EST
DTSTART:20241103T060000
END:STANDARD
END:VTIMEZONE
BEGIN:VEVENT
DTSTART;TZID=America/New_York:20231107T170000
DTEND;TZID=America/New_York:20231107T220000
DTSTAMP:20260423T175022
CREATED:20230823T182227Z
LAST-MODIFIED:20240630T195615Z
UID:10004368-1699376400-1699394400@battlegroundz.net
SUMMARY:Airsoft $20 Tuesday
DESCRIPTION:5pm-10pm \n$20 \n5 Hours session of Unlimited Game Time + 2 slices of pizza \n*Rental gear not included
URL:https://battlegroundz.net/event/airsoft-20-tuesday-2/2023-11-07/
LOCATION:RI
CATEGORIES:Airsoft
ATTACH;FMTTYPE=image/png:https://battlegroundz.net/wp-content/uploads/2023/08/20-tuesday-new-post.png
END:VEVENT
BEGIN:VEVENT
DTSTART;VALUE=DATE:20231110
DTEND;VALUE=DATE:20231112
DTSTAMP:20260423T175022
CREATED:20230831T185344Z
LAST-MODIFIED:20231101T141211Z
UID:10004620-1699578000-1699664399@battlegroundz.net
SUMMARY:SPECIAL HOURS!
DESCRIPTION:ALL FIELDS OPEN AT 12pm \n12pm-12am \nAirsoft Sessions: \n1st Session: 12pm-4pm \n2nd Session: 4pm-8pm \n3rd Session: 8pm-12am \n 
URL:https://battlegroundz.net/event/labor-day-open-all-day/
LOCATION:RI
CATEGORIES:Experience Special Hours
END:VEVENT
BEGIN:VEVENT
DTSTART;TZID=America/New_York:20231110T120000
DTEND;TZID=America/New_York:20231111T000000
DTSTAMP:20260423T175022
CREATED:20231101T141932Z
LAST-MODIFIED:20240201T215217Z
UID:10005194-1699617600-1699660800@battlegroundz.net
SUMMARY:Airsoft Session Extension $10
DESCRIPTION:Buy a session of Airsoft and get the next same-day session for only $10 \nSession 1 :12pm-4pm \nSession 2 :4pm-8pm \nSession 3: 8pm-12am \n*Rental gear not included
URL:https://battlegroundz.net/event/airsoft-session-extension-10-5/2023-11-10/
LOCATION:RI
CATEGORIES:Airsoft
ATTACH;FMTTYPE=image/jpeg:https://battlegroundz.net/wp-content/uploads/2023/05/IMG_2339.jpg
END:VEVENT
BEGIN:VEVENT
DTSTART;TZID=America/New_York:20231112T120000
DTEND;TZID=America/New_York:20231112T200000
DTSTAMP:20260423T175022
CREATED:20230501T190940Z
LAST-MODIFIED:20231101T142301Z
UID:10001588-1699790400-1699819200@battlegroundz.net
SUMMARY:Mess Hall Special
DESCRIPTION:BLT and small fry $9.99 \n  \n*food taxes not included in the price
URL:https://battlegroundz.net/event/mess-hall-special-5/
LOCATION:RI
ATTACH;FMTTYPE=image/png:https://battlegroundz.net/wp-content/uploads/2023/05/Mess-hall.png
END:VEVENT
END:VCALENDAR