BEGIN:VCALENDAR
VERSION:2.0
PRODID:-//BattleGroundZ - ECPv6.15.20//NONSGML v1.0//EN
CALSCALE:GREGORIAN
METHOD:PUBLISH
X-ORIGINAL-URL:https://battlegroundz.net
X-WR-CALDESC:Events for BattleGroundZ
REFRESH-INTERVAL;VALUE=DURATION:PT1H
X-Robots-Tag:noindex
X-PUBLISHED-TTL:PT1H
BEGIN:VTIMEZONE
TZID:America/New_York
BEGIN:DAYLIGHT
TZOFFSETFROM:-0500
TZOFFSETTO:-0400
TZNAME:EDT
DTSTART:20220313T070000
END:DAYLIGHT
BEGIN:STANDARD
TZOFFSETFROM:-0400
TZOFFSETTO:-0500
TZNAME:EST
DTSTART:20221106T060000
END:STANDARD
BEGIN:DAYLIGHT
TZOFFSETFROM:-0500
TZOFFSETTO:-0400
TZNAME:EDT
DTSTART:20230312T070000
END:DAYLIGHT
BEGIN:STANDARD
TZOFFSETFROM:-0400
TZOFFSETTO:-0500
TZNAME:EST
DTSTART:20231105T060000
END:STANDARD
BEGIN:DAYLIGHT
TZOFFSETFROM:-0500
TZOFFSETTO:-0400
TZNAME:EDT
DTSTART:20240310T070000
END:DAYLIGHT
BEGIN:STANDARD
TZOFFSETFROM:-0400
TZOFFSETTO:-0500
TZNAME:EST
DTSTART:20241103T060000
END:STANDARD
END:VTIMEZONE
BEGIN:VEVENT
DTSTART;TZID=America/New_York:20231023T120000
DTEND;TZID=America/New_York:20231023T220000
DTSTAMP:20260423T173638
CREATED:20230501T174722Z
LAST-MODIFIED:20231004T155005Z
UID:10001593-1698062400-1698098400@battlegroundz.net
SUMMARY:Lazer Tag Matinee Pricing ALL Day!
DESCRIPTION:Buy 2 Rounds of Lazer Tag and get 1 FREE $14 per person
URL:https://battlegroundz.net/event/lazer-tag-matinee-pricing-all-day-3/
LOCATION:RI
CATEGORIES:Lazer Tag
ATTACH;FMTTYPE=image/jpeg:https://battlegroundz.net/wp-content/uploads/2023/04/IMG_1681.jpg
END:VEVENT
BEGIN:VEVENT
DTSTART;TZID=America/New_York:20231024T170000
DTEND;TZID=America/New_York:20231024T220000
DTSTAMP:20260423T173638
CREATED:20230823T182227Z
LAST-MODIFIED:20240630T195615Z
UID:10004366-1698166800-1698184800@battlegroundz.net
SUMMARY:Airsoft $20 Tuesday
DESCRIPTION:5pm-10pm \n$20 \n5 Hours session of Unlimited Game Time + 2 slices of pizza \n*Rental gear not included
URL:https://battlegroundz.net/event/airsoft-20-tuesday-2/2023-10-24/
LOCATION:RI
CATEGORIES:Airsoft
ATTACH;FMTTYPE=image/png:https://battlegroundz.net/wp-content/uploads/2023/08/20-tuesday-new-post.png
END:VEVENT
BEGIN:VEVENT
DTSTART;TZID=America/New_York:20231025T190000
DTEND;TZID=America/New_York:20231025T220000
DTSTAMP:20260423T173638
CREATED:20230707T194657Z
LAST-MODIFIED:20230731T190049Z
UID:10002981-1698260400-1698271200@battlegroundz.net
SUMMARY:Karaoke Night
DESCRIPTION:Sing your heart out and enjoy some refreshments from our Battle Bar!
URL:https://battlegroundz.net/event/karaoke-night-2/2023-10-25/
LOCATION:RI
ATTACH;FMTTYPE=image/png:https://battlegroundz.net/wp-content/uploads/2023/07/Wed-KARAOKE-NIGHT-DJ-CAL-Instagram-Post-Square.png
END:VEVENT
BEGIN:VEVENT
DTSTART;TZID=America/New_York:20231027T160000
DTEND;TZID=America/New_York:20231027T230000
DTSTAMP:20260423T173638
CREATED:20230501T192018Z
LAST-MODIFIED:20231004T155506Z
UID:10001598-1698422400-1698447600@battlegroundz.net
SUMMARY:3 Games of Paintball for $30
DESCRIPTION:  \n3 Games of Paintball for only $30 per person \n*regular price $35 \n*All Rental Gear included \n 
URL:https://battlegroundz.net/event/3-games-of-paintball-for-30/
LOCATION:RI
CATEGORIES:Paintball
ATTACH;FMTTYPE=image/jpeg:https://battlegroundz.net/wp-content/uploads/2023/04/IMG_2279.jpg
END:VEVENT
BEGIN:VEVENT
DTSTART;TZID=America/New_York:20231027T160000
DTEND;TZID=America/New_York:20231028T000000
DTSTAMP:20260423T173638
CREATED:20230823T181927Z
LAST-MODIFIED:20240524T151200Z
UID:10004086-1698422400-1698451200@battlegroundz.net
SUMMARY:Airsoft Session Extension $10
DESCRIPTION:Buy a session of Airsoft and get the next same-day session for only $10 \n  \nSession 1 :4pm-8pm \nSession 2: 8pm-12am \n*Rental gear not included
URL:https://battlegroundz.net/event/buy-a-session-of-airsoft-and-get-the-next-same-day-session-for-only-10/2023-10-27/
LOCATION:RI
CATEGORIES:Airsoft
ATTACH;FMTTYPE=image/jpeg:https://battlegroundz.net/wp-content/uploads/2023/08/Airsoft-Extension-Friday.jpg
END:VEVENT
END:VCALENDAR