BEGIN:VCALENDAR
VERSION:2.0
PRODID:-//BattleGroundZ - ECPv6.15.20//NONSGML v1.0//EN
CALSCALE:GREGORIAN
METHOD:PUBLISH
X-WR-CALNAME:BattleGroundZ
X-ORIGINAL-URL:https://battlegroundz.net
X-WR-CALDESC:Events for BattleGroundZ
REFRESH-INTERVAL;VALUE=DURATION:PT1H
X-Robots-Tag:noindex
X-PUBLISHED-TTL:PT1H
BEGIN:VTIMEZONE
TZID:America/New_York
BEGIN:DAYLIGHT
TZOFFSETFROM:-0500
TZOFFSETTO:-0400
TZNAME:EDT
DTSTART:20230312T070000
END:DAYLIGHT
BEGIN:STANDARD
TZOFFSETFROM:-0400
TZOFFSETTO:-0500
TZNAME:EST
DTSTART:20231105T060000
END:STANDARD
BEGIN:DAYLIGHT
TZOFFSETFROM:-0500
TZOFFSETTO:-0400
TZNAME:EDT
DTSTART:20240310T070000
END:DAYLIGHT
BEGIN:STANDARD
TZOFFSETFROM:-0400
TZOFFSETTO:-0500
TZNAME:EST
DTSTART:20241103T060000
END:STANDARD
BEGIN:DAYLIGHT
TZOFFSETFROM:-0500
TZOFFSETTO:-0400
TZNAME:EDT
DTSTART:20250309T070000
END:DAYLIGHT
BEGIN:STANDARD
TZOFFSETFROM:-0400
TZOFFSETTO:-0500
TZNAME:EST
DTSTART:20251102T060000
END:STANDARD
BEGIN:DAYLIGHT
TZOFFSETFROM:-0500
TZOFFSETTO:-0400
TZNAME:EDT
DTSTART:20260308T070000
END:DAYLIGHT
BEGIN:STANDARD
TZOFFSETFROM:-0400
TZOFFSETTO:-0500
TZNAME:EST
DTSTART:20261101T060000
END:STANDARD
END:VTIMEZONE
BEGIN:VEVENT
DTSTART;TZID=America/New_York:20250218T170000
DTEND;TZID=America/New_York:20250218T220000
DTSTAMP:20260422T192406
CREATED:20240828T134553Z
LAST-MODIFIED:20260331T195455Z
UID:10005635-1739898000-1739916000@battlegroundz.net
SUMMARY:Airsoft $20 Tuesday
DESCRIPTION:5pm-10pm \n$20 \n5 Hours session of Unlimited Game Time + 2 slices of pizza \n*Rental gear not included
URL:https://battlegroundz.net/event/airsoft-20-tuesday-2-2/2025-02-18/
LOCATION:RI
CATEGORIES:Airsoft
ATTACH;FMTTYPE=image/png:https://battlegroundz.net/wp-content/uploads/2023/08/20-tuesday-new-post.png
END:VEVENT
BEGIN:VEVENT
DTSTART;TZID=America/New_York:20250217T120000
DTEND;TZID=America/New_York:20250217T220000
DTSTAMP:20260422T192406
CREATED:20250213T165931Z
LAST-MODIFIED:20250213T165931Z
UID:10008077-1739793600-1739829600@battlegroundz.net
SUMMARY:$5 Off Paintball for groups of 4 or more!
DESCRIPTION:Today you can purchase 3 games of Paintball for $30 or 5 games for $40 \nField is open 12pm to 10pm today
URL:https://battlegroundz.net/event/5-off-paintball-for-groups-of-4-or-more/
LOCATION:RI
END:VEVENT
BEGIN:VEVENT
DTSTART;TZID=America/New_York:20250214T160000
DTEND;TZID=America/New_York:20250215T000000
DTSTAMP:20260422T192406
CREATED:20240828T140743Z
LAST-MODIFIED:20241118T164711Z
UID:10005924-1739548800-1739577600@battlegroundz.net
SUMMARY:Airsoft Session Extension $10
DESCRIPTION:Buy a session of Airsoft and get the next same-day session for only $10 \n  \nSession 1 :4pm-8pm \nSession 2: 8pm-12am \n*Rental gear not included
URL:https://battlegroundz.net/event/buy-a-session-of-airsoft-and-get-the-next-same-day-session-for-only-10-2/2025-02-14/
LOCATION:RI
CATEGORIES:Airsoft
ATTACH;FMTTYPE=image/jpeg:https://battlegroundz.net/wp-content/uploads/2023/08/Airsoft-Extension-Friday.jpg
END:VEVENT
BEGIN:VEVENT
DTSTART;TZID=America/New_York:20250213T170000
DTEND;TZID=America/New_York:20250213T210000
DTSTAMP:20260422T192406
CREATED:20241028T193722Z
LAST-MODIFIED:20241119T170747Z
UID:10006283-1739466000-1739480400@battlegroundz.net
SUMMARY:Unlimited Paintball + 2 Slices of Pizza ONLY $30
DESCRIPTION:5pm-9pm \nUnlimited Paintball for only $30 \nincludes all rental gear & ammo \n 
URL:https://battlegroundz.net/event/unlimited-paintball-2-slices-of-pizza-only-30/2025-02-13/
LOCATION:RI
CATEGORIES:Paintball
ATTACH;FMTTYPE=image/png:https://battlegroundz.net/wp-content/uploads/2024/10/Thursday-Paintball-Unlimited.png
END:VEVENT
BEGIN:VEVENT
DTSTART;TZID=America/New_York:20250212T170000
DTEND;TZID=America/New_York:20250212T220000
DTSTAMP:20260422T192406
CREATED:20250213T164329Z
LAST-MODIFIED:20250213T164329Z
UID:10008074-1739379600-1739397600@battlegroundz.net
SUMMARY:20% Off Airsoft Rental Gear
DESCRIPTION:
URL:https://battlegroundz.net/event/20-off-airsoft-rental-gear/
LOCATION:RI
END:VEVENT
BEGIN:VEVENT
DTSTART;TZID=America/New_York:20250211T170000
DTEND;TZID=America/New_York:20250211T220000
DTSTAMP:20260422T192406
CREATED:20240828T134553Z
LAST-MODIFIED:20260331T195455Z
UID:10005634-1739293200-1739311200@battlegroundz.net
SUMMARY:Airsoft $20 Tuesday
DESCRIPTION:5pm-10pm \n$20 \n5 Hours session of Unlimited Game Time + 2 slices of pizza \n*Rental gear not included
URL:https://battlegroundz.net/event/airsoft-20-tuesday-2-2/2025-02-11/
LOCATION:RI
CATEGORIES:Airsoft
ATTACH;FMTTYPE=image/png:https://battlegroundz.net/wp-content/uploads/2023/08/20-tuesday-new-post.png
END:VEVENT
BEGIN:VEVENT
DTSTART;TZID=America/New_York:20250207T160000
DTEND;TZID=America/New_York:20250208T000000
DTSTAMP:20260422T192406
CREATED:20240828T140743Z
LAST-MODIFIED:20241118T164711Z
UID:10005923-1738944000-1738972800@battlegroundz.net
SUMMARY:Airsoft Session Extension $10
DESCRIPTION:Buy a session of Airsoft and get the next same-day session for only $10 \n  \nSession 1 :4pm-8pm \nSession 2: 8pm-12am \n*Rental gear not included
URL:https://battlegroundz.net/event/buy-a-session-of-airsoft-and-get-the-next-same-day-session-for-only-10-2/2025-02-07/
LOCATION:RI
CATEGORIES:Airsoft
ATTACH;FMTTYPE=image/jpeg:https://battlegroundz.net/wp-content/uploads/2023/08/Airsoft-Extension-Friday.jpg
END:VEVENT
BEGIN:VEVENT
DTSTART;TZID=America/New_York:20250206T170000
DTEND;TZID=America/New_York:20250206T210000
DTSTAMP:20260422T192406
CREATED:20241028T193722Z
LAST-MODIFIED:20241119T170747Z
UID:10006276-1738861200-1738875600@battlegroundz.net
SUMMARY:Unlimited Paintball + 2 Slices of Pizza ONLY $30
DESCRIPTION:5pm-9pm \nUnlimited Paintball for only $30 \nincludes all rental gear & ammo \n 
URL:https://battlegroundz.net/event/unlimited-paintball-2-slices-of-pizza-only-30/2025-02-06/
LOCATION:RI
CATEGORIES:Paintball
ATTACH;FMTTYPE=image/png:https://battlegroundz.net/wp-content/uploads/2024/10/Thursday-Paintball-Unlimited.png
END:VEVENT
BEGIN:VEVENT
DTSTART;TZID=America/New_York:20250204T170000
DTEND;TZID=America/New_York:20250204T220000
DTSTAMP:20260422T192406
CREATED:20240828T134553Z
LAST-MODIFIED:20260331T195455Z
UID:10005633-1738688400-1738706400@battlegroundz.net
SUMMARY:Airsoft $20 Tuesday
DESCRIPTION:5pm-10pm \n$20 \n5 Hours session of Unlimited Game Time + 2 slices of pizza \n*Rental gear not included
URL:https://battlegroundz.net/event/airsoft-20-tuesday-2-2/2025-02-04/
LOCATION:RI
CATEGORIES:Airsoft
ATTACH;FMTTYPE=image/png:https://battlegroundz.net/wp-content/uploads/2023/08/20-tuesday-new-post.png
END:VEVENT
BEGIN:VEVENT
DTSTART;TZID=America/New_York:20250131T160000
DTEND;TZID=America/New_York:20250201T000000
DTSTAMP:20260422T192406
CREATED:20240828T140743Z
LAST-MODIFIED:20241118T164711Z
UID:10005922-1738339200-1738368000@battlegroundz.net
SUMMARY:Airsoft Session Extension $10
DESCRIPTION:Buy a session of Airsoft and get the next same-day session for only $10 \n  \nSession 1 :4pm-8pm \nSession 2: 8pm-12am \n*Rental gear not included
URL:https://battlegroundz.net/event/buy-a-session-of-airsoft-and-get-the-next-same-day-session-for-only-10-2/2025-01-31/
LOCATION:RI
CATEGORIES:Airsoft
ATTACH;FMTTYPE=image/jpeg:https://battlegroundz.net/wp-content/uploads/2023/08/Airsoft-Extension-Friday.jpg
END:VEVENT
BEGIN:VEVENT
DTSTART;TZID=America/New_York:20250130T170000
DTEND;TZID=America/New_York:20250130T210000
DTSTAMP:20260422T192406
CREATED:20241028T193722Z
LAST-MODIFIED:20241119T170747Z
UID:10006269-1738256400-1738270800@battlegroundz.net
SUMMARY:Unlimited Paintball + 2 Slices of Pizza ONLY $30
DESCRIPTION:5pm-9pm \nUnlimited Paintball for only $30 \nincludes all rental gear & ammo \n 
URL:https://battlegroundz.net/event/unlimited-paintball-2-slices-of-pizza-only-30/2025-01-30/
LOCATION:RI
CATEGORIES:Paintball
ATTACH;FMTTYPE=image/png:https://battlegroundz.net/wp-content/uploads/2024/10/Thursday-Paintball-Unlimited.png
END:VEVENT
BEGIN:VEVENT
DTSTART;TZID=America/New_York:20250128T170000
DTEND;TZID=America/New_York:20250128T220000
DTSTAMP:20260422T192406
CREATED:20240828T134553Z
LAST-MODIFIED:20260331T195455Z
UID:10005632-1738083600-1738101600@battlegroundz.net
SUMMARY:Airsoft $20 Tuesday
DESCRIPTION:5pm-10pm \n$20 \n5 Hours session of Unlimited Game Time + 2 slices of pizza \n*Rental gear not included
URL:https://battlegroundz.net/event/airsoft-20-tuesday-2-2/2025-01-28/
LOCATION:RI
CATEGORIES:Airsoft
ATTACH;FMTTYPE=image/png:https://battlegroundz.net/wp-content/uploads/2023/08/20-tuesday-new-post.png
END:VEVENT
BEGIN:VEVENT
DTSTART;TZID=America/New_York:20250124T160000
DTEND;TZID=America/New_York:20250125T000000
DTSTAMP:20260422T192406
CREATED:20240828T140743Z
LAST-MODIFIED:20241118T164711Z
UID:10005921-1737734400-1737763200@battlegroundz.net
SUMMARY:Airsoft Session Extension $10
DESCRIPTION:Buy a session of Airsoft and get the next same-day session for only $10 \n  \nSession 1 :4pm-8pm \nSession 2: 8pm-12am \n*Rental gear not included
URL:https://battlegroundz.net/event/buy-a-session-of-airsoft-and-get-the-next-same-day-session-for-only-10-2/2025-01-24/
LOCATION:RI
CATEGORIES:Airsoft
ATTACH;FMTTYPE=image/jpeg:https://battlegroundz.net/wp-content/uploads/2023/08/Airsoft-Extension-Friday.jpg
END:VEVENT
BEGIN:VEVENT
DTSTART;TZID=America/New_York:20250123T170000
DTEND;TZID=America/New_York:20250123T210000
DTSTAMP:20260422T192406
CREATED:20241028T193722Z
LAST-MODIFIED:20241119T170747Z
UID:10006262-1737651600-1737666000@battlegroundz.net
SUMMARY:Unlimited Paintball + 2 Slices of Pizza ONLY $30
DESCRIPTION:5pm-9pm \nUnlimited Paintball for only $30 \nincludes all rental gear & ammo \n 
URL:https://battlegroundz.net/event/unlimited-paintball-2-slices-of-pizza-only-30/2025-01-23/
LOCATION:RI
CATEGORIES:Paintball
ATTACH;FMTTYPE=image/png:https://battlegroundz.net/wp-content/uploads/2024/10/Thursday-Paintball-Unlimited.png
END:VEVENT
BEGIN:VEVENT
DTSTART;TZID=America/New_York:20250121T170000
DTEND;TZID=America/New_York:20250121T220000
DTSTAMP:20260422T192406
CREATED:20240828T134553Z
LAST-MODIFIED:20260331T195455Z
UID:10005631-1737478800-1737496800@battlegroundz.net
SUMMARY:Airsoft $20 Tuesday
DESCRIPTION:5pm-10pm \n$20 \n5 Hours session of Unlimited Game Time + 2 slices of pizza \n*Rental gear not included
URL:https://battlegroundz.net/event/airsoft-20-tuesday-2-2/2025-01-21/
LOCATION:RI
CATEGORIES:Airsoft
ATTACH;FMTTYPE=image/png:https://battlegroundz.net/wp-content/uploads/2023/08/20-tuesday-new-post.png
END:VEVENT
BEGIN:VEVENT
DTSTART;TZID=America/New_York:20250117T160000
DTEND;TZID=America/New_York:20250118T000000
DTSTAMP:20260422T192406
CREATED:20240828T140743Z
LAST-MODIFIED:20241118T164711Z
UID:10005920-1737129600-1737158400@battlegroundz.net
SUMMARY:Airsoft Session Extension $10
DESCRIPTION:Buy a session of Airsoft and get the next same-day session for only $10 \n  \nSession 1 :4pm-8pm \nSession 2: 8pm-12am \n*Rental gear not included
URL:https://battlegroundz.net/event/buy-a-session-of-airsoft-and-get-the-next-same-day-session-for-only-10-2/2025-01-17/
LOCATION:RI
CATEGORIES:Airsoft
ATTACH;FMTTYPE=image/jpeg:https://battlegroundz.net/wp-content/uploads/2023/08/Airsoft-Extension-Friday.jpg
END:VEVENT
BEGIN:VEVENT
DTSTART;TZID=America/New_York:20250116T170000
DTEND;TZID=America/New_York:20250116T210000
DTSTAMP:20260422T192406
CREATED:20241028T193722Z
LAST-MODIFIED:20241119T170747Z
UID:10006255-1737046800-1737061200@battlegroundz.net
SUMMARY:Unlimited Paintball + 2 Slices of Pizza ONLY $30
DESCRIPTION:5pm-9pm \nUnlimited Paintball for only $30 \nincludes all rental gear & ammo \n 
URL:https://battlegroundz.net/event/unlimited-paintball-2-slices-of-pizza-only-30/2025-01-16/
LOCATION:RI
CATEGORIES:Paintball
ATTACH;FMTTYPE=image/png:https://battlegroundz.net/wp-content/uploads/2024/10/Thursday-Paintball-Unlimited.png
END:VEVENT
BEGIN:VEVENT
DTSTART;TZID=America/New_York:20250114T170000
DTEND;TZID=America/New_York:20250114T220000
DTSTAMP:20260422T192406
CREATED:20240828T134553Z
LAST-MODIFIED:20260331T195455Z
UID:10005630-1736874000-1736892000@battlegroundz.net
SUMMARY:Airsoft $20 Tuesday
DESCRIPTION:5pm-10pm \n$20 \n5 Hours session of Unlimited Game Time + 2 slices of pizza \n*Rental gear not included
URL:https://battlegroundz.net/event/airsoft-20-tuesday-2-2/2025-01-14/
LOCATION:RI
CATEGORIES:Airsoft
ATTACH;FMTTYPE=image/png:https://battlegroundz.net/wp-content/uploads/2023/08/20-tuesday-new-post.png
END:VEVENT
BEGIN:VEVENT
DTSTART;TZID=America/New_York:20250110T160000
DTEND;TZID=America/New_York:20250111T000000
DTSTAMP:20260422T192406
CREATED:20240828T140743Z
LAST-MODIFIED:20241118T164711Z
UID:10005919-1736524800-1736553600@battlegroundz.net
SUMMARY:Airsoft Session Extension $10
DESCRIPTION:Buy a session of Airsoft and get the next same-day session for only $10 \n  \nSession 1 :4pm-8pm \nSession 2: 8pm-12am \n*Rental gear not included
URL:https://battlegroundz.net/event/buy-a-session-of-airsoft-and-get-the-next-same-day-session-for-only-10-2/2025-01-10/
LOCATION:RI
CATEGORIES:Airsoft
ATTACH;FMTTYPE=image/jpeg:https://battlegroundz.net/wp-content/uploads/2023/08/Airsoft-Extension-Friday.jpg
END:VEVENT
BEGIN:VEVENT
DTSTART;TZID=America/New_York:20250109T170000
DTEND;TZID=America/New_York:20250109T210000
DTSTAMP:20260422T192406
CREATED:20241028T193722Z
LAST-MODIFIED:20241119T170747Z
UID:10006248-1736442000-1736456400@battlegroundz.net
SUMMARY:Unlimited Paintball + 2 Slices of Pizza ONLY $30
DESCRIPTION:5pm-9pm \nUnlimited Paintball for only $30 \nincludes all rental gear & ammo \n 
URL:https://battlegroundz.net/event/unlimited-paintball-2-slices-of-pizza-only-30/2025-01-09/
LOCATION:RI
CATEGORIES:Paintball
ATTACH;FMTTYPE=image/png:https://battlegroundz.net/wp-content/uploads/2024/10/Thursday-Paintball-Unlimited.png
END:VEVENT
BEGIN:VEVENT
DTSTART;TZID=America/New_York:20250107T170000
DTEND;TZID=America/New_York:20250107T220000
DTSTAMP:20260422T192406
CREATED:20240828T134553Z
LAST-MODIFIED:20260331T195455Z
UID:10005629-1736269200-1736287200@battlegroundz.net
SUMMARY:Airsoft $20 Tuesday
DESCRIPTION:5pm-10pm \n$20 \n5 Hours session of Unlimited Game Time + 2 slices of pizza \n*Rental gear not included
URL:https://battlegroundz.net/event/airsoft-20-tuesday-2-2/2025-01-07/
LOCATION:RI
CATEGORIES:Airsoft
ATTACH;FMTTYPE=image/png:https://battlegroundz.net/wp-content/uploads/2023/08/20-tuesday-new-post.png
END:VEVENT
BEGIN:VEVENT
DTSTART;TZID=America/New_York:20250103T120000
DTEND;TZID=America/New_York:20250104T000000
DTSTAMP:20260422T192406
CREATED:20231204T190458Z
LAST-MODIFIED:20241118T164837Z
UID:10008017-1735905600-1735948800@battlegroundz.net
SUMMARY:Airsoft Session Extension $10
DESCRIPTION:Buy a session of Airsoft and get the next same-day session for only $10 \nSession 1 :12pm-4pm \nSession 2 :4pm-8pm \nSession 3: 8pm-12am \n*Rental gear not included
URL:https://battlegroundz.net/event/airsoft-session-extension-10-6/2025-01-03/
LOCATION:RI
CATEGORIES:Airsoft
ATTACH;FMTTYPE=image/jpeg:https://battlegroundz.net/wp-content/uploads/2023/12/Airsoft-Extension-wfriday.jpg
END:VEVENT
BEGIN:VEVENT
DTSTART;VALUE=DATE:20250103
DTEND;VALUE=DATE:20250105
DTSTAMP:20260422T192406
CREATED:20241115T213649Z
LAST-MODIFIED:20241115T213649Z
UID:10008006-1735866000-1735952399@battlegroundz.net
SUMMARY:SPECIAL HOURS!
DESCRIPTION:ALL FIELDS OPEN AT 12pm \n12pm-12am \nAirsoft Sessions: \n1st Session: 12pm-4pm \n2nd Session: 4pm-8pm \n3rd Session: 8pm-12am \n 
URL:https://battlegroundz.net/event/special-hours-19/
LOCATION:RI
CATEGORIES:Experience Special Hours
END:VEVENT
BEGIN:VEVENT
DTSTART;TZID=America/New_York:20250102T170000
DTEND;TZID=America/New_York:20250102T210000
DTSTAMP:20260422T192406
CREATED:20241028T193722Z
LAST-MODIFIED:20241119T170747Z
UID:10006241-1735837200-1735851600@battlegroundz.net
SUMMARY:Unlimited Paintball + 2 Slices of Pizza ONLY $30
DESCRIPTION:5pm-9pm \nUnlimited Paintball for only $30 \nincludes all rental gear & ammo \n 
URL:https://battlegroundz.net/event/unlimited-paintball-2-slices-of-pizza-only-30/2025-01-02/
LOCATION:RI
CATEGORIES:Paintball
ATTACH;FMTTYPE=image/png:https://battlegroundz.net/wp-content/uploads/2024/10/Thursday-Paintball-Unlimited.png
END:VEVENT
BEGIN:VEVENT
DTSTART;VALUE=DATE:20250102
DTEND;VALUE=DATE:20250104
DTSTAMP:20260422T192406
CREATED:20241115T215033Z
LAST-MODIFIED:20241115T215033Z
UID:10008009-1735779600-1735865999@battlegroundz.net
SUMMARY:SPECIAL HOURS!
DESCRIPTION:ALL FIELDS OPEN AT 12pm \n12pm-10pm \nAirsoft Sessions: \n1st Session: 12pm-5pm \n2nd Session: 5pm-10pm \n  \n 
URL:https://battlegroundz.net/event/special-hours-22/
LOCATION:RI
CATEGORIES:Experience Special Hours
END:VEVENT
BEGIN:VEVENT
DTSTART;TZID=America/New_York:20250101T170000
DTEND;TZID=America/New_York:20250101T220000
DTSTAMP:20260422T192406
CREATED:20241118T174651Z
LAST-MODIFIED:20241118T174733Z
UID:10008029-1735750800-1735768800@battlegroundz.net
SUMMARY:Airsoft Session Only $25 Session 2
DESCRIPTION:Session 2:  5pm-10pm \nAirsoft Session ONLY $25 \n*Rental Gear not included
URL:https://battlegroundz.net/event/airsoft-session-only-25-session-2/
LOCATION:RI
CATEGORIES:Airsoft
ATTACH;FMTTYPE=image/jpeg:https://battlegroundz.net/wp-content/uploads/2023/05/IMG_2339.jpg
END:VEVENT
BEGIN:VEVENT
DTSTART;TZID=America/New_York:20250101T120000
DTEND;TZID=America/New_York:20250101T170000
DTSTAMP:20260422T192406
CREATED:20241016T173905Z
LAST-MODIFIED:20241118T174623Z
UID:10006177-1735732800-1735750800@battlegroundz.net
SUMMARY:Airsoft Session Only $25 Session 1
DESCRIPTION:Session 1 12pm-5pm \nAirsoft Session ONLY $25 \n*Rental Gear not included
URL:https://battlegroundz.net/event/airsoft-session-only-25/
LOCATION:RI
CATEGORIES:Airsoft
ATTACH;FMTTYPE=image/jpeg:https://battlegroundz.net/wp-content/uploads/2023/05/IMG_2339.jpg
END:VEVENT
BEGIN:VEVENT
DTSTART;VALUE=DATE:20250101
DTEND;VALUE=DATE:20250103
DTSTAMP:20260422T192406
CREATED:20241115T213926Z
LAST-MODIFIED:20241115T213926Z
UID:10008008-1735693200-1735779599@battlegroundz.net
SUMMARY:SPECIAL HOURS!
DESCRIPTION:ALL FIELDS OPEN AT 12pm \n12pm-10pm \nAirsoft Sessions: \n1st Session: 12pm-5pm \n2nd Session: 5pm-10pm \n  \n 
URL:https://battlegroundz.net/event/special-hours-21/
LOCATION:RI
CATEGORIES:Experience Special Hours
END:VEVENT
BEGIN:VEVENT
DTSTART;TZID=America/New_York:20241231T150000
DTEND;TZID=America/New_York:20241231T200000
DTSTAMP:20260422T192406
CREATED:20241118T170140Z
LAST-MODIFIED:20241118T170140Z
UID:10008023-1735657200-1735675200@battlegroundz.net
SUMMARY:Airsoft $20 Tuesday! Session 2
DESCRIPTION:$20 Airsoft Session + 2 slices of cheese pizza \nSession 2: 3pm-8pm \n*Rental gear not included
URL:https://battlegroundz.net/event/airsoft-20-tuesday-session-2/
LOCATION:RI
CATEGORIES:Special Operating Hours
ATTACH;FMTTYPE=image/jpeg:https://battlegroundz.net/wp-content/uploads/2023/04/292396390_576834900643481_5015748945188152924_n.jpg
END:VEVENT
BEGIN:VEVENT
DTSTART;TZID=America/New_York:20241231T120000
DTEND;TZID=America/New_York:20241231T170000
DTSTAMP:20260422T192406
CREATED:20241118T165948Z
LAST-MODIFIED:20241118T170110Z
UID:10008022-1735646400-1735664400@battlegroundz.net
SUMMARY:Airsoft $20 Tuesday! Session 1
DESCRIPTION:$20 Airsoft Session + 2 slices of cheese pizza \nSession 1: 12pm-5pm \n*Rental gear not included
URL:https://battlegroundz.net/event/airsoft-20-tuesday-4/
LOCATION:RI
CATEGORIES:Special Operating Hours
ATTACH;FMTTYPE=image/jpeg:https://battlegroundz.net/wp-content/uploads/2023/04/292396390_576834900643481_5015748945188152924_n.jpg
END:VEVENT
END:VCALENDAR