BEGIN:VCALENDAR
VERSION:2.0
PRODID:-//BattleGroundZ - ECPv6.15.20//NONSGML v1.0//EN
CALSCALE:GREGORIAN
METHOD:PUBLISH
X-ORIGINAL-URL:https://battlegroundz.net
X-WR-CALDESC:Events for BattleGroundZ
REFRESH-INTERVAL;VALUE=DURATION:PT1H
X-Robots-Tag:noindex
X-PUBLISHED-TTL:PT1H
BEGIN:VTIMEZONE
TZID:America/New_York
BEGIN:DAYLIGHT
TZOFFSETFROM:-0500
TZOFFSETTO:-0400
TZNAME:EDT
DTSTART:20220313T070000
END:DAYLIGHT
BEGIN:STANDARD
TZOFFSETFROM:-0400
TZOFFSETTO:-0500
TZNAME:EST
DTSTART:20221106T060000
END:STANDARD
BEGIN:DAYLIGHT
TZOFFSETFROM:-0500
TZOFFSETTO:-0400
TZNAME:EDT
DTSTART:20230312T070000
END:DAYLIGHT
BEGIN:STANDARD
TZOFFSETFROM:-0400
TZOFFSETTO:-0500
TZNAME:EST
DTSTART:20231105T060000
END:STANDARD
BEGIN:DAYLIGHT
TZOFFSETFROM:-0500
TZOFFSETTO:-0400
TZNAME:EDT
DTSTART:20240310T070000
END:DAYLIGHT
BEGIN:STANDARD
TZOFFSETFROM:-0400
TZOFFSETTO:-0500
TZNAME:EST
DTSTART:20241103T060000
END:STANDARD
BEGIN:DAYLIGHT
TZOFFSETFROM:-0500
TZOFFSETTO:-0400
TZNAME:EDT
DTSTART:20250309T070000
END:DAYLIGHT
BEGIN:STANDARD
TZOFFSETFROM:-0400
TZOFFSETTO:-0500
TZNAME:EST
DTSTART:20251102T060000
END:STANDARD
END:VTIMEZONE
BEGIN:VEVENT
DTSTART;TZID=America/New_York:20231215T160000
DTEND;TZID=America/New_York:20231216T000000
DTSTAMP:20260424T095408
CREATED:20230823T181927Z
LAST-MODIFIED:20240524T151200Z
UID:10004093-1702656000-1702684800@battlegroundz.net
SUMMARY:Airsoft Session Extension $10
DESCRIPTION:Buy a session of Airsoft and get the next same-day session for only $10 \n  \nSession 1 :4pm-8pm \nSession 2: 8pm-12am \n*Rental gear not included
URL:https://battlegroundz.net/event/buy-a-session-of-airsoft-and-get-the-next-same-day-session-for-only-10/2023-12-15/
LOCATION:RI
CATEGORIES:Airsoft
ATTACH;FMTTYPE=image/jpeg:https://battlegroundz.net/wp-content/uploads/2023/08/Airsoft-Extension-Friday.jpg
END:VEVENT
BEGIN:VEVENT
DTSTART;TZID=America/New_York:20231216T190000
DTEND;TZID=America/New_York:20231217T000000
DTSTAMP:20260424T095408
CREATED:20231204T184205Z
LAST-MODIFIED:20231204T184205Z
UID:10005224-1702753200-1702771200@battlegroundz.net
SUMMARY:Silent Night Zombie Night
DESCRIPTION:Horror Depot Presents: Silent Night Zombie Night \nFREE SHOWING
URL:https://battlegroundz.net/event/silent-night-zombie-night/
LOCATION:RI
CATEGORIES:Entertainment
ATTACH;FMTTYPE=image/jpeg:https://battlegroundz.net/wp-content/uploads/2023/12/Horror.jpg
END:VEVENT
BEGIN:VEVENT
DTSTART;TZID=America/New_York:20231218T170000
DTEND;TZID=America/New_York:20231218T220000
DTSTAMP:20260424T095408
CREATED:20231101T134631Z
LAST-MODIFIED:20231204T184506Z
UID:10004885-1702918800-1702936800@battlegroundz.net
SUMMARY:5 Games of Airsoft for the price of 3
DESCRIPTION:5 Games of Airsoft for the price of 3 \n$23 per person \nreg. price $28 \n*rental gear not included
URL:https://battlegroundz.net/event/5-games-of-airsoft-for-the-price-of-3-2/
LOCATION:RI
CATEGORIES:Airsoft
ATTACH;FMTTYPE=image/jpeg:https://battlegroundz.net/wp-content/uploads/2023/05/IMG_2339.jpg
END:VEVENT
BEGIN:VEVENT
DTSTART;TZID=America/New_York:20231219T170000
DTEND;TZID=America/New_York:20231219T220000
DTSTAMP:20260424T095408
CREATED:20230823T182227Z
LAST-MODIFIED:20240630T195615Z
UID:10004374-1703005200-1703023200@battlegroundz.net
SUMMARY:Airsoft $20 Tuesday
DESCRIPTION:5pm-10pm \n$20 \n5 Hours session of Unlimited Game Time + 2 slices of pizza \n*Rental gear not included
URL:https://battlegroundz.net/event/airsoft-20-tuesday-2/2023-12-19/
LOCATION:RI
CATEGORIES:Airsoft
ATTACH;FMTTYPE=image/png:https://battlegroundz.net/wp-content/uploads/2023/08/20-tuesday-new-post.png
END:VEVENT
BEGIN:VEVENT
DTSTART;TZID=America/New_York:20231222T160000
DTEND;TZID=America/New_York:20231223T000000
DTSTAMP:20260424T095408
CREATED:20230823T181927Z
LAST-MODIFIED:20240524T151200Z
UID:10004094-1703260800-1703289600@battlegroundz.net
SUMMARY:Airsoft Session Extension $10
DESCRIPTION:Buy a session of Airsoft and get the next same-day session for only $10 \n  \nSession 1 :4pm-8pm \nSession 2: 8pm-12am \n*Rental gear not included
URL:https://battlegroundz.net/event/buy-a-session-of-airsoft-and-get-the-next-same-day-session-for-only-10/2023-12-22/
LOCATION:RI
CATEGORIES:Airsoft
ATTACH;FMTTYPE=image/jpeg:https://battlegroundz.net/wp-content/uploads/2023/08/Airsoft-Extension-Friday.jpg
END:VEVENT
BEGIN:VEVENT
DTSTART;TZID=America/New_York:20231223T113000
DTEND;TZID=America/New_York:20231223T220000
DTSTAMP:20260424T095408
CREATED:20230630T165211Z
LAST-MODIFIED:20231204T184744Z
UID:10002685-1703331000-1703368800@battlegroundz.net
SUMMARY:Mess Hall Special
DESCRIPTION:American Cheeseburger & Small Fries $9.00 \n*food taxes not included in the price
URL:https://battlegroundz.net/event/mess-hall-special-20/
LOCATION:RI
CATEGORIES:Restaurant and Bar Specials
ATTACH;FMTTYPE=image/png:https://battlegroundz.net/wp-content/uploads/2023/05/Mess-hall.png
END:VEVENT
BEGIN:VEVENT
DTSTART;VALUE=DATE:20231224
DTEND;VALUE=DATE:20231226
DTSTAMP:20260424T095408
CREATED:20231204T185004Z
LAST-MODIFIED:20231204T185004Z
UID:10005225-1703379600-1703465999@battlegroundz.net
SUMMARY:SPECIAL HOURS 12-6pm
DESCRIPTION:Christmas Eve \nOpen 12pm-6pm \n  \n  \n 
URL:https://battlegroundz.net/event/special-hours-12-6pm/
LOCATION:RI
CATEGORIES:Experience Special Hours
END:VEVENT
BEGIN:VEVENT
DTSTART;TZID=America/New_York:20231224T120000
DTEND;TZID=America/New_York:20231224T180000
DTSTAMP:20260424T095408
CREATED:20231204T185501Z
LAST-MODIFIED:20231204T185501Z
UID:10005228-1703419200-1703440800@battlegroundz.net
SUMMARY:Airsoft Session $20
DESCRIPTION:Airsoft Session 12pm-6pm \nONLY $20
URL:https://battlegroundz.net/event/airsoft-session-12pm-6pm-only-20/
LOCATION:RI
CATEGORIES:Airsoft
ATTACH;FMTTYPE=image/jpeg:https://battlegroundz.net/wp-content/uploads/2023/05/IMG_2339.jpg
END:VEVENT
BEGIN:VEVENT
DTSTART;VALUE=DATE:20231226
DTEND;VALUE=DATE:20231228
DTSTAMP:20260424T095408
CREATED:20231204T185738Z
LAST-MODIFIED:20231204T185738Z
UID:10005230-1703552400-1703638799@battlegroundz.net
SUMMARY:SPECIAL HOURS!
DESCRIPTION:ALL FIELDS OPEN AT 12pm \n12pm-10pm \nAirsoft Sessions: \n1st Session: 12pm-5pm \n2nd Session: 5pm-10pm \n  \n 
URL:https://battlegroundz.net/event/special-hours-3/
LOCATION:RI
CATEGORIES:Experience Special Hours
END:VEVENT
BEGIN:VEVENT
DTSTART;TZID=America/New_York:20231226T170000
DTEND;TZID=America/New_York:20231226T220000
DTSTAMP:20260424T095408
CREATED:20230823T182227Z
LAST-MODIFIED:20240630T195615Z
UID:10004375-1703610000-1703628000@battlegroundz.net
SUMMARY:Airsoft $20 Tuesday
DESCRIPTION:5pm-10pm \n$20 \n5 Hours session of Unlimited Game Time + 2 slices of pizza \n*Rental gear not included
URL:https://battlegroundz.net/event/airsoft-20-tuesday-2/2023-12-26/
LOCATION:RI
CATEGORIES:Airsoft
ATTACH;FMTTYPE=image/png:https://battlegroundz.net/wp-content/uploads/2023/08/20-tuesday-new-post.png
END:VEVENT
BEGIN:VEVENT
DTSTART;VALUE=DATE:20231228
DTEND;VALUE=DATE:20231230
DTSTAMP:20260424T095408
CREATED:20231204T185757Z
LAST-MODIFIED:20231204T185757Z
UID:10005231-1703725200-1703811599@battlegroundz.net
SUMMARY:SPECIAL HOURS!
DESCRIPTION:ALL FIELDS OPEN AT 12pm \n12pm-10pm \nAirsoft Sessions: \n1st Session: 12pm-5pm \n2nd Session: 5pm-10pm \n  \n 
URL:https://battlegroundz.net/event/special-hours-4/
LOCATION:RI
CATEGORIES:Experience Special Hours
END:VEVENT
BEGIN:VEVENT
DTSTART;VALUE=DATE:20231229
DTEND;VALUE=DATE:20231231
DTSTAMP:20260424T095408
CREATED:20231204T185844Z
LAST-MODIFIED:20231204T185844Z
UID:10005232-1703811600-1703897999@battlegroundz.net
SUMMARY:SPECIAL HOURS!
DESCRIPTION:ALL FIELDS OPEN AT 12pm \n12pm-12am \nAirsoft Sessions: \n1st Session: 12pm-4pm \n2nd Session: 4pm-8pm \n3rd Session: 8pm-12am \n 
URL:https://battlegroundz.net/event/special-hours-5/
LOCATION:RI
CATEGORIES:Experience Special Hours
END:VEVENT
BEGIN:VEVENT
DTSTART;VALUE=DATE:20231231
DTEND;VALUE=DATE:20240102
DTSTAMP:20260424T095408
CREATED:20231204T185328Z
LAST-MODIFIED:20231204T185328Z
UID:10005227-1703984400-1704070799@battlegroundz.net
SUMMARY:SPECIAL HOURS 12-8pm
DESCRIPTION:New Years Eve \nOpen 12pm-8pm \n  \n  \n 
URL:https://battlegroundz.net/event/special-hours-12-8pm-2/
LOCATION:RI
CATEGORIES:Experience Special Hours
END:VEVENT
BEGIN:VEVENT
DTSTART;TZID=America/New_York:20231231T120000
DTEND;TZID=America/New_York:20231231T200000
DTSTAMP:20260424T095408
CREATED:20231204T185551Z
LAST-MODIFIED:20231204T185551Z
UID:10005229-1704024000-1704052800@battlegroundz.net
SUMMARY:Airsoft Session $20
DESCRIPTION:Airsoft Session 12pm-4pm or 4pm-8pm \nONLY $20 for a session
URL:https://battlegroundz.net/event/airsoft-session-20/
LOCATION:RI
CATEGORIES:Airsoft
ATTACH;FMTTYPE=image/jpeg:https://battlegroundz.net/wp-content/uploads/2023/05/IMG_2339.jpg
END:VEVENT
BEGIN:VEVENT
DTSTART;TZID=America/New_York:20240102T170000
DTEND;TZID=America/New_York:20240102T220000
DTSTAMP:20260424T095408
CREATED:20230823T182227Z
LAST-MODIFIED:20240630T195615Z
UID:10004376-1704214800-1704232800@battlegroundz.net
SUMMARY:Airsoft $20 Tuesday
DESCRIPTION:5pm-10pm \n$20 \n5 Hours session of Unlimited Game Time + 2 slices of pizza \n*Rental gear not included
URL:https://battlegroundz.net/event/airsoft-20-tuesday-2/2024-01-02/
LOCATION:RI
CATEGORIES:Airsoft
ATTACH;FMTTYPE=image/png:https://battlegroundz.net/wp-content/uploads/2023/08/20-tuesday-new-post.png
END:VEVENT
BEGIN:VEVENT
DTSTART;TZID=America/New_York:20240105T160000
DTEND;TZID=America/New_York:20240106T000000
DTSTAMP:20260424T095408
CREATED:20230823T181927Z
LAST-MODIFIED:20240524T151200Z
UID:10004096-1704470400-1704499200@battlegroundz.net
SUMMARY:Airsoft Session Extension $10
DESCRIPTION:Buy a session of Airsoft and get the next same-day session for only $10 \n  \nSession 1 :4pm-8pm \nSession 2: 8pm-12am \n*Rental gear not included
URL:https://battlegroundz.net/event/buy-a-session-of-airsoft-and-get-the-next-same-day-session-for-only-10/2024-01-05/
LOCATION:RI
CATEGORIES:Airsoft
ATTACH;FMTTYPE=image/jpeg:https://battlegroundz.net/wp-content/uploads/2023/08/Airsoft-Extension-Friday.jpg
END:VEVENT
BEGIN:VEVENT
DTSTART;TZID=America/New_York:20240109T170000
DTEND;TZID=America/New_York:20240109T220000
DTSTAMP:20260424T095408
CREATED:20230823T182227Z
LAST-MODIFIED:20240630T195615Z
UID:10004377-1704819600-1704837600@battlegroundz.net
SUMMARY:Airsoft $20 Tuesday
DESCRIPTION:5pm-10pm \n$20 \n5 Hours session of Unlimited Game Time + 2 slices of pizza \n*Rental gear not included
URL:https://battlegroundz.net/event/airsoft-20-tuesday-2/2024-01-09/
LOCATION:RI
CATEGORIES:Airsoft
ATTACH;FMTTYPE=image/png:https://battlegroundz.net/wp-content/uploads/2023/08/20-tuesday-new-post.png
END:VEVENT
BEGIN:VEVENT
DTSTART;TZID=America/New_York:20240112T160000
DTEND;TZID=America/New_York:20240113T000000
DTSTAMP:20260424T095408
CREATED:20230823T181927Z
LAST-MODIFIED:20240524T151200Z
UID:10004097-1705075200-1705104000@battlegroundz.net
SUMMARY:Airsoft Session Extension $10
DESCRIPTION:Buy a session of Airsoft and get the next same-day session for only $10 \n  \nSession 1 :4pm-8pm \nSession 2: 8pm-12am \n*Rental gear not included
URL:https://battlegroundz.net/event/buy-a-session-of-airsoft-and-get-the-next-same-day-session-for-only-10/2024-01-12/
LOCATION:RI
CATEGORIES:Airsoft
ATTACH;FMTTYPE=image/jpeg:https://battlegroundz.net/wp-content/uploads/2023/08/Airsoft-Extension-Friday.jpg
END:VEVENT
BEGIN:VEVENT
DTSTART;TZID=America/New_York:20240114T120000
DTEND;TZID=America/New_York:20240114T200000
DTSTAMP:20260424T095408
CREATED:20230530T204104Z
LAST-MODIFIED:20240104T161046Z
UID:10002132-1705233600-1705262400@battlegroundz.net
SUMMARY:Mess Hall Special
DESCRIPTION:4 pc Chicken Tenders with Fries $7.99 \n*food taxes not included in the price
URL:https://battlegroundz.net/event/mess-hall-special-14/
LOCATION:RI
CATEGORIES:Restaurant and Bar Specials
ATTACH;FMTTYPE=image/png:https://battlegroundz.net/wp-content/uploads/2023/05/Mess-hall.png
END:VEVENT
BEGIN:VEVENT
DTSTART;VALUE=DATE:20240115
DTEND;VALUE=DATE:20240117
DTSTAMP:20260424T095408
CREATED:20231204T190039Z
LAST-MODIFIED:20240104T161251Z
UID:10005233-1705280400-1705366799@battlegroundz.net
SUMMARY:MLK DAY! SPECIAL HOURS!
DESCRIPTION:ALL FIELDS OPEN AT 12pm \n12pm-10pm \nAirsoft Sessions: \n1st Session: 12pm-5pm \n2nd Session: 5pm-10pm \n  \n 
URL:https://battlegroundz.net/event/special-hours-6/
LOCATION:RI
CATEGORIES:Experience Special Hours
END:VEVENT
BEGIN:VEVENT
DTSTART;TZID=America/New_York:20240115T120000
DTEND;TZID=America/New_York:20240115T220000
DTSTAMP:20260424T095408
CREATED:20230630T174125Z
LAST-MODIFIED:20240104T162932Z
UID:10002702-1705320000-1705356000@battlegroundz.net
SUMMARY:Mix-N-Match Matinee Special All Day
DESCRIPTION:Buy 2 Rounds of Mix-N-Match and get 1 round FREE $14 per person \n  \n*Mix-N-Match can be used between Lazer Tag\, Gel Blasters\, Dart Wars and Dodgeball
URL:https://battlegroundz.net/event/mix-n-match-matinee-special-all-day-3/
LOCATION:RI
CATEGORIES:Lazer Tag
ATTACH;FMTTYPE=image/png:https://battlegroundz.net/wp-content/uploads/2023/06/mix-n-match.png
END:VEVENT
BEGIN:VEVENT
DTSTART;TZID=America/New_York:20240116T170000
DTEND;TZID=America/New_York:20240116T220000
DTSTAMP:20260424T095408
CREATED:20230823T182227Z
LAST-MODIFIED:20240630T195615Z
UID:10004378-1705424400-1705442400@battlegroundz.net
SUMMARY:Airsoft $20 Tuesday
DESCRIPTION:5pm-10pm \n$20 \n5 Hours session of Unlimited Game Time + 2 slices of pizza \n*Rental gear not included
URL:https://battlegroundz.net/event/airsoft-20-tuesday-2/2024-01-16/
LOCATION:RI
CATEGORIES:Airsoft
ATTACH;FMTTYPE=image/png:https://battlegroundz.net/wp-content/uploads/2023/08/20-tuesday-new-post.png
END:VEVENT
BEGIN:VEVENT
DTSTART;TZID=America/New_York:20240117T170000
DTEND;TZID=America/New_York:20240117T220000
DTSTAMP:20260424T095408
CREATED:20230630T174315Z
LAST-MODIFIED:20240104T161409Z
UID:10002704-1705510800-1705528800@battlegroundz.net
SUMMARY:5 Games of Airsoft for the price of 3
DESCRIPTION:5 Games of Airsoft for the price of 3 \n$23 per person \n(regular price $28) \n*rental gear not included
URL:https://battlegroundz.net/event/5-games-of-airsoft-for-the-price-of-3/
LOCATION:RI
CATEGORIES:Airsoft
ATTACH;FMTTYPE=image/jpeg:https://battlegroundz.net/wp-content/uploads/2023/05/IMG_2339.jpg
END:VEVENT
BEGIN:VEVENT
DTSTART;TZID=America/New_York:20240118T170000
DTEND;TZID=America/New_York:20240118T210000
DTSTAMP:20260424T095408
CREATED:20230630T173523Z
LAST-MODIFIED:20240104T161625Z
UID:10002696-1705597200-1705611600@battlegroundz.net
SUMMARY:4 Hours of Unlimited Lazer Tag for $20 per person
DESCRIPTION:4 Hours of Unlimited Lazer Tag for $20 per person
URL:https://battlegroundz.net/event/4-hours-of-unlimited-lazer-tag-for-25-per-person/
LOCATION:RI
CATEGORIES:Lazer Tag
ATTACH;FMTTYPE=image/jpeg:https://battlegroundz.net/wp-content/uploads/2023/04/IMG_1681.jpg
END:VEVENT
BEGIN:VEVENT
DTSTART;TZID=America/New_York:20240119T160000
DTEND;TZID=America/New_York:20240120T000000
DTSTAMP:20260424T095408
CREATED:20230823T181927Z
LAST-MODIFIED:20240524T151200Z
UID:10004098-1705680000-1705708800@battlegroundz.net
SUMMARY:Airsoft Session Extension $10
DESCRIPTION:Buy a session of Airsoft and get the next same-day session for only $10 \n  \nSession 1 :4pm-8pm \nSession 2: 8pm-12am \n*Rental gear not included
URL:https://battlegroundz.net/event/buy-a-session-of-airsoft-and-get-the-next-same-day-session-for-only-10/2024-01-19/
LOCATION:RI
CATEGORIES:Airsoft
ATTACH;FMTTYPE=image/jpeg:https://battlegroundz.net/wp-content/uploads/2023/08/Airsoft-Extension-Friday.jpg
END:VEVENT
BEGIN:VEVENT
DTSTART;TZID=America/New_York:20240119T190000
DTEND;TZID=America/New_York:20240119T210000
DTSTAMP:20260424T095408
CREATED:20231101T143640Z
LAST-MODIFIED:20240104T161901Z
UID:10005200-1705690800-1705698000@battlegroundz.net
SUMMARY:PAINT NITE
DESCRIPTION:7pm \nPaint Nite \nHosted by Joshua Altobelli \n\nUNLEASH YOUR INNER ARTIST\n\nThis week\, your favorite local bar becomes the most rocking art museum\, full of your own creations! At the Original Paint Nite\, a talented local artist will take you through all the steps from blank canvas to finished painting\, all while you drink\, laugh (and maybe even dance to some tunes). It’s a party and a class all at once! No experience necessary\, just bring your friends and your fun and we’ll do the rest \n\nSING UP TODAY! \nhttps://www.paintnite.com/us/ri/lincoln/23268/events/battlegroundz/november-17/black-light-halloween-painting-at-battleground-z-copy-10319138/ \n\n 
URL:https://battlegroundz.net/event/paint-nite-2/
LOCATION:RI
CATEGORIES:Classes
ATTACH;FMTTYPE=image/webp:https://battlegroundz.net/wp-content/uploads/2023/11/janpaintnite.webp
END:VEVENT
BEGIN:VEVENT
DTSTART;TZID=America/New_York:20240123T170000
DTEND;TZID=America/New_York:20240123T220000
DTSTAMP:20260424T095408
CREATED:20230823T182227Z
LAST-MODIFIED:20240630T195615Z
UID:10004379-1706029200-1706047200@battlegroundz.net
SUMMARY:Airsoft $20 Tuesday
DESCRIPTION:5pm-10pm \n$20 \n5 Hours session of Unlimited Game Time + 2 slices of pizza \n*Rental gear not included
URL:https://battlegroundz.net/event/airsoft-20-tuesday-2/2024-01-23/
LOCATION:RI
CATEGORIES:Airsoft
ATTACH;FMTTYPE=image/png:https://battlegroundz.net/wp-content/uploads/2023/08/20-tuesday-new-post.png
END:VEVENT
BEGIN:VEVENT
DTSTART;TZID=America/New_York:20240124T120000
DTEND;TZID=America/New_York:20240124T220000
DTSTAMP:20260424T095408
CREATED:20230501T174637Z
LAST-MODIFIED:20240104T162206Z
UID:10001592-1706097600-1706133600@battlegroundz.net
SUMMARY:Lazer Tag Matinee Pricing ALL Day!
DESCRIPTION:Buy 2 Rounds of Lazer Tag and get 1 FREE $14 per person
URL:https://battlegroundz.net/event/lazer-tag-matinee-pricing-all-day-2/
LOCATION:RI
CATEGORIES:Lazer Tag
ATTACH;FMTTYPE=image/jpeg:https://battlegroundz.net/wp-content/uploads/2023/04/IMG_1681.jpg
END:VEVENT
BEGIN:VEVENT
DTSTART;TZID=America/New_York:20240126T160000
DTEND;TZID=America/New_York:20240127T000000
DTSTAMP:20260424T095408
CREATED:20230823T181927Z
LAST-MODIFIED:20240524T151200Z
UID:10004099-1706284800-1706313600@battlegroundz.net
SUMMARY:Airsoft Session Extension $10
DESCRIPTION:Buy a session of Airsoft and get the next same-day session for only $10 \n  \nSession 1 :4pm-8pm \nSession 2: 8pm-12am \n*Rental gear not included
URL:https://battlegroundz.net/event/buy-a-session-of-airsoft-and-get-the-next-same-day-session-for-only-10/2024-01-26/
LOCATION:RI
CATEGORIES:Airsoft
ATTACH;FMTTYPE=image/jpeg:https://battlegroundz.net/wp-content/uploads/2023/08/Airsoft-Extension-Friday.jpg
END:VEVENT
BEGIN:VEVENT
DTSTART;TZID=America/New_York:20240130T170000
DTEND;TZID=America/New_York:20240130T220000
DTSTAMP:20260424T095408
CREATED:20230823T182227Z
LAST-MODIFIED:20240630T195615Z
UID:10004380-1706634000-1706652000@battlegroundz.net
SUMMARY:Airsoft $20 Tuesday
DESCRIPTION:5pm-10pm \n$20 \n5 Hours session of Unlimited Game Time + 2 slices of pizza \n*Rental gear not included
URL:https://battlegroundz.net/event/airsoft-20-tuesday-2/2024-01-30/
LOCATION:RI
CATEGORIES:Airsoft
ATTACH;FMTTYPE=image/png:https://battlegroundz.net/wp-content/uploads/2023/08/20-tuesday-new-post.png
END:VEVENT
END:VCALENDAR