BEGIN:VCALENDAR
VERSION:2.0
PRODID:-//BattleGroundZ - ECPv6.15.20//NONSGML v1.0//EN
CALSCALE:GREGORIAN
METHOD:PUBLISH
X-WR-CALNAME:BattleGroundZ
X-ORIGINAL-URL:https://battlegroundz.net
X-WR-CALDESC:Events for BattleGroundZ
REFRESH-INTERVAL;VALUE=DURATION:PT1H
X-Robots-Tag:noindex
X-PUBLISHED-TTL:PT1H
BEGIN:VTIMEZONE
TZID:America/New_York
BEGIN:DAYLIGHT
TZOFFSETFROM:-0500
TZOFFSETTO:-0400
TZNAME:EDT
DTSTART:20230312T070000
END:DAYLIGHT
BEGIN:STANDARD
TZOFFSETFROM:-0400
TZOFFSETTO:-0500
TZNAME:EST
DTSTART:20231105T060000
END:STANDARD
BEGIN:DAYLIGHT
TZOFFSETFROM:-0500
TZOFFSETTO:-0400
TZNAME:EDT
DTSTART:20240310T070000
END:DAYLIGHT
BEGIN:STANDARD
TZOFFSETFROM:-0400
TZOFFSETTO:-0500
TZNAME:EST
DTSTART:20241103T060000
END:STANDARD
BEGIN:DAYLIGHT
TZOFFSETFROM:-0500
TZOFFSETTO:-0400
TZNAME:EDT
DTSTART:20250309T070000
END:DAYLIGHT
BEGIN:STANDARD
TZOFFSETFROM:-0400
TZOFFSETTO:-0500
TZNAME:EST
DTSTART:20251102T060000
END:STANDARD
END:VTIMEZONE
BEGIN:VEVENT
DTSTART;TZID=America/New_York:20240423T170000
DTEND;TZID=America/New_York:20240423T220000
DTSTAMP:20260421T184124
CREATED:20230823T182227Z
LAST-MODIFIED:20240630T195615Z
UID:10004392-1713891600-1713909600@battlegroundz.net
SUMMARY:Airsoft $20 Tuesday
DESCRIPTION:5pm-10pm \n$20 \n5 Hours session of Unlimited Game Time + 2 slices of pizza \n*Rental gear not included
URL:https://battlegroundz.net/event/airsoft-20-tuesday-2/2024-04-23/
LOCATION:RI
CATEGORIES:Airsoft
ATTACH;FMTTYPE=image/png:https://battlegroundz.net/wp-content/uploads/2023/08/20-tuesday-new-post.png
END:VEVENT
BEGIN:VEVENT
DTSTART;TZID=America/New_York:20240422T170000
DTEND;TZID=America/New_York:20240422T220000
DTSTAMP:20260421T184124
CREATED:20231101T135914Z
LAST-MODIFIED:20240401T174153Z
UID:10004886-1713805200-1713823200@battlegroundz.net
SUMMARY:FREE Game of Lazer Tag when you purchase 3 game of Paintball
DESCRIPTION:FREE Game of Lazer Tag when you purchase 3 game of Paintball $35 per person
URL:https://battlegroundz.net/event/free-game-of-lazer-tag-when-you-purchase-3-game-of-paintball/
LOCATION:RI
CATEGORIES:Lazer Tag,Paintball
ATTACH;FMTTYPE=image/jpeg:https://battlegroundz.net/wp-content/uploads/2023/11/IMG_2278.jpg
END:VEVENT
BEGIN:VEVENT
DTSTART;TZID=America/New_York:20240421T150000
DTEND;TZID=America/New_York:20240421T170000
DTSTAMP:20260421T184124
CREATED:20240401T174103Z
LAST-MODIFIED:20240401T174933Z
UID:10005314-1713711600-1713718800@battlegroundz.net
SUMMARY:PAINT NITE: Teal Tree in Moonlight
DESCRIPTION:3pm \nPaint Nite \nHosted by Joshua Altobelli \n\nPaint Night: Unleash your inner artist\n\n\nLet’s have fun with painting a nice teal tree and a moon. Come relax on a Sunday afternoon\, eat\, drink\, and socialize as we paint this tranquil scene. Have kids? They can go play games in the meantime! Supplies are provided. Drinks and food are sold separately. No prior experience is necessary. Best painting of the night can win a prize! \n\n\nSIGN UP TODAY! \nhttps://www.paintnite.com/us/ri/lincoln/23268/events/battlegroundz/april-21/teal-tree-at-battleground-z-10329702/ \n\n 
URL:https://battlegroundz.net/event/paint-nite-teal-tree-in-moonlight/
LOCATION:RI
CATEGORIES:Classes
ATTACH;FMTTYPE=image/webp:https://battlegroundz.net/wp-content/uploads/2024/04/april-picture.webp
END:VEVENT
BEGIN:VEVENT
DTSTART;VALUE=DATE:20240418
DTEND;VALUE=DATE:20240420
DTSTAMP:20260421T184124
CREATED:20240401T180505Z
LAST-MODIFIED:20240401T180505Z
UID:10005318-1713402000-1713488399@battlegroundz.net
SUMMARY:SPECIAL HOURS!
DESCRIPTION:ALL FIELDS OPEN AT 12pm \n12pm-10pm \nAirsoft Sessions: \n1st Session: 12pm-5pm \n2nd Session: 5pm-10pm \n  \n 
URL:https://battlegroundz.net/event/special-hours-14/
LOCATION:RI
CATEGORIES:Experience Special Hours
END:VEVENT
BEGIN:VEVENT
DTSTART;VALUE=DATE:20240417
DTEND;VALUE=DATE:20240419
DTSTAMP:20260421T184124
CREATED:20240401T180450Z
LAST-MODIFIED:20240401T180450Z
UID:10005317-1713315600-1713401999@battlegroundz.net
SUMMARY:SPECIAL HOURS!
DESCRIPTION:ALL FIELDS OPEN AT 12pm \n12pm-10pm \nAirsoft Sessions: \n1st Session: 12pm-5pm \n2nd Session: 5pm-10pm \n  \n 
URL:https://battlegroundz.net/event/special-hours-13/
LOCATION:RI
CATEGORIES:Experience Special Hours
END:VEVENT
BEGIN:VEVENT
DTSTART;TZID=America/New_York:20240416T170000
DTEND;TZID=America/New_York:20240416T220000
DTSTAMP:20260421T184124
CREATED:20230823T182227Z
LAST-MODIFIED:20240630T195615Z
UID:10004391-1713286800-1713304800@battlegroundz.net
SUMMARY:Airsoft $20 Tuesday
DESCRIPTION:5pm-10pm \n$20 \n5 Hours session of Unlimited Game Time + 2 slices of pizza \n*Rental gear not included
URL:https://battlegroundz.net/event/airsoft-20-tuesday-2/2024-04-16/
LOCATION:RI
CATEGORIES:Airsoft
ATTACH;FMTTYPE=image/png:https://battlegroundz.net/wp-content/uploads/2023/08/20-tuesday-new-post.png
END:VEVENT
BEGIN:VEVENT
DTSTART;VALUE=DATE:20240415
DTEND;VALUE=DATE:20240417
DTSTAMP:20260421T184124
CREATED:20240208T154518Z
LAST-MODIFIED:20240401T175152Z
UID:10005278-1713142800-1713229199@battlegroundz.net
SUMMARY:SPECIAL HOURS!
DESCRIPTION:ALL FIELDS OPEN AT 12pm \n12pm-10pm \nAirsoft Sessions: \n1st Session: 12pm-5pm \n2nd Session: 5pm-10pm \n  \n 
URL:https://battlegroundz.net/event/special-hours-11/
LOCATION:RI
CATEGORIES:Experience Special Hours
END:VEVENT
BEGIN:VEVENT
DTSTART;TZID=America/New_York:20240412T160000
DTEND;TZID=America/New_York:20240413T000000
DTSTAMP:20260421T184124
CREATED:20230823T181927Z
LAST-MODIFIED:20240524T151200Z
UID:10004110-1712937600-1712966400@battlegroundz.net
SUMMARY:Airsoft Session Extension $10
DESCRIPTION:Buy a session of Airsoft and get the next same-day session for only $10 \n  \nSession 1 :4pm-8pm \nSession 2: 8pm-12am \n*Rental gear not included
URL:https://battlegroundz.net/event/buy-a-session-of-airsoft-and-get-the-next-same-day-session-for-only-10/2024-04-12/
LOCATION:RI
CATEGORIES:Airsoft
ATTACH;FMTTYPE=image/jpeg:https://battlegroundz.net/wp-content/uploads/2023/08/Airsoft-Extension-Friday.jpg
END:VEVENT
BEGIN:VEVENT
DTSTART;TZID=America/New_York:20240409T170000
DTEND;TZID=America/New_York:20240409T220000
DTSTAMP:20260421T184124
CREATED:20230823T182227Z
LAST-MODIFIED:20240630T195615Z
UID:10004390-1712682000-1712700000@battlegroundz.net
SUMMARY:Airsoft $20 Tuesday
DESCRIPTION:5pm-10pm \n$20 \n5 Hours session of Unlimited Game Time + 2 slices of pizza \n*Rental gear not included
URL:https://battlegroundz.net/event/airsoft-20-tuesday-2/2024-04-09/
LOCATION:RI
CATEGORIES:Airsoft
ATTACH;FMTTYPE=image/png:https://battlegroundz.net/wp-content/uploads/2023/08/20-tuesday-new-post.png
END:VEVENT
BEGIN:VEVENT
DTSTART;TZID=America/New_York:20240405T160000
DTEND;TZID=America/New_York:20240406T000000
DTSTAMP:20260421T184124
CREATED:20230823T181927Z
LAST-MODIFIED:20240524T151200Z
UID:10004109-1712332800-1712361600@battlegroundz.net
SUMMARY:Airsoft Session Extension $10
DESCRIPTION:Buy a session of Airsoft and get the next same-day session for only $10 \n  \nSession 1 :4pm-8pm \nSession 2: 8pm-12am \n*Rental gear not included
URL:https://battlegroundz.net/event/buy-a-session-of-airsoft-and-get-the-next-same-day-session-for-only-10/2024-04-05/
LOCATION:RI
CATEGORIES:Airsoft
ATTACH;FMTTYPE=image/jpeg:https://battlegroundz.net/wp-content/uploads/2023/08/Airsoft-Extension-Friday.jpg
END:VEVENT
BEGIN:VEVENT
DTSTART;TZID=America/New_York:20240402T170000
DTEND;TZID=America/New_York:20240402T220000
DTSTAMP:20260421T184124
CREATED:20230823T182227Z
LAST-MODIFIED:20240630T195615Z
UID:10004389-1712077200-1712095200@battlegroundz.net
SUMMARY:Airsoft $20 Tuesday
DESCRIPTION:5pm-10pm \n$20 \n5 Hours session of Unlimited Game Time + 2 slices of pizza \n*Rental gear not included
URL:https://battlegroundz.net/event/airsoft-20-tuesday-2/2024-04-02/
LOCATION:RI
CATEGORIES:Airsoft
ATTACH;FMTTYPE=image/png:https://battlegroundz.net/wp-content/uploads/2023/08/20-tuesday-new-post.png
END:VEVENT
BEGIN:VEVENT
DTSTART;VALUE=DATE:20240331
DTEND;VALUE=DATE:20240402
DTSTAMP:20260421T184124
CREATED:20240229T173435Z
LAST-MODIFIED:20240229T173435Z
UID:10005312-1711846800-1711933199@battlegroundz.net
SUMMARY:EASTER! SPECIAL HOURS!
DESCRIPTION:ALL FIELDS OPEN AT 4pm \n4pm-10pm \nAirsoft Sessions: \n1st Session: 4pm-10pm \n  \n*$25 Airsoft Session for 6 Hours of Game Time \nRental not included \n  \n  \n 
URL:https://battlegroundz.net/event/easter-special-hours/
LOCATION:RI
CATEGORIES:Experience Special Hours
END:VEVENT
BEGIN:VEVENT
DTSTART;TZID=America/New_York:20240329T190000
DTEND;TZID=America/New_York:20240329T210000
DTSTAMP:20260421T184124
CREATED:20240229T155822Z
LAST-MODIFIED:20240229T155822Z
UID:10005307-1711738800-1711746000@battlegroundz.net
SUMMARY:PAINT NITE: Spring Melt Down
DESCRIPTION:7pm \nPaint Nite \nHosted by Joshua Altobelli \n\nUNLEASH YOUR INNER ARTIST\n\nLet’s celebrate St. Patrick’s Day with a little greenery! Come and paint this nice scene of a stream as we eat\, drink\, and socialize! Tickets have to be bought before the event on Paintnite.com. Supplies are provided. Food and Drinks are available for purchase. No prior experience is necessary. Best painting of the night can win a prize! \n\nSIGN UP TODAY! \nhttps://www.paintnite.com/us/ri/lincoln/23268/events/battlegroundz/march-29/green-waterfall-at-battleground-z-10323295/ \n\n 
URL:https://battlegroundz.net/event/paint-nite-spring-melt-down/
LOCATION:RI
CATEGORIES:Classes
ATTACH;FMTTYPE=image/webp:https://battlegroundz.net/wp-content/uploads/2024/02/marchpaintnite.webp
END:VEVENT
BEGIN:VEVENT
DTSTART;VALUE=DATE:20240329
DTEND;VALUE=DATE:20240331
DTSTAMP:20260421T184124
CREATED:20240229T155540Z
LAST-MODIFIED:20240229T155540Z
UID:10005306-1711674000-1711760399@battlegroundz.net
SUMMARY:GOOD FRIDAY! SPECIAL HOURS!
DESCRIPTION:ALL FIELDS OPEN AT 12pm \n12pm-12am \nAirsoft Sessions: \n1st Session: 12pm-4pm \n2nd Session: 4pm-8pm \n3rd Session: 8pm-12am \n  \n 
URL:https://battlegroundz.net/event/good-friday-special-hours/
LOCATION:RI
CATEGORIES:Experience Special Hours
END:VEVENT
BEGIN:VEVENT
DTSTART;TZID=America/New_York:20240326T170000
DTEND;TZID=America/New_York:20240326T220000
DTSTAMP:20260421T184124
CREATED:20230823T182227Z
LAST-MODIFIED:20240630T195615Z
UID:10004388-1711472400-1711490400@battlegroundz.net
SUMMARY:Airsoft $20 Tuesday
DESCRIPTION:5pm-10pm \n$20 \n5 Hours session of Unlimited Game Time + 2 slices of pizza \n*Rental gear not included
URL:https://battlegroundz.net/event/airsoft-20-tuesday-2/2024-03-26/
LOCATION:RI
CATEGORIES:Airsoft
ATTACH;FMTTYPE=image/png:https://battlegroundz.net/wp-content/uploads/2023/08/20-tuesday-new-post.png
END:VEVENT
BEGIN:VEVENT
DTSTART;TZID=America/New_York:20240325T170000
DTEND;TZID=America/New_York:20240325T220000
DTSTAMP:20260421T184124
CREATED:20230501T174255Z
LAST-MODIFIED:20240229T172851Z
UID:10001591-1711386000-1711404000@battlegroundz.net
SUMMARY:Buy a Session of Airsoft and get one HALF OFF
DESCRIPTION:Buy a Session of Airsoft for $30 and get one HALF OFF for $15! \n  \n*Rental gear not included
URL:https://battlegroundz.net/event/buy-a-session-of-airsoft-and-your-friend-gets-one-half-off-2/
LOCATION:RI
CATEGORIES:Airsoft
ATTACH;FMTTYPE=image/jpeg:https://battlegroundz.net/wp-content/uploads/2023/05/IMG_2339.jpg
END:VEVENT
BEGIN:VEVENT
DTSTART;TZID=America/New_York:20240322T160000
DTEND;TZID=America/New_York:20240323T000000
DTSTAMP:20260421T184124
CREATED:20230823T181927Z
LAST-MODIFIED:20240524T151200Z
UID:10004107-1711123200-1711152000@battlegroundz.net
SUMMARY:Airsoft Session Extension $10
DESCRIPTION:Buy a session of Airsoft and get the next same-day session for only $10 \n  \nSession 1 :4pm-8pm \nSession 2: 8pm-12am \n*Rental gear not included
URL:https://battlegroundz.net/event/buy-a-session-of-airsoft-and-get-the-next-same-day-session-for-only-10/2024-03-22/
LOCATION:RI
CATEGORIES:Airsoft
ATTACH;FMTTYPE=image/jpeg:https://battlegroundz.net/wp-content/uploads/2023/08/Airsoft-Extension-Friday.jpg
END:VEVENT
BEGIN:VEVENT
DTSTART;TZID=America/New_York:20240319T170000
DTEND;TZID=America/New_York:20240319T220000
DTSTAMP:20260421T184124
CREATED:20230823T182227Z
LAST-MODIFIED:20240630T195615Z
UID:10004387-1710867600-1710885600@battlegroundz.net
SUMMARY:Airsoft $20 Tuesday
DESCRIPTION:5pm-10pm \n$20 \n5 Hours session of Unlimited Game Time + 2 slices of pizza \n*Rental gear not included
URL:https://battlegroundz.net/event/airsoft-20-tuesday-2/2024-03-19/
LOCATION:RI
CATEGORIES:Airsoft
ATTACH;FMTTYPE=image/png:https://battlegroundz.net/wp-content/uploads/2023/08/20-tuesday-new-post.png
END:VEVENT
BEGIN:VEVENT
DTSTART;TZID=America/New_York:20240317T120000
DTEND;TZID=America/New_York:20240317T220000
DTSTAMP:20260421T184124
CREATED:20240229T172448Z
LAST-MODIFIED:20240229T172448Z
UID:10003233-1710676800-1710712800@battlegroundz.net
SUMMARY:St. Patrick's Day Drink Specials
DESCRIPTION:St. Patrick’s Day Drink Specials \n  \nThe Nutty Irishman : is a smooth and creamy cocktail made with Baily’s Irish Cream\, Skrewball Peanut Butter Whiskey and a hint of milk \nLeprechaun Cheesecake: The Leprechaun Cheesecake is a sweet and flavorful cocktail made with Baily’s Irish Cream\, Stoli Vanilla Vodka with a hint of mint liqueur and milk
URL:https://battlegroundz.net/event/battle-bar-drink-specials-2-2/
LOCATION:RI
CATEGORIES:Restaurant and Bar Specials
ATTACH;FMTTYPE=image/png:https://battlegroundz.net/wp-content/uploads/2023/07/St.-Patricks-Cocktails.png
END:VEVENT
BEGIN:VEVENT
DTSTART;TZID=America/New_York:20240315T160000
DTEND;TZID=America/New_York:20240316T000000
DTSTAMP:20260421T184124
CREATED:20230823T181927Z
LAST-MODIFIED:20240524T151200Z
UID:10004106-1710518400-1710547200@battlegroundz.net
SUMMARY:Airsoft Session Extension $10
DESCRIPTION:Buy a session of Airsoft and get the next same-day session for only $10 \n  \nSession 1 :4pm-8pm \nSession 2: 8pm-12am \n*Rental gear not included
URL:https://battlegroundz.net/event/buy-a-session-of-airsoft-and-get-the-next-same-day-session-for-only-10/2024-03-15/
LOCATION:RI
CATEGORIES:Airsoft
ATTACH;FMTTYPE=image/jpeg:https://battlegroundz.net/wp-content/uploads/2023/08/Airsoft-Extension-Friday.jpg
END:VEVENT
BEGIN:VEVENT
DTSTART;TZID=America/New_York:20240312T170000
DTEND;TZID=America/New_York:20240312T220000
DTSTAMP:20260421T184124
CREATED:20230823T182227Z
LAST-MODIFIED:20240630T195615Z
UID:10004386-1710262800-1710280800@battlegroundz.net
SUMMARY:Airsoft $20 Tuesday
DESCRIPTION:5pm-10pm \n$20 \n5 Hours session of Unlimited Game Time + 2 slices of pizza \n*Rental gear not included
URL:https://battlegroundz.net/event/airsoft-20-tuesday-2/2024-03-12/
LOCATION:RI
CATEGORIES:Airsoft
ATTACH;FMTTYPE=image/png:https://battlegroundz.net/wp-content/uploads/2023/08/20-tuesday-new-post.png
END:VEVENT
BEGIN:VEVENT
DTSTART;TZID=America/New_York:20240308T160000
DTEND;TZID=America/New_York:20240309T000000
DTSTAMP:20260421T184124
CREATED:20230823T181927Z
LAST-MODIFIED:20240524T151200Z
UID:10004105-1709913600-1709942400@battlegroundz.net
SUMMARY:Airsoft Session Extension $10
DESCRIPTION:Buy a session of Airsoft and get the next same-day session for only $10 \n  \nSession 1 :4pm-8pm \nSession 2: 8pm-12am \n*Rental gear not included
URL:https://battlegroundz.net/event/buy-a-session-of-airsoft-and-get-the-next-same-day-session-for-only-10/2024-03-08/
LOCATION:RI
CATEGORIES:Airsoft
ATTACH;FMTTYPE=image/jpeg:https://battlegroundz.net/wp-content/uploads/2023/08/Airsoft-Extension-Friday.jpg
END:VEVENT
BEGIN:VEVENT
DTSTART;TZID=America/New_York:20240305T170000
DTEND;TZID=America/New_York:20240305T220000
DTSTAMP:20260421T184124
CREATED:20230823T182227Z
LAST-MODIFIED:20240630T195615Z
UID:10004385-1709658000-1709676000@battlegroundz.net
SUMMARY:Airsoft $20 Tuesday
DESCRIPTION:5pm-10pm \n$20 \n5 Hours session of Unlimited Game Time + 2 slices of pizza \n*Rental gear not included
URL:https://battlegroundz.net/event/airsoft-20-tuesday-2/2024-03-05/
LOCATION:RI
CATEGORIES:Airsoft
ATTACH;FMTTYPE=image/png:https://battlegroundz.net/wp-content/uploads/2023/08/20-tuesday-new-post.png
END:VEVENT
BEGIN:VEVENT
DTSTART;TZID=America/New_York:20240301T160000
DTEND;TZID=America/New_York:20240302T000000
DTSTAMP:20260421T184124
CREATED:20230823T181927Z
LAST-MODIFIED:20240524T151200Z
UID:10004104-1709308800-1709337600@battlegroundz.net
SUMMARY:Airsoft Session Extension $10
DESCRIPTION:Buy a session of Airsoft and get the next same-day session for only $10 \n  \nSession 1 :4pm-8pm \nSession 2: 8pm-12am \n*Rental gear not included
URL:https://battlegroundz.net/event/buy-a-session-of-airsoft-and-get-the-next-same-day-session-for-only-10/2024-03-01/
LOCATION:RI
CATEGORIES:Airsoft
ATTACH;FMTTYPE=image/jpeg:https://battlegroundz.net/wp-content/uploads/2023/08/Airsoft-Extension-Friday.jpg
END:VEVENT
BEGIN:VEVENT
DTSTART;TZID=America/New_York:20240227T170000
DTEND;TZID=America/New_York:20240227T220000
DTSTAMP:20260421T184124
CREATED:20230823T182227Z
LAST-MODIFIED:20240630T195615Z
UID:10004384-1709053200-1709071200@battlegroundz.net
SUMMARY:Airsoft $20 Tuesday
DESCRIPTION:5pm-10pm \n$20 \n5 Hours session of Unlimited Game Time + 2 slices of pizza \n*Rental gear not included
URL:https://battlegroundz.net/event/airsoft-20-tuesday-2/2024-02-27/
LOCATION:RI
CATEGORIES:Airsoft
ATTACH;FMTTYPE=image/png:https://battlegroundz.net/wp-content/uploads/2023/08/20-tuesday-new-post.png
END:VEVENT
BEGIN:VEVENT
DTSTART;VALUE=DATE:20240221
DTEND;VALUE=DATE:20240223
DTSTAMP:20260421T184124
CREATED:20240208T154459Z
LAST-MODIFIED:20240208T154459Z
UID:10005277-1708477200-1708563599@battlegroundz.net
SUMMARY:SPECIAL HOURS!
DESCRIPTION:ALL FIELDS OPEN AT 12pm \n12pm-10pm \nAirsoft Sessions: \n1st Session: 12pm-5pm \n2nd Session: 5pm-10pm \n  \n 
URL:https://battlegroundz.net/event/special-hours-10/
LOCATION:RI
CATEGORIES:Experience Special Hours
END:VEVENT
BEGIN:VEVENT
DTSTART;TZID=America/New_York:20240220T170000
DTEND;TZID=America/New_York:20240220T220000
DTSTAMP:20260421T184124
CREATED:20230823T182227Z
LAST-MODIFIED:20240630T195615Z
UID:10004383-1708448400-1708466400@battlegroundz.net
SUMMARY:Airsoft $20 Tuesday
DESCRIPTION:5pm-10pm \n$20 \n5 Hours session of Unlimited Game Time + 2 slices of pizza \n*Rental gear not included
URL:https://battlegroundz.net/event/airsoft-20-tuesday-2/2024-02-20/
LOCATION:RI
CATEGORIES:Airsoft
ATTACH;FMTTYPE=image/png:https://battlegroundz.net/wp-content/uploads/2023/08/20-tuesday-new-post.png
END:VEVENT
BEGIN:VEVENT
DTSTART;VALUE=DATE:20240220
DTEND;VALUE=DATE:20240222
DTSTAMP:20260421T184124
CREATED:20240208T154406Z
LAST-MODIFIED:20240208T154406Z
UID:10005276-1708390800-1708477199@battlegroundz.net
SUMMARY:SPECIAL HOURS!
DESCRIPTION:ALL FIELDS OPEN AT 12pm \n12pm-10pm \nAirsoft Sessions: \n1st Session: 12pm-5pm \n2nd Session: 5pm-10pm \n  \n 
URL:https://battlegroundz.net/event/special-hours-9/
LOCATION:RI
CATEGORIES:Experience Special Hours
END:VEVENT
BEGIN:VEVENT
DTSTART;VALUE=DATE:20240219
DTEND;VALUE=DATE:20240221
DTSTAMP:20260421T184124
CREATED:20240208T154350Z
LAST-MODIFIED:20240208T154350Z
UID:10005275-1708304400-1708390799@battlegroundz.net
SUMMARY:SPECIAL HOURS!
DESCRIPTION:ALL FIELDS OPEN AT 12pm \n12pm-10pm \nAirsoft Sessions: \n1st Session: 12pm-5pm \n2nd Session: 5pm-10pm \n  \n 
URL:https://battlegroundz.net/event/special-hours-8/
LOCATION:RI
CATEGORIES:Experience Special Hours
END:VEVENT
BEGIN:VEVENT
DTSTART;TZID=America/New_York:20240218T120000
DTEND;TZID=America/New_York:20240218T200000
DTSTAMP:20260421T184124
CREATED:20230430T195501Z
LAST-MODIFIED:20240201T210821Z
UID:10001582-1708257600-1708286400@battlegroundz.net
SUMMARY:Mess Hall Special
DESCRIPTION:$5.99 \nGrilled Cheese and side of fries \nfood taxes are not included in the price 
URL:https://battlegroundz.net/event/mess-hall-special-3/
LOCATION:RI
CATEGORIES:Restaurant and Bar Specials
ATTACH;FMTTYPE=image/png:https://battlegroundz.net/wp-content/uploads/2023/04/Mess-hall-2.png
END:VEVENT
END:VCALENDAR