BEGIN:VCALENDAR
VERSION:2.0
PRODID:-//BattleGroundZ - ECPv6.15.20//NONSGML v1.0//EN
CALSCALE:GREGORIAN
METHOD:PUBLISH
X-ORIGINAL-URL:https://battlegroundz.net
X-WR-CALDESC:Events for BattleGroundZ
REFRESH-INTERVAL;VALUE=DURATION:PT1H
X-Robots-Tag:noindex
X-PUBLISHED-TTL:PT1H
BEGIN:VTIMEZONE
TZID:America/New_York
BEGIN:DAYLIGHT
TZOFFSETFROM:-0500
TZOFFSETTO:-0400
TZNAME:EDT
DTSTART:20260308T070000
END:DAYLIGHT
BEGIN:STANDARD
TZOFFSETFROM:-0400
TZOFFSETTO:-0500
TZNAME:EST
DTSTART:20261101T060000
END:STANDARD
BEGIN:DAYLIGHT
TZOFFSETFROM:-0500
TZOFFSETTO:-0400
TZNAME:EDT
DTSTART:20270314T070000
END:DAYLIGHT
BEGIN:STANDARD
TZOFFSETFROM:-0400
TZOFFSETTO:-0500
TZNAME:EST
DTSTART:20271107T060000
END:STANDARD
BEGIN:DAYLIGHT
TZOFFSETFROM:-0500
TZOFFSETTO:-0400
TZNAME:EDT
DTSTART:20280312T070000
END:DAYLIGHT
BEGIN:STANDARD
TZOFFSETFROM:-0400
TZOFFSETTO:-0500
TZNAME:EST
DTSTART:20281105T060000
END:STANDARD
END:VTIMEZONE
BEGIN:VEVENT
DTSTART;TZID=America/New_York:20270302T170000
DTEND;TZID=America/New_York:20270302T220000
DTSTAMP:20260421T161806
CREATED:20240828T134553Z
LAST-MODIFIED:20260331T195455Z
UID:10005741-1804006800-1804024800@battlegroundz.net
SUMMARY:Airsoft $20 Tuesday
DESCRIPTION:5pm-10pm \n$20 \n5 Hours session of Unlimited Game Time + 2 slices of pizza \n*Rental gear not included
URL:https://battlegroundz.net/event/airsoft-20-tuesday-2-2/2027-03-02/
LOCATION:RI
CATEGORIES:Airsoft
ATTACH;FMTTYPE=image/png:https://battlegroundz.net/wp-content/uploads/2023/08/20-tuesday-new-post.png
END:VEVENT
BEGIN:VEVENT
DTSTART;TZID=America/New_York:20270304T170000
DTEND;TZID=America/New_York:20270304T210000
DTSTAMP:20260421T161806
CREATED:20241028T193722Z
LAST-MODIFIED:20241119T170747Z
UID:10007032-1804179600-1804194000@battlegroundz.net
SUMMARY:Unlimited Paintball + 2 Slices of Pizza ONLY $30
DESCRIPTION:5pm-9pm \nUnlimited Paintball for only $30 \nincludes all rental gear & ammo \n 
URL:https://battlegroundz.net/event/unlimited-paintball-2-slices-of-pizza-only-30/2027-03-04/
LOCATION:RI
CATEGORIES:Paintball
ATTACH;FMTTYPE=image/png:https://battlegroundz.net/wp-content/uploads/2024/10/Thursday-Paintball-Unlimited.png
END:VEVENT
BEGIN:VEVENT
DTSTART;TZID=America/New_York:20270305T160000
DTEND;TZID=America/New_York:20270305T235900
DTSTAMP:20260421T161806
CREATED:20260331T164837Z
LAST-MODIFIED:20260331T164837Z
UID:10009006-1804262400-1804291140@battlegroundz.net
SUMMARY:Special 6-Hour Session Times!
DESCRIPTION:BattlegroundZ is offering two 6 hour sessions from 4-12 tonight. An airsoft extension is only $10! Stop by tonight for hours of fun!
URL:https://battlegroundz.net/event/special-6-hour-session-times/2027-03-05/
LOCATION:Battlegroundz\, 100 Higginson Ave\, Lincoln\, RI\, 02865\, United States
CATEGORIES:Airsoft,Airsoft
ATTACH;FMTTYPE=image/jpeg:https://battlegroundz.net/wp-content/uploads/2026/03/3-27-26-Friday-Session-Times.jpg
END:VEVENT
BEGIN:VEVENT
DTSTART;TZID=America/New_York:20270309T170000
DTEND;TZID=America/New_York:20270309T220000
DTSTAMP:20260421T161806
CREATED:20240828T134553Z
LAST-MODIFIED:20260331T195455Z
UID:10005742-1804611600-1804629600@battlegroundz.net
SUMMARY:Airsoft $20 Tuesday
DESCRIPTION:5pm-10pm \n$20 \n5 Hours session of Unlimited Game Time + 2 slices of pizza \n*Rental gear not included
URL:https://battlegroundz.net/event/airsoft-20-tuesday-2-2/2027-03-09/
LOCATION:RI
CATEGORIES:Airsoft
ATTACH;FMTTYPE=image/png:https://battlegroundz.net/wp-content/uploads/2023/08/20-tuesday-new-post.png
END:VEVENT
BEGIN:VEVENT
DTSTART;TZID=America/New_York:20270311T170000
DTEND;TZID=America/New_York:20270311T210000
DTSTAMP:20260421T161806
CREATED:20241028T193722Z
LAST-MODIFIED:20241119T170747Z
UID:10007039-1804784400-1804798800@battlegroundz.net
SUMMARY:Unlimited Paintball + 2 Slices of Pizza ONLY $30
DESCRIPTION:5pm-9pm \nUnlimited Paintball for only $30 \nincludes all rental gear & ammo \n 
URL:https://battlegroundz.net/event/unlimited-paintball-2-slices-of-pizza-only-30/2027-03-11/
LOCATION:RI
CATEGORIES:Paintball
ATTACH;FMTTYPE=image/png:https://battlegroundz.net/wp-content/uploads/2024/10/Thursday-Paintball-Unlimited.png
END:VEVENT
BEGIN:VEVENT
DTSTART;TZID=America/New_York:20270312T160000
DTEND;TZID=America/New_York:20270312T235900
DTSTAMP:20260421T161806
CREATED:20260331T164837Z
LAST-MODIFIED:20260331T164837Z
UID:10009007-1804867200-1804895940@battlegroundz.net
SUMMARY:Special 6-Hour Session Times!
DESCRIPTION:BattlegroundZ is offering two 6 hour sessions from 4-12 tonight. An airsoft extension is only $10! Stop by tonight for hours of fun!
URL:https://battlegroundz.net/event/special-6-hour-session-times/2027-03-12/
LOCATION:Battlegroundz\, 100 Higginson Ave\, Lincoln\, RI\, 02865\, United States
CATEGORIES:Airsoft,Airsoft
ATTACH;FMTTYPE=image/jpeg:https://battlegroundz.net/wp-content/uploads/2026/03/3-27-26-Friday-Session-Times.jpg
END:VEVENT
BEGIN:VEVENT
DTSTART;TZID=America/New_York:20270316T170000
DTEND;TZID=America/New_York:20270316T220000
DTSTAMP:20260421T161806
CREATED:20240828T134553Z
LAST-MODIFIED:20260331T195455Z
UID:10005743-1805216400-1805234400@battlegroundz.net
SUMMARY:Airsoft $20 Tuesday
DESCRIPTION:5pm-10pm \n$20 \n5 Hours session of Unlimited Game Time + 2 slices of pizza \n*Rental gear not included
URL:https://battlegroundz.net/event/airsoft-20-tuesday-2-2/2027-03-16/
LOCATION:RI
CATEGORIES:Airsoft
ATTACH;FMTTYPE=image/png:https://battlegroundz.net/wp-content/uploads/2023/08/20-tuesday-new-post.png
END:VEVENT
BEGIN:VEVENT
DTSTART;TZID=America/New_York:20270318T170000
DTEND;TZID=America/New_York:20270318T210000
DTSTAMP:20260421T161806
CREATED:20241028T193722Z
LAST-MODIFIED:20241119T170747Z
UID:10007046-1805389200-1805403600@battlegroundz.net
SUMMARY:Unlimited Paintball + 2 Slices of Pizza ONLY $30
DESCRIPTION:5pm-9pm \nUnlimited Paintball for only $30 \nincludes all rental gear & ammo \n 
URL:https://battlegroundz.net/event/unlimited-paintball-2-slices-of-pizza-only-30/2027-03-18/
LOCATION:RI
CATEGORIES:Paintball
ATTACH;FMTTYPE=image/png:https://battlegroundz.net/wp-content/uploads/2024/10/Thursday-Paintball-Unlimited.png
END:VEVENT
BEGIN:VEVENT
DTSTART;TZID=America/New_York:20270319T160000
DTEND;TZID=America/New_York:20270319T235900
DTSTAMP:20260421T161806
CREATED:20260331T164837Z
LAST-MODIFIED:20260331T164837Z
UID:10009008-1805472000-1805500740@battlegroundz.net
SUMMARY:Special 6-Hour Session Times!
DESCRIPTION:BattlegroundZ is offering two 6 hour sessions from 4-12 tonight. An airsoft extension is only $10! Stop by tonight for hours of fun!
URL:https://battlegroundz.net/event/special-6-hour-session-times/2027-03-19/
LOCATION:Battlegroundz\, 100 Higginson Ave\, Lincoln\, RI\, 02865\, United States
CATEGORIES:Airsoft,Airsoft
ATTACH;FMTTYPE=image/jpeg:https://battlegroundz.net/wp-content/uploads/2026/03/3-27-26-Friday-Session-Times.jpg
END:VEVENT
BEGIN:VEVENT
DTSTART;TZID=America/New_York:20270323T170000
DTEND;TZID=America/New_York:20270323T220000
DTSTAMP:20260421T161806
CREATED:20240828T134553Z
LAST-MODIFIED:20260331T195455Z
UID:10005744-1805821200-1805839200@battlegroundz.net
SUMMARY:Airsoft $20 Tuesday
DESCRIPTION:5pm-10pm \n$20 \n5 Hours session of Unlimited Game Time + 2 slices of pizza \n*Rental gear not included
URL:https://battlegroundz.net/event/airsoft-20-tuesday-2-2/2027-03-23/
LOCATION:RI
CATEGORIES:Airsoft
ATTACH;FMTTYPE=image/png:https://battlegroundz.net/wp-content/uploads/2023/08/20-tuesday-new-post.png
END:VEVENT
BEGIN:VEVENT
DTSTART;TZID=America/New_York:20270325T170000
DTEND;TZID=America/New_York:20270325T210000
DTSTAMP:20260421T161806
CREATED:20241028T193722Z
LAST-MODIFIED:20241119T170747Z
UID:10007053-1805994000-1806008400@battlegroundz.net
SUMMARY:Unlimited Paintball + 2 Slices of Pizza ONLY $30
DESCRIPTION:5pm-9pm \nUnlimited Paintball for only $30 \nincludes all rental gear & ammo \n 
URL:https://battlegroundz.net/event/unlimited-paintball-2-slices-of-pizza-only-30/2027-03-25/
LOCATION:RI
CATEGORIES:Paintball
ATTACH;FMTTYPE=image/png:https://battlegroundz.net/wp-content/uploads/2024/10/Thursday-Paintball-Unlimited.png
END:VEVENT
BEGIN:VEVENT
DTSTART;TZID=America/New_York:20270326T160000
DTEND;TZID=America/New_York:20270326T235900
DTSTAMP:20260421T161806
CREATED:20260331T164837Z
LAST-MODIFIED:20260331T164837Z
UID:10009009-1806076800-1806105540@battlegroundz.net
SUMMARY:Special 6-Hour Session Times!
DESCRIPTION:BattlegroundZ is offering two 6 hour sessions from 4-12 tonight. An airsoft extension is only $10! Stop by tonight for hours of fun!
URL:https://battlegroundz.net/event/special-6-hour-session-times/2027-03-26/
LOCATION:Battlegroundz\, 100 Higginson Ave\, Lincoln\, RI\, 02865\, United States
CATEGORIES:Airsoft,Airsoft
ATTACH;FMTTYPE=image/jpeg:https://battlegroundz.net/wp-content/uploads/2026/03/3-27-26-Friday-Session-Times.jpg
END:VEVENT
BEGIN:VEVENT
DTSTART;TZID=America/New_York:20270330T170000
DTEND;TZID=America/New_York:20270330T220000
DTSTAMP:20260421T161806
CREATED:20240828T134553Z
LAST-MODIFIED:20260331T195455Z
UID:10005745-1806426000-1806444000@battlegroundz.net
SUMMARY:Airsoft $20 Tuesday
DESCRIPTION:5pm-10pm \n$20 \n5 Hours session of Unlimited Game Time + 2 slices of pizza \n*Rental gear not included
URL:https://battlegroundz.net/event/airsoft-20-tuesday-2-2/2027-03-30/
LOCATION:RI
CATEGORIES:Airsoft
ATTACH;FMTTYPE=image/png:https://battlegroundz.net/wp-content/uploads/2023/08/20-tuesday-new-post.png
END:VEVENT
BEGIN:VEVENT
DTSTART;TZID=America/New_York:20270401T170000
DTEND;TZID=America/New_York:20270401T210000
DTSTAMP:20260421T161806
CREATED:20241028T193722Z
LAST-MODIFIED:20241119T170747Z
UID:10007060-1806598800-1806613200@battlegroundz.net
SUMMARY:Unlimited Paintball + 2 Slices of Pizza ONLY $30
DESCRIPTION:5pm-9pm \nUnlimited Paintball for only $30 \nincludes all rental gear & ammo \n 
URL:https://battlegroundz.net/event/unlimited-paintball-2-slices-of-pizza-only-30/2027-04-01/
LOCATION:RI
CATEGORIES:Paintball
ATTACH;FMTTYPE=image/png:https://battlegroundz.net/wp-content/uploads/2024/10/Thursday-Paintball-Unlimited.png
END:VEVENT
BEGIN:VEVENT
DTSTART;TZID=America/New_York:20270402T160000
DTEND;TZID=America/New_York:20270402T235900
DTSTAMP:20260421T161806
CREATED:20260331T164837Z
LAST-MODIFIED:20260331T164837Z
UID:10009010-1806681600-1806710340@battlegroundz.net
SUMMARY:Special 6-Hour Session Times!
DESCRIPTION:BattlegroundZ is offering two 6 hour sessions from 4-12 tonight. An airsoft extension is only $10! Stop by tonight for hours of fun!
URL:https://battlegroundz.net/event/special-6-hour-session-times/2027-04-02/
LOCATION:Battlegroundz\, 100 Higginson Ave\, Lincoln\, RI\, 02865\, United States
CATEGORIES:Airsoft,Airsoft
ATTACH;FMTTYPE=image/jpeg:https://battlegroundz.net/wp-content/uploads/2026/03/3-27-26-Friday-Session-Times.jpg
END:VEVENT
BEGIN:VEVENT
DTSTART;TZID=America/New_York:20270406T170000
DTEND;TZID=America/New_York:20270406T220000
DTSTAMP:20260421T161806
CREATED:20240828T134553Z
LAST-MODIFIED:20260331T195455Z
UID:10005746-1807030800-1807048800@battlegroundz.net
SUMMARY:Airsoft $20 Tuesday
DESCRIPTION:5pm-10pm \n$20 \n5 Hours session of Unlimited Game Time + 2 slices of pizza \n*Rental gear not included
URL:https://battlegroundz.net/event/airsoft-20-tuesday-2-2/2027-04-06/
LOCATION:RI
CATEGORIES:Airsoft
ATTACH;FMTTYPE=image/png:https://battlegroundz.net/wp-content/uploads/2023/08/20-tuesday-new-post.png
END:VEVENT
BEGIN:VEVENT
DTSTART;TZID=America/New_York:20270408T170000
DTEND;TZID=America/New_York:20270408T210000
DTSTAMP:20260421T161806
CREATED:20241028T193722Z
LAST-MODIFIED:20241119T170747Z
UID:10007067-1807203600-1807218000@battlegroundz.net
SUMMARY:Unlimited Paintball + 2 Slices of Pizza ONLY $30
DESCRIPTION:5pm-9pm \nUnlimited Paintball for only $30 \nincludes all rental gear & ammo \n 
URL:https://battlegroundz.net/event/unlimited-paintball-2-slices-of-pizza-only-30/2027-04-08/
LOCATION:RI
CATEGORIES:Paintball
ATTACH;FMTTYPE=image/png:https://battlegroundz.net/wp-content/uploads/2024/10/Thursday-Paintball-Unlimited.png
END:VEVENT
BEGIN:VEVENT
DTSTART;TZID=America/New_York:20270409T160000
DTEND;TZID=America/New_York:20270409T235900
DTSTAMP:20260421T161806
CREATED:20260331T164837Z
LAST-MODIFIED:20260331T164837Z
UID:10009011-1807286400-1807315140@battlegroundz.net
SUMMARY:Special 6-Hour Session Times!
DESCRIPTION:BattlegroundZ is offering two 6 hour sessions from 4-12 tonight. An airsoft extension is only $10! Stop by tonight for hours of fun!
URL:https://battlegroundz.net/event/special-6-hour-session-times/2027-04-09/
LOCATION:Battlegroundz\, 100 Higginson Ave\, Lincoln\, RI\, 02865\, United States
CATEGORIES:Airsoft,Airsoft
ATTACH;FMTTYPE=image/jpeg:https://battlegroundz.net/wp-content/uploads/2026/03/3-27-26-Friday-Session-Times.jpg
END:VEVENT
BEGIN:VEVENT
DTSTART;TZID=America/New_York:20270413T170000
DTEND;TZID=America/New_York:20270413T220000
DTSTAMP:20260421T161806
CREATED:20240828T134553Z
LAST-MODIFIED:20260331T195455Z
UID:10005747-1807635600-1807653600@battlegroundz.net
SUMMARY:Airsoft $20 Tuesday
DESCRIPTION:5pm-10pm \n$20 \n5 Hours session of Unlimited Game Time + 2 slices of pizza \n*Rental gear not included
URL:https://battlegroundz.net/event/airsoft-20-tuesday-2-2/2027-04-13/
LOCATION:RI
CATEGORIES:Airsoft
ATTACH;FMTTYPE=image/png:https://battlegroundz.net/wp-content/uploads/2023/08/20-tuesday-new-post.png
END:VEVENT
BEGIN:VEVENT
DTSTART;TZID=America/New_York:20270415T170000
DTEND;TZID=America/New_York:20270415T210000
DTSTAMP:20260421T161806
CREATED:20241028T193722Z
LAST-MODIFIED:20241119T170747Z
UID:10007074-1807808400-1807822800@battlegroundz.net
SUMMARY:Unlimited Paintball + 2 Slices of Pizza ONLY $30
DESCRIPTION:5pm-9pm \nUnlimited Paintball for only $30 \nincludes all rental gear & ammo \n 
URL:https://battlegroundz.net/event/unlimited-paintball-2-slices-of-pizza-only-30/2027-04-15/
LOCATION:RI
CATEGORIES:Paintball
ATTACH;FMTTYPE=image/png:https://battlegroundz.net/wp-content/uploads/2024/10/Thursday-Paintball-Unlimited.png
END:VEVENT
BEGIN:VEVENT
DTSTART;TZID=America/New_York:20270416T160000
DTEND;TZID=America/New_York:20270416T235900
DTSTAMP:20260421T161806
CREATED:20260331T164837Z
LAST-MODIFIED:20260331T164837Z
UID:10009012-1807891200-1807919940@battlegroundz.net
SUMMARY:Special 6-Hour Session Times!
DESCRIPTION:BattlegroundZ is offering two 6 hour sessions from 4-12 tonight. An airsoft extension is only $10! Stop by tonight for hours of fun!
URL:https://battlegroundz.net/event/special-6-hour-session-times/2027-04-16/
LOCATION:Battlegroundz\, 100 Higginson Ave\, Lincoln\, RI\, 02865\, United States
CATEGORIES:Airsoft,Airsoft
ATTACH;FMTTYPE=image/jpeg:https://battlegroundz.net/wp-content/uploads/2026/03/3-27-26-Friday-Session-Times.jpg
END:VEVENT
BEGIN:VEVENT
DTSTART;TZID=America/New_York:20270420T170000
DTEND;TZID=America/New_York:20270420T220000
DTSTAMP:20260421T161806
CREATED:20240828T134553Z
LAST-MODIFIED:20260331T195455Z
UID:10005748-1808240400-1808258400@battlegroundz.net
SUMMARY:Airsoft $20 Tuesday
DESCRIPTION:5pm-10pm \n$20 \n5 Hours session of Unlimited Game Time + 2 slices of pizza \n*Rental gear not included
URL:https://battlegroundz.net/event/airsoft-20-tuesday-2-2/2027-04-20/
LOCATION:RI
CATEGORIES:Airsoft
ATTACH;FMTTYPE=image/png:https://battlegroundz.net/wp-content/uploads/2023/08/20-tuesday-new-post.png
END:VEVENT
BEGIN:VEVENT
DTSTART;TZID=America/New_York:20270422T170000
DTEND;TZID=America/New_York:20270422T210000
DTSTAMP:20260421T161806
CREATED:20241028T193722Z
LAST-MODIFIED:20241119T170747Z
UID:10007081-1808413200-1808427600@battlegroundz.net
SUMMARY:Unlimited Paintball + 2 Slices of Pizza ONLY $30
DESCRIPTION:5pm-9pm \nUnlimited Paintball for only $30 \nincludes all rental gear & ammo \n 
URL:https://battlegroundz.net/event/unlimited-paintball-2-slices-of-pizza-only-30/2027-04-22/
LOCATION:RI
CATEGORIES:Paintball
ATTACH;FMTTYPE=image/png:https://battlegroundz.net/wp-content/uploads/2024/10/Thursday-Paintball-Unlimited.png
END:VEVENT
BEGIN:VEVENT
DTSTART;TZID=America/New_York:20270423T160000
DTEND;TZID=America/New_York:20270423T235900
DTSTAMP:20260421T161806
CREATED:20260331T164837Z
LAST-MODIFIED:20260331T164837Z
UID:10009013-1808496000-1808524740@battlegroundz.net
SUMMARY:Special 6-Hour Session Times!
DESCRIPTION:BattlegroundZ is offering two 6 hour sessions from 4-12 tonight. An airsoft extension is only $10! Stop by tonight for hours of fun!
URL:https://battlegroundz.net/event/special-6-hour-session-times/2027-04-23/
LOCATION:Battlegroundz\, 100 Higginson Ave\, Lincoln\, RI\, 02865\, United States
CATEGORIES:Airsoft,Airsoft
ATTACH;FMTTYPE=image/jpeg:https://battlegroundz.net/wp-content/uploads/2026/03/3-27-26-Friday-Session-Times.jpg
END:VEVENT
BEGIN:VEVENT
DTSTART;TZID=America/New_York:20270427T170000
DTEND;TZID=America/New_York:20270427T220000
DTSTAMP:20260421T161806
CREATED:20240828T134553Z
LAST-MODIFIED:20260331T195455Z
UID:10005749-1808845200-1808863200@battlegroundz.net
SUMMARY:Airsoft $20 Tuesday
DESCRIPTION:5pm-10pm \n$20 \n5 Hours session of Unlimited Game Time + 2 slices of pizza \n*Rental gear not included
URL:https://battlegroundz.net/event/airsoft-20-tuesday-2-2/2027-04-27/
LOCATION:RI
CATEGORIES:Airsoft
ATTACH;FMTTYPE=image/png:https://battlegroundz.net/wp-content/uploads/2023/08/20-tuesday-new-post.png
END:VEVENT
BEGIN:VEVENT
DTSTART;TZID=America/New_York:20270429T170000
DTEND;TZID=America/New_York:20270429T210000
DTSTAMP:20260421T161806
CREATED:20241028T193722Z
LAST-MODIFIED:20241119T170747Z
UID:10007088-1809018000-1809032400@battlegroundz.net
SUMMARY:Unlimited Paintball + 2 Slices of Pizza ONLY $30
DESCRIPTION:5pm-9pm \nUnlimited Paintball for only $30 \nincludes all rental gear & ammo \n 
URL:https://battlegroundz.net/event/unlimited-paintball-2-slices-of-pizza-only-30/2027-04-29/
LOCATION:RI
CATEGORIES:Paintball
ATTACH;FMTTYPE=image/png:https://battlegroundz.net/wp-content/uploads/2024/10/Thursday-Paintball-Unlimited.png
END:VEVENT
BEGIN:VEVENT
DTSTART;TZID=America/New_York:20270430T160000
DTEND;TZID=America/New_York:20270430T235900
DTSTAMP:20260421T161806
CREATED:20260331T164837Z
LAST-MODIFIED:20260331T164837Z
UID:10009014-1809100800-1809129540@battlegroundz.net
SUMMARY:Special 6-Hour Session Times!
DESCRIPTION:BattlegroundZ is offering two 6 hour sessions from 4-12 tonight. An airsoft extension is only $10! Stop by tonight for hours of fun!
URL:https://battlegroundz.net/event/special-6-hour-session-times/2027-04-30/
LOCATION:Battlegroundz\, 100 Higginson Ave\, Lincoln\, RI\, 02865\, United States
CATEGORIES:Airsoft,Airsoft
ATTACH;FMTTYPE=image/jpeg:https://battlegroundz.net/wp-content/uploads/2026/03/3-27-26-Friday-Session-Times.jpg
END:VEVENT
BEGIN:VEVENT
DTSTART;TZID=America/New_York:20270504T170000
DTEND;TZID=America/New_York:20270504T220000
DTSTAMP:20260421T161806
CREATED:20240828T134553Z
LAST-MODIFIED:20260331T195455Z
UID:10005750-1809450000-1809468000@battlegroundz.net
SUMMARY:Airsoft $20 Tuesday
DESCRIPTION:5pm-10pm \n$20 \n5 Hours session of Unlimited Game Time + 2 slices of pizza \n*Rental gear not included
URL:https://battlegroundz.net/event/airsoft-20-tuesday-2-2/2027-05-04/
LOCATION:RI
CATEGORIES:Airsoft
ATTACH;FMTTYPE=image/png:https://battlegroundz.net/wp-content/uploads/2023/08/20-tuesday-new-post.png
END:VEVENT
BEGIN:VEVENT
DTSTART;TZID=America/New_York:20270506T170000
DTEND;TZID=America/New_York:20270506T210000
DTSTAMP:20260421T161806
CREATED:20241028T193722Z
LAST-MODIFIED:20241119T170747Z
UID:10007095-1809622800-1809637200@battlegroundz.net
SUMMARY:Unlimited Paintball + 2 Slices of Pizza ONLY $30
DESCRIPTION:5pm-9pm \nUnlimited Paintball for only $30 \nincludes all rental gear & ammo \n 
URL:https://battlegroundz.net/event/unlimited-paintball-2-slices-of-pizza-only-30/2027-05-06/
LOCATION:RI
CATEGORIES:Paintball
ATTACH;FMTTYPE=image/png:https://battlegroundz.net/wp-content/uploads/2024/10/Thursday-Paintball-Unlimited.png
END:VEVENT
BEGIN:VEVENT
DTSTART;TZID=America/New_York:20270507T160000
DTEND;TZID=America/New_York:20270507T235900
DTSTAMP:20260421T161806
CREATED:20260331T164837Z
LAST-MODIFIED:20260331T164837Z
UID:10009015-1809705600-1809734340@battlegroundz.net
SUMMARY:Special 6-Hour Session Times!
DESCRIPTION:BattlegroundZ is offering two 6 hour sessions from 4-12 tonight. An airsoft extension is only $10! Stop by tonight for hours of fun!
URL:https://battlegroundz.net/event/special-6-hour-session-times/2027-05-07/
LOCATION:Battlegroundz\, 100 Higginson Ave\, Lincoln\, RI\, 02865\, United States
CATEGORIES:Airsoft,Airsoft
ATTACH;FMTTYPE=image/jpeg:https://battlegroundz.net/wp-content/uploads/2026/03/3-27-26-Friday-Session-Times.jpg
END:VEVENT
END:VCALENDAR