BEGIN:VCALENDAR
VERSION:2.0
PRODID:-//BattleGroundZ - ECPv6.15.20//NONSGML v1.0//EN
CALSCALE:GREGORIAN
METHOD:PUBLISH
X-ORIGINAL-URL:https://battlegroundz.net
X-WR-CALDESC:Events for BattleGroundZ
REFRESH-INTERVAL;VALUE=DURATION:PT1H
X-Robots-Tag:noindex
X-PUBLISHED-TTL:PT1H
BEGIN:VTIMEZONE
TZID:America/New_York
BEGIN:DAYLIGHT
TZOFFSETFROM:-0500
TZOFFSETTO:-0400
TZNAME:EDT
DTSTART:20240310T070000
END:DAYLIGHT
BEGIN:STANDARD
TZOFFSETFROM:-0400
TZOFFSETTO:-0500
TZNAME:EST
DTSTART:20241103T060000
END:STANDARD
BEGIN:DAYLIGHT
TZOFFSETFROM:-0500
TZOFFSETTO:-0400
TZNAME:EDT
DTSTART:20250309T070000
END:DAYLIGHT
BEGIN:STANDARD
TZOFFSETFROM:-0400
TZOFFSETTO:-0500
TZNAME:EST
DTSTART:20251102T060000
END:STANDARD
BEGIN:DAYLIGHT
TZOFFSETFROM:-0500
TZOFFSETTO:-0400
TZNAME:EDT
DTSTART:20260308T070000
END:DAYLIGHT
BEGIN:STANDARD
TZOFFSETFROM:-0400
TZOFFSETTO:-0500
TZNAME:EST
DTSTART:20261101T060000
END:STANDARD
END:VTIMEZONE
BEGIN:VEVENT
DTSTART;TZID=America/New_York:20250423T120000
DTEND;TZID=America/New_York:20250423T220000
DTSTAMP:20260422T025804
CREATED:20250417T212644Z
LAST-MODIFIED:20250417T212644Z
UID:10008350-1745409600-1745445600@battlegroundz.net
SUMMARY:3 Games of Gel Blasters for $20/pp
DESCRIPTION:Come in today\, Wednesday 4/23/25\, and plays 3 ten minutes games of Gel Blasters! Must be at least 7 years old to play and be wearing sneakers. All fields are open today from 12pm to 10pm for Massachusetts school vacation week. \n  \n 
URL:https://battlegroundz.net/event/3-games-of-gel-blasters-for-20-pp-2/
LOCATION:Battlegroundz\, 100 Higginson Ave\, Lincoln\, RI\, 02865\, United States
END:VEVENT
BEGIN:VEVENT
DTSTART;TZID=America/New_York:20250424T170000
DTEND;TZID=America/New_York:20250424T210000
DTSTAMP:20260422T025804
CREATED:20241028T193722Z
LAST-MODIFIED:20241119T170747Z
UID:10006353-1745514000-1745528400@battlegroundz.net
SUMMARY:Unlimited Paintball + 2 Slices of Pizza ONLY $30
DESCRIPTION:5pm-9pm \nUnlimited Paintball for only $30 \nincludes all rental gear & ammo \n 
URL:https://battlegroundz.net/event/unlimited-paintball-2-slices-of-pizza-only-30/2025-04-24/
LOCATION:RI
CATEGORIES:Paintball
ATTACH;FMTTYPE=image/png:https://battlegroundz.net/wp-content/uploads/2024/10/Thursday-Paintball-Unlimited.png
END:VEVENT
BEGIN:VEVENT
DTSTART;TZID=America/New_York:20250425T120000
DTEND;TZID=America/New_York:20250425T120000
DTSTAMP:20260422T025804
CREATED:20250417T213127Z
LAST-MODIFIED:20250417T213127Z
UID:10008351-1745582400-1745582400@battlegroundz.net
SUMMARY:Airsoft Extension only $5
DESCRIPTION:Airsoft Session time today 4/25/25 are: \n12pm to 4pm \n4pm to 8pm \n8pm to 12pm \nBuy one session and extend you time through the entire next session for only $5 more today 4/18/25. Must by 10years old to play and have a completed waiver. Must wear sneakers or work boots. We do not allow Crocs\, sandals\, slippers or shoes with holes/air vents on the field.
URL:https://battlegroundz.net/event/airsoft-extension-only-5-2/
LOCATION:Battlegroundz\, 100 Higginson Ave\, Lincoln\, RI\, 02865\, United States
END:VEVENT
BEGIN:VEVENT
DTSTART;TZID=America/New_York:20250425T160000
DTEND;TZID=America/New_York:20250426T000000
DTSTAMP:20260422T025804
CREATED:20240828T140743Z
LAST-MODIFIED:20241118T164711Z
UID:10005934-1745596800-1745625600@battlegroundz.net
SUMMARY:Airsoft Session Extension $10
DESCRIPTION:Buy a session of Airsoft and get the next same-day session for only $10 \n  \nSession 1 :4pm-8pm \nSession 2: 8pm-12am \n*Rental gear not included
URL:https://battlegroundz.net/event/buy-a-session-of-airsoft-and-get-the-next-same-day-session-for-only-10-2/2025-04-25/
LOCATION:RI
CATEGORIES:Airsoft
ATTACH;FMTTYPE=image/jpeg:https://battlegroundz.net/wp-content/uploads/2023/08/Airsoft-Extension-Friday.jpg
END:VEVENT
BEGIN:VEVENT
DTSTART;TZID=America/New_York:20250426T120000
DTEND;TZID=America/New_York:20250426T220000
DTSTAMP:20260422T025804
CREATED:20250417T213401Z
LAST-MODIFIED:20250417T213401Z
UID:10008352-1745668800-1745704800@battlegroundz.net
SUMMARY:Hot Soft Pretzel $2.99
DESCRIPTION:You won’t believe how good a soft pretzel can be! Stop by the Mess Hall and order one for only $2.99 today!
URL:https://battlegroundz.net/event/hot-soft-pretzel-2-99/
LOCATION:Battlegroundz\, 100 Higginson Ave\, Lincoln\, RI\, 02865\, United States
END:VEVENT
BEGIN:VEVENT
DTSTART;TZID=America/New_York:20250427T120000
DTEND;TZID=America/New_York:20250427T200000
DTSTAMP:20260422T025804
CREATED:20250417T213809Z
LAST-MODIFIED:20250417T213809Z
UID:10008353-1745755200-1745784000@battlegroundz.net
SUMMARY:Steak & Cheese with  fries $13.99
DESCRIPTION:Today’s Deal of the Day is Battlegroundz’ signature Basic Training sub. For $13.99 get a grilled steak and cheese sub with a side of fries!
URL:https://battlegroundz.net/event/steak-cheese-with-fries-13-99/
LOCATION:Battlegroundz\, 100 Higginson Ave\, Lincoln\, RI\, 02865\, United States
END:VEVENT
BEGIN:VEVENT
DTSTART;TZID=America/New_York:20250428T120000
DTEND;TZID=America/New_York:20250428T220000
DTSTAMP:20260422T025804
CREATED:20250419T180426Z
LAST-MODIFIED:20250419T180426Z
UID:10008354-1745841600-1745877600@battlegroundz.net
SUMMARY:Buy 1 Archery Tag round & Get 1 FREE
DESCRIPTION:Buy one 10 minute game (round) of Archery Tag for $10 per person and get the 2nd free. Offer is good per person\, the same player must play both games. Open today from 12pm to 10pm.
URL:https://battlegroundz.net/event/buy-1-archery-tag-round-get-1-free/
LOCATION:Battlegroundz\, 100 Higginson Ave\, Lincoln\, RI\, 02865\, United States
END:VEVENT
BEGIN:VEVENT
DTSTART;TZID=America/New_York:20250429T170000
DTEND;TZID=America/New_York:20250429T220000
DTSTAMP:20260422T025804
CREATED:20240828T134553Z
LAST-MODIFIED:20260331T195455Z
UID:10005645-1745946000-1745964000@battlegroundz.net
SUMMARY:Airsoft $20 Tuesday
DESCRIPTION:5pm-10pm \n$20 \n5 Hours session of Unlimited Game Time + 2 slices of pizza \n*Rental gear not included
URL:https://battlegroundz.net/event/airsoft-20-tuesday-2-2/2025-04-29/
LOCATION:RI
CATEGORIES:Airsoft
ATTACH;FMTTYPE=image/png:https://battlegroundz.net/wp-content/uploads/2023/08/20-tuesday-new-post.png
END:VEVENT
BEGIN:VEVENT
DTSTART;TZID=America/New_York:20250430T120000
DTEND;TZID=America/New_York:20250430T220000
DTSTAMP:20260422T025804
CREATED:20250419T182601Z
LAST-MODIFIED:20250419T182601Z
UID:10008355-1746014400-1746050400@battlegroundz.net
SUMMARY:Battlepass Membership activation fee waived today
DESCRIPTION:Join our Battlegroundz membership today 4/30/25 and we will waive the $20 activation fee! Battlepass Members have access to: \n*All Airsoft games 7 days a week\, any time we are open. Replica rental and BBs not included. \n*All Paintball games\, 7 days a week\, any time we are open. Marker rental and balls are included! \n*Members can purchase tickets to Mix-N-Match games (Laser Tag\, Gel Blasters\, Dodgeball and Dart Wars) at any time at our “matinee” pricing \n*Bring a guest once per month to have the same activity  access as the member. \n*Add an immediate family member at half price
URL:https://battlegroundz.net/event/battlepass-membership-activation-fee-waived-today/
LOCATION:Battlegroundz\, 100 Higginson Ave\, Lincoln\, RI\, 02865\, United States
END:VEVENT
BEGIN:VEVENT
DTSTART;TZID=America/New_York:20250501T170000
DTEND;TZID=America/New_York:20250501T210000
DTSTAMP:20260422T025804
CREATED:20241028T193722Z
LAST-MODIFIED:20241119T170747Z
UID:10006360-1746118800-1746133200@battlegroundz.net
SUMMARY:Unlimited Paintball + 2 Slices of Pizza ONLY $30
DESCRIPTION:5pm-9pm \nUnlimited Paintball for only $30 \nincludes all rental gear & ammo \n 
URL:https://battlegroundz.net/event/unlimited-paintball-2-slices-of-pizza-only-30/2025-05-01/
LOCATION:RI
CATEGORIES:Paintball
ATTACH;FMTTYPE=image/png:https://battlegroundz.net/wp-content/uploads/2024/10/Thursday-Paintball-Unlimited.png
END:VEVENT
BEGIN:VEVENT
DTSTART;TZID=America/New_York:20250502T160000
DTEND;TZID=America/New_York:20250503T000000
DTSTAMP:20260422T025804
CREATED:20240828T140743Z
LAST-MODIFIED:20241118T164711Z
UID:10005935-1746201600-1746230400@battlegroundz.net
SUMMARY:Airsoft Session Extension $10
DESCRIPTION:Buy a session of Airsoft and get the next same-day session for only $10 \n  \nSession 1 :4pm-8pm \nSession 2: 8pm-12am \n*Rental gear not included
URL:https://battlegroundz.net/event/buy-a-session-of-airsoft-and-get-the-next-same-day-session-for-only-10-2/2025-05-02/
LOCATION:RI
CATEGORIES:Airsoft
ATTACH;FMTTYPE=image/jpeg:https://battlegroundz.net/wp-content/uploads/2023/08/Airsoft-Extension-Friday.jpg
END:VEVENT
BEGIN:VEVENT
DTSTART;TZID=America/New_York:20250506T170000
DTEND;TZID=America/New_York:20250506T220000
DTSTAMP:20260422T025804
CREATED:20240828T134553Z
LAST-MODIFIED:20260331T195455Z
UID:10005646-1746550800-1746568800@battlegroundz.net
SUMMARY:Airsoft $20 Tuesday
DESCRIPTION:5pm-10pm \n$20 \n5 Hours session of Unlimited Game Time + 2 slices of pizza \n*Rental gear not included
URL:https://battlegroundz.net/event/airsoft-20-tuesday-2-2/2025-05-06/
LOCATION:RI
CATEGORIES:Airsoft
ATTACH;FMTTYPE=image/png:https://battlegroundz.net/wp-content/uploads/2023/08/20-tuesday-new-post.png
END:VEVENT
BEGIN:VEVENT
DTSTART;TZID=America/New_York:20250508T170000
DTEND;TZID=America/New_York:20250508T210000
DTSTAMP:20260422T025804
CREATED:20241028T193722Z
LAST-MODIFIED:20241119T170747Z
UID:10006367-1746723600-1746738000@battlegroundz.net
SUMMARY:Unlimited Paintball + 2 Slices of Pizza ONLY $30
DESCRIPTION:5pm-9pm \nUnlimited Paintball for only $30 \nincludes all rental gear & ammo \n 
URL:https://battlegroundz.net/event/unlimited-paintball-2-slices-of-pizza-only-30/2025-05-08/
LOCATION:RI
CATEGORIES:Paintball
ATTACH;FMTTYPE=image/png:https://battlegroundz.net/wp-content/uploads/2024/10/Thursday-Paintball-Unlimited.png
END:VEVENT
BEGIN:VEVENT
DTSTART;TZID=America/New_York:20250509T160000
DTEND;TZID=America/New_York:20250510T000000
DTSTAMP:20260422T025804
CREATED:20240828T140743Z
LAST-MODIFIED:20241118T164711Z
UID:10005936-1746806400-1746835200@battlegroundz.net
SUMMARY:Airsoft Session Extension $10
DESCRIPTION:Buy a session of Airsoft and get the next same-day session for only $10 \n  \nSession 1 :4pm-8pm \nSession 2: 8pm-12am \n*Rental gear not included
URL:https://battlegroundz.net/event/buy-a-session-of-airsoft-and-get-the-next-same-day-session-for-only-10-2/2025-05-09/
LOCATION:RI
CATEGORIES:Airsoft
ATTACH;FMTTYPE=image/jpeg:https://battlegroundz.net/wp-content/uploads/2023/08/Airsoft-Extension-Friday.jpg
END:VEVENT
BEGIN:VEVENT
DTSTART;TZID=America/New_York:20250513T170000
DTEND;TZID=America/New_York:20250513T220000
DTSTAMP:20260422T025804
CREATED:20240828T134553Z
LAST-MODIFIED:20260331T195455Z
UID:10005647-1747155600-1747173600@battlegroundz.net
SUMMARY:Airsoft $20 Tuesday
DESCRIPTION:5pm-10pm \n$20 \n5 Hours session of Unlimited Game Time + 2 slices of pizza \n*Rental gear not included
URL:https://battlegroundz.net/event/airsoft-20-tuesday-2-2/2025-05-13/
LOCATION:RI
CATEGORIES:Airsoft
ATTACH;FMTTYPE=image/png:https://battlegroundz.net/wp-content/uploads/2023/08/20-tuesday-new-post.png
END:VEVENT
BEGIN:VEVENT
DTSTART;TZID=America/New_York:20250515T170000
DTEND;TZID=America/New_York:20250515T210000
DTSTAMP:20260422T025804
CREATED:20241028T193722Z
LAST-MODIFIED:20241119T170747Z
UID:10006374-1747328400-1747342800@battlegroundz.net
SUMMARY:Unlimited Paintball + 2 Slices of Pizza ONLY $30
DESCRIPTION:5pm-9pm \nUnlimited Paintball for only $30 \nincludes all rental gear & ammo \n 
URL:https://battlegroundz.net/event/unlimited-paintball-2-slices-of-pizza-only-30/2025-05-15/
LOCATION:RI
CATEGORIES:Paintball
ATTACH;FMTTYPE=image/png:https://battlegroundz.net/wp-content/uploads/2024/10/Thursday-Paintball-Unlimited.png
END:VEVENT
BEGIN:VEVENT
DTSTART;TZID=America/New_York:20250516T160000
DTEND;TZID=America/New_York:20250517T000000
DTSTAMP:20260422T025804
CREATED:20240828T140743Z
LAST-MODIFIED:20241118T164711Z
UID:10005937-1747411200-1747440000@battlegroundz.net
SUMMARY:Airsoft Session Extension $10
DESCRIPTION:Buy a session of Airsoft and get the next same-day session for only $10 \n  \nSession 1 :4pm-8pm \nSession 2: 8pm-12am \n*Rental gear not included
URL:https://battlegroundz.net/event/buy-a-session-of-airsoft-and-get-the-next-same-day-session-for-only-10-2/2025-05-16/
LOCATION:RI
CATEGORIES:Airsoft
ATTACH;FMTTYPE=image/jpeg:https://battlegroundz.net/wp-content/uploads/2023/08/Airsoft-Extension-Friday.jpg
END:VEVENT
BEGIN:VEVENT
DTSTART;TZID=America/New_York:20250520T170000
DTEND;TZID=America/New_York:20250520T220000
DTSTAMP:20260422T025804
CREATED:20240828T134553Z
LAST-MODIFIED:20260331T195455Z
UID:10005648-1747760400-1747778400@battlegroundz.net
SUMMARY:Airsoft $20 Tuesday
DESCRIPTION:5pm-10pm \n$20 \n5 Hours session of Unlimited Game Time + 2 slices of pizza \n*Rental gear not included
URL:https://battlegroundz.net/event/airsoft-20-tuesday-2-2/2025-05-20/
LOCATION:RI
CATEGORIES:Airsoft
ATTACH;FMTTYPE=image/png:https://battlegroundz.net/wp-content/uploads/2023/08/20-tuesday-new-post.png
END:VEVENT
BEGIN:VEVENT
DTSTART;TZID=America/New_York:20250522T170000
DTEND;TZID=America/New_York:20250522T210000
DTSTAMP:20260422T025804
CREATED:20241028T193722Z
LAST-MODIFIED:20241119T170747Z
UID:10006381-1747933200-1747947600@battlegroundz.net
SUMMARY:Unlimited Paintball + 2 Slices of Pizza ONLY $30
DESCRIPTION:5pm-9pm \nUnlimited Paintball for only $30 \nincludes all rental gear & ammo \n 
URL:https://battlegroundz.net/event/unlimited-paintball-2-slices-of-pizza-only-30/2025-05-22/
LOCATION:RI
CATEGORIES:Paintball
ATTACH;FMTTYPE=image/png:https://battlegroundz.net/wp-content/uploads/2024/10/Thursday-Paintball-Unlimited.png
END:VEVENT
BEGIN:VEVENT
DTSTART;TZID=America/New_York:20250523T160000
DTEND;TZID=America/New_York:20250524T000000
DTSTAMP:20260422T025804
CREATED:20240828T140743Z
LAST-MODIFIED:20241118T164711Z
UID:10005938-1748016000-1748044800@battlegroundz.net
SUMMARY:Airsoft Session Extension $10
DESCRIPTION:Buy a session of Airsoft and get the next same-day session for only $10 \n  \nSession 1 :4pm-8pm \nSession 2: 8pm-12am \n*Rental gear not included
URL:https://battlegroundz.net/event/buy-a-session-of-airsoft-and-get-the-next-same-day-session-for-only-10-2/2025-05-23/
LOCATION:RI
CATEGORIES:Airsoft
ATTACH;FMTTYPE=image/jpeg:https://battlegroundz.net/wp-content/uploads/2023/08/Airsoft-Extension-Friday.jpg
END:VEVENT
BEGIN:VEVENT
DTSTART;TZID=America/New_York:20250527T170000
DTEND;TZID=America/New_York:20250527T220000
DTSTAMP:20260422T025804
CREATED:20240828T134553Z
LAST-MODIFIED:20260331T195455Z
UID:10005649-1748365200-1748383200@battlegroundz.net
SUMMARY:Airsoft $20 Tuesday
DESCRIPTION:5pm-10pm \n$20 \n5 Hours session of Unlimited Game Time + 2 slices of pizza \n*Rental gear not included
URL:https://battlegroundz.net/event/airsoft-20-tuesday-2-2/2025-05-27/
LOCATION:RI
CATEGORIES:Airsoft
ATTACH;FMTTYPE=image/png:https://battlegroundz.net/wp-content/uploads/2023/08/20-tuesday-new-post.png
END:VEVENT
BEGIN:VEVENT
DTSTART;TZID=America/New_York:20250529T170000
DTEND;TZID=America/New_York:20250529T210000
DTSTAMP:20260422T025804
CREATED:20241028T193722Z
LAST-MODIFIED:20241119T170747Z
UID:10006388-1748538000-1748552400@battlegroundz.net
SUMMARY:Unlimited Paintball + 2 Slices of Pizza ONLY $30
DESCRIPTION:5pm-9pm \nUnlimited Paintball for only $30 \nincludes all rental gear & ammo \n 
URL:https://battlegroundz.net/event/unlimited-paintball-2-slices-of-pizza-only-30/2025-05-29/
LOCATION:RI
CATEGORIES:Paintball
ATTACH;FMTTYPE=image/png:https://battlegroundz.net/wp-content/uploads/2024/10/Thursday-Paintball-Unlimited.png
END:VEVENT
BEGIN:VEVENT
DTSTART;TZID=America/New_York:20250530T160000
DTEND;TZID=America/New_York:20250531T000000
DTSTAMP:20260422T025804
CREATED:20240828T140743Z
LAST-MODIFIED:20241118T164711Z
UID:10005939-1748620800-1748649600@battlegroundz.net
SUMMARY:Airsoft Session Extension $10
DESCRIPTION:Buy a session of Airsoft and get the next same-day session for only $10 \n  \nSession 1 :4pm-8pm \nSession 2: 8pm-12am \n*Rental gear not included
URL:https://battlegroundz.net/event/buy-a-session-of-airsoft-and-get-the-next-same-day-session-for-only-10-2/2025-05-30/
LOCATION:RI
CATEGORIES:Airsoft
ATTACH;FMTTYPE=image/jpeg:https://battlegroundz.net/wp-content/uploads/2023/08/Airsoft-Extension-Friday.jpg
END:VEVENT
BEGIN:VEVENT
DTSTART;TZID=America/New_York:20250603T170000
DTEND;TZID=America/New_York:20250603T220000
DTSTAMP:20260422T025804
CREATED:20240828T134553Z
LAST-MODIFIED:20260331T195455Z
UID:10005650-1748970000-1748988000@battlegroundz.net
SUMMARY:Airsoft $20 Tuesday
DESCRIPTION:5pm-10pm \n$20 \n5 Hours session of Unlimited Game Time + 2 slices of pizza \n*Rental gear not included
URL:https://battlegroundz.net/event/airsoft-20-tuesday-2-2/2025-06-03/
LOCATION:RI
CATEGORIES:Airsoft
ATTACH;FMTTYPE=image/png:https://battlegroundz.net/wp-content/uploads/2023/08/20-tuesday-new-post.png
END:VEVENT
BEGIN:VEVENT
DTSTART;TZID=America/New_York:20250603T170000
DTEND;TZID=America/New_York:20250603T220000
DTSTAMP:20260422T025804
CREATED:20250603T005010Z
LAST-MODIFIED:20250603T005010Z
UID:10008356-1748970000-1748988000@battlegroundz.net
SUMMARY:$20 Tuesday
DESCRIPTION:Tuesdays from 5pm to 10pm enjoy 5 hours of unlimited airsoft play for only $20 AND receive two slices of cheese pizza! Gun rental not included ($25)
URL:https://battlegroundz.net/event/20-tuesday/2025-06-03/
LOCATION:Battlegroundz\, 100 Higginson Ave\, Lincoln\, RI\, 02865\, United States
END:VEVENT
BEGIN:VEVENT
DTSTART;TZID=America/New_York:20250604T120000
DTEND;TZID=America/New_York:20250604T220000
DTSTAMP:20260422T025804
CREATED:20250603T010147Z
LAST-MODIFIED:20250603T010147Z
UID:10008369-1749038400-1749074400@battlegroundz.net
SUMMARY:3 Games of Gel Blasters for $20 per Player
DESCRIPTION:Come in today\, Wednesday June 4th\, and enjoy 3 games of Gel Blasters for only $20 per person! Available between 12pm and 10pm
URL:https://battlegroundz.net/event/3-games-of-gel-blasters-for-20-per-player/
LOCATION:RI
END:VEVENT
BEGIN:VEVENT
DTSTART;TZID=America/New_York:20250605T170000
DTEND;TZID=America/New_York:20250605T210000
DTSTAMP:20260422T025804
CREATED:20241028T193722Z
LAST-MODIFIED:20241119T170747Z
UID:10006395-1749142800-1749157200@battlegroundz.net
SUMMARY:Unlimited Paintball + 2 Slices of Pizza ONLY $30
DESCRIPTION:5pm-9pm \nUnlimited Paintball for only $30 \nincludes all rental gear & ammo \n 
URL:https://battlegroundz.net/event/unlimited-paintball-2-slices-of-pizza-only-30/2025-06-05/
LOCATION:RI
CATEGORIES:Paintball
ATTACH;FMTTYPE=image/png:https://battlegroundz.net/wp-content/uploads/2024/10/Thursday-Paintball-Unlimited.png
END:VEVENT
BEGIN:VEVENT
DTSTART;TZID=America/New_York:20250606T160000
DTEND;TZID=America/New_York:20250607T000000
DTSTAMP:20260422T025804
CREATED:20250603T014127Z
LAST-MODIFIED:20250603T014128Z
UID:10005940-1749225600-1749254400@battlegroundz.net
SUMMARY:Airsoft Session Extension $5
DESCRIPTION:Buy a 6-HOUR session of Airsoft and get the next same-day session for only $5 \n  \nSession 1: 4pm-10pm \nSession 2: 6pm-12am \n*Rental gear not included
URL:https://battlegroundz.net/event/buy-a-session-of-airsoft-and-get-the-next-same-day-session-for-only-10-2-2/2025-06-06/
LOCATION:RI
CATEGORIES:Airsoft
ATTACH;FMTTYPE=image/png:https://battlegroundz.net/wp-content/uploads/2024/08/New-6-Hour-Session-Times-June-Fridays-2.png
END:VEVENT
BEGIN:VEVENT
DTSTART;TZID=America/New_York:20250607T120000
DTEND;TZID=America/New_York:20250607T220000
DTSTAMP:20260422T025804
CREATED:20250605T185557Z
LAST-MODIFIED:20250605T185631Z
UID:10008381-1749297600-1749333600@battlegroundz.net
SUMMARY:Hot Pretzel for $2.99
DESCRIPTION:Stop by the BGZ Mess Hall and enjoy a hot baked pretzel for $2.99 along with countless other options from our menu
URL:https://battlegroundz.net/event/hot-pretzel-for-2-99/
LOCATION:RI
END:VEVENT
BEGIN:VEVENT
DTSTART;TZID=America/New_York:20250608T120000
DTEND;TZID=America/New_York:20250608T210000
DTSTAMP:20260422T025804
CREATED:20250605T190114Z
LAST-MODIFIED:20250606T002304Z
UID:10008382-1749384000-1749416400@battlegroundz.net
SUMMARY:Cheeseburger and Fries for $11.49
DESCRIPTION:Enjoy a delicious cheeseburger combo meal with fries for $11.49 alongside many other great food options at the BGZ Mess Hall
URL:https://battlegroundz.net/event/cheeseburger-and-fries-for-11-49/
LOCATION:RI
END:VEVENT
END:VCALENDAR