BEGIN:VCALENDAR
VERSION:2.0
PRODID:-//BattleGroundZ - ECPv6.15.20//NONSGML v1.0//EN
CALSCALE:GREGORIAN
METHOD:PUBLISH
X-ORIGINAL-URL:https://battlegroundz.net
X-WR-CALDESC:Events for BattleGroundZ
REFRESH-INTERVAL;VALUE=DURATION:PT1H
X-Robots-Tag:noindex
X-PUBLISHED-TTL:PT1H
BEGIN:VTIMEZONE
TZID:America/New_York
BEGIN:DAYLIGHT
TZOFFSETFROM:-0500
TZOFFSETTO:-0400
TZNAME:EDT
DTSTART:20230312T070000
END:DAYLIGHT
BEGIN:STANDARD
TZOFFSETFROM:-0400
TZOFFSETTO:-0500
TZNAME:EST
DTSTART:20231105T060000
END:STANDARD
BEGIN:DAYLIGHT
TZOFFSETFROM:-0500
TZOFFSETTO:-0400
TZNAME:EDT
DTSTART:20240310T070000
END:DAYLIGHT
BEGIN:STANDARD
TZOFFSETFROM:-0400
TZOFFSETTO:-0500
TZNAME:EST
DTSTART:20241103T060000
END:STANDARD
BEGIN:DAYLIGHT
TZOFFSETFROM:-0500
TZOFFSETTO:-0400
TZNAME:EDT
DTSTART:20250309T070000
END:DAYLIGHT
BEGIN:STANDARD
TZOFFSETFROM:-0400
TZOFFSETTO:-0500
TZNAME:EST
DTSTART:20251102T060000
END:STANDARD
END:VTIMEZONE
BEGIN:VEVENT
DTSTART;TZID=America/New_York:20240819T120000
DTEND;TZID=America/New_York:20240819T220000
DTSTAMP:20260422T054905
CREATED:20240524T145650Z
LAST-MODIFIED:20240730T131932Z
UID:10005334-1724068800-1724104800@battlegroundz.net
SUMMARY:Mix-N-Match Matinee Special All Day
DESCRIPTION:Mix-N-Match Matinee Special : 3 Rounds of Mix-n-Match for $20 per person \n  \n*Mix-N-Match can be used between Lazer Tag\, Gel Blasters\, Dart Wars and Dodgeball
URL:https://battlegroundz.net/event/mix-n-match-matinee-special-all-day-5/
LOCATION:RI
CATEGORIES:Lazer Tag
ATTACH;FMTTYPE=image/png:https://battlegroundz.net/wp-content/uploads/2023/06/mix-n-match.png
END:VEVENT
BEGIN:VEVENT
DTSTART;TZID=America/New_York:20240820T120000
DTEND;TZID=America/New_York:20240820T220000
DTSTAMP:20260422T054905
CREATED:20240630T195842Z
LAST-MODIFIED:20240826T180829Z
UID:10005354-1724155200-1724191200@battlegroundz.net
SUMMARY:Airsoft $20 Tuesday
DESCRIPTION:Session 1: 12pm-5pm \nSession 2: 5pm-10pm \n$20 \n5 Hours session of Unlimited Game Time + 2 slices of pizza \n*Rental gear not included
URL:https://battlegroundz.net/event/airsoft-20-tuesday-3/2024-08-20/
LOCATION:RI
CATEGORIES:Special Operating Hours
ATTACH;FMTTYPE=image/jpeg:https://battlegroundz.net/wp-content/uploads/2023/04/292396390_576834900643481_5015748945188152924_n.jpg
END:VEVENT
BEGIN:VEVENT
DTSTART;TZID=America/New_York:20240821T120000
DTEND;TZID=America/New_York:20240821T220000
DTSTAMP:20260422T054905
CREATED:20240104T160848Z
LAST-MODIFIED:20240730T132314Z
UID:10005243-1724241600-1724277600@battlegroundz.net
SUMMARY:5 Games of Paintball for $35
DESCRIPTION:5 Games of Paintball for only $35 per person \n(Regular Price $45) \n*All Rental Gear included \n 
URL:https://battlegroundz.net/event/5-games-of-paintball-for-35-2/
LOCATION:RI
CATEGORIES:Paintball
ATTACH;FMTTYPE=image/jpeg:https://battlegroundz.net/wp-content/uploads/2023/04/IMG_2279.jpg
END:VEVENT
BEGIN:VEVENT
DTSTART;TZID=America/New_York:20240823T120000
DTEND;TZID=America/New_York:20240824T000000
DTSTAMP:20260422T054905
CREATED:20240524T151744Z
LAST-MODIFIED:20240524T151912Z
UID:10005343-1724414400-1724457600@battlegroundz.net
SUMMARY:Airsoft Session Extension $10
DESCRIPTION:Session 1: 12pm-4pm \nSession 2:4 pm-8pm \nSession 3: 8pm-12am \n  \nBuy a session of Airsoft and get the next same day session for only $10 \n*Rental gear not included
URL:https://battlegroundz.net/event/airsoft-session-extension-10-4-2/2024-08-23/
LOCATION:RI
ATTACH;FMTTYPE=image/jpeg:https://battlegroundz.net/wp-content/uploads/2023/05/IMG_2339.jpg
END:VEVENT
BEGIN:VEVENT
DTSTART;TZID=America/New_York:20240827T120000
DTEND;TZID=America/New_York:20240827T220000
DTSTAMP:20260422T054905
CREATED:20240630T195842Z
LAST-MODIFIED:20240826T180829Z
UID:10005355-1724760000-1724796000@battlegroundz.net
SUMMARY:Airsoft $20 Tuesday
DESCRIPTION:Session 1: 12pm-5pm \nSession 2: 5pm-10pm \n$20 \n5 Hours session of Unlimited Game Time + 2 slices of pizza \n*Rental gear not included
URL:https://battlegroundz.net/event/airsoft-20-tuesday-3/2024-08-27/
LOCATION:RI
CATEGORIES:Special Operating Hours
ATTACH;FMTTYPE=image/jpeg:https://battlegroundz.net/wp-content/uploads/2023/04/292396390_576834900643481_5015748945188152924_n.jpg
END:VEVENT
BEGIN:VEVENT
DTSTART;TZID=America/New_York:20240830T120000
DTEND;TZID=America/New_York:20240831T000000
DTSTAMP:20260422T054905
CREATED:20240524T151744Z
LAST-MODIFIED:20240524T151912Z
UID:10005344-1725019200-1725062400@battlegroundz.net
SUMMARY:Airsoft Session Extension $10
DESCRIPTION:Session 1: 12pm-4pm \nSession 2:4 pm-8pm \nSession 3: 8pm-12am \n  \nBuy a session of Airsoft and get the next same day session for only $10 \n*Rental gear not included
URL:https://battlegroundz.net/event/airsoft-session-extension-10-4-2/2024-08-30/
LOCATION:RI
ATTACH;FMTTYPE=image/jpeg:https://battlegroundz.net/wp-content/uploads/2023/05/IMG_2339.jpg
END:VEVENT
BEGIN:VEVENT
DTSTART;TZID=America/New_York:20240902T120000
DTEND;TZID=America/New_York:20240902T220000
DTSTAMP:20260422T054905
CREATED:20240630T002140Z
LAST-MODIFIED:20240828T141100Z
UID:10005347-1725278400-1725314400@battlegroundz.net
SUMMARY:Mix-N-Match Matinee Special All Day
DESCRIPTION:Mix-N-Match Matinee Special : 3 Rounds of Mix-n-Match for $20 \n  \n*Mix-N-Match can be used between Lazer Tag\, Gel Blasters\, Dart Wars and Dodgeball
URL:https://battlegroundz.net/event/mix-n-match-matinee-special-all-day-6/
LOCATION:RI
CATEGORIES:Lazer Tag
ATTACH;FMTTYPE=image/png:https://battlegroundz.net/wp-content/uploads/2023/06/mix-n-match.png
END:VEVENT
BEGIN:VEVENT
DTSTART;VALUE=DATE:20240903
DTEND;VALUE=DATE:20240905
DTSTAMP:20260422T054905
CREATED:20230823T184352Z
LAST-MODIFIED:20240823T192209Z
UID:10004619-1725325200-1725411599@battlegroundz.net
SUMMARY:**WINTER HOURS BEGIN**
DESCRIPTION:Winter Hours Start!! \nLazer Tag\, Gel Blasters & Arcade Hours \nMonday- Thursday: 12pm-10pm\nFriday: 12pm-12am\nSaturday: 11:30am-12am\nSunday: 12pm-10pm \n  \nAirsoft Session Times & Paintball Hours \nMonday- Thursday:  5pm-10pm \nFriday: 4pm-8pm/8pm-12am \nSaturday: 11:30-3:30pm/4pm-8pm/8:30pm-12am \nSunday: 12pm-4:30pm/5pm-10pm \n  \nDart Warz \nMonday- Thursday: 5pm-8pm \nFriday: 4pm-10pm \nSaturday: 11:30am-8pm \nSunday:12pm-8pm \n  \nDodgeball \nMonday- Thursday: 5pm-10pm \nFriday: 4pm-11pm \nSaturday: 12pm-11pm \nSunday: 12pm-10pm \n  \nThe Mess Hall \nTuesday: 5pm-9pm \nFriday:4pm-11pm \nSaturday 11:30am-11pm \nSunday: 12pm-9pm \n  \n  \n 
URL:https://battlegroundz.net/event/winter-hours-begin/
LOCATION:RI
ATTACH;FMTTYPE=image/png:https://battlegroundz.net/wp-content/uploads/2023/08/winter-hours-2023.png
END:VEVENT
BEGIN:VEVENT
DTSTART;TZID=America/New_York:20240903T120000
DTEND;TZID=America/New_York:20240903T220000
DTSTAMP:20260422T054905
CREATED:20240828T135434Z
LAST-MODIFIED:20240828T135723Z
UID:10005872-1725364800-1725400800@battlegroundz.net
SUMMARY:1/2 OFF Arcade Cards 
DESCRIPTION:1/2 OFF Arcade Cards \nPurchase a $20 Play card for only $10 \nPurchase a $30 Play Card for only $15 \n  \n**This special is available every Tuesday & Friday \nSeptember 1- October 31
URL:https://battlegroundz.net/event/1-2-off-arcade-cards/2024-09-03/
LOCATION:RI
CATEGORIES:Entertainment
ATTACH;FMTTYPE=image/png:https://battlegroundz.net/wp-content/uploads/2024/08/half-Off-Play-Card-sign.png
END:VEVENT
BEGIN:VEVENT
DTSTART;TZID=America/New_York:20240903T170000
DTEND;TZID=America/New_York:20240903T220000
DTSTAMP:20260422T054905
CREATED:20240828T134553Z
LAST-MODIFIED:20260331T195455Z
UID:10005611-1725382800-1725400800@battlegroundz.net
SUMMARY:Airsoft $20 Tuesday
DESCRIPTION:5pm-10pm \n$20 \n5 Hours session of Unlimited Game Time + 2 slices of pizza \n*Rental gear not included
URL:https://battlegroundz.net/event/airsoft-20-tuesday-2-2/2024-09-03/
LOCATION:RI
CATEGORIES:Airsoft
ATTACH;FMTTYPE=image/png:https://battlegroundz.net/wp-content/uploads/2023/08/20-tuesday-new-post.png
END:VEVENT
BEGIN:VEVENT
DTSTART;TZID=America/New_York:20240906T120000
DTEND;TZID=America/New_York:20240906T233000
DTSTAMP:20260422T054905
CREATED:20240828T135922Z
LAST-MODIFIED:20240828T140513Z
UID:10005900-1725624000-1725665400@battlegroundz.net
SUMMARY:1/2 OFF Arcade Cards 
DESCRIPTION:1/2 OFF Arcade Cards \nPurchase a $20 Play card for only $10 \nPurchase a $30 Play Card for only $15 \n  \n**This special is available every Tuesday & Friday \nSeptember 1- October 31
URL:https://battlegroundz.net/event/1-2-off-arcade-cards-2/2024-09-06/
LOCATION:RI
CATEGORIES:Entertainment
ATTACH;FMTTYPE=image/png:https://battlegroundz.net/wp-content/uploads/2024/08/half-Off-Play-Card-sign.png
END:VEVENT
BEGIN:VEVENT
DTSTART;TZID=America/New_York:20240906T160000
DTEND;TZID=America/New_York:20240907T000000
DTSTAMP:20260422T054905
CREATED:20240828T140743Z
LAST-MODIFIED:20241118T164711Z
UID:10004119-1725638400-1725667200@battlegroundz.net
SUMMARY:Airsoft Session Extension $10
DESCRIPTION:Buy a session of Airsoft and get the next same-day session for only $10 \n  \nSession 1 :4pm-8pm \nSession 2: 8pm-12am \n*Rental gear not included
URL:https://battlegroundz.net/event/buy-a-session-of-airsoft-and-get-the-next-same-day-session-for-only-10-2/2024-09-06/
LOCATION:RI
CATEGORIES:Airsoft
ATTACH;FMTTYPE=image/jpeg:https://battlegroundz.net/wp-content/uploads/2023/08/Airsoft-Extension-Friday.jpg
END:VEVENT
BEGIN:VEVENT
DTSTART;TZID=America/New_York:20240910T120000
DTEND;TZID=America/New_York:20240910T220000
DTSTAMP:20260422T054905
CREATED:20240828T135434Z
LAST-MODIFIED:20240828T135723Z
UID:10005873-1725969600-1726005600@battlegroundz.net
SUMMARY:1/2 OFF Arcade Cards 
DESCRIPTION:1/2 OFF Arcade Cards \nPurchase a $20 Play card for only $10 \nPurchase a $30 Play Card for only $15 \n  \n**This special is available every Tuesday & Friday \nSeptember 1- October 31
URL:https://battlegroundz.net/event/1-2-off-arcade-cards/2024-09-10/
LOCATION:RI
CATEGORIES:Entertainment
ATTACH;FMTTYPE=image/png:https://battlegroundz.net/wp-content/uploads/2024/08/half-Off-Play-Card-sign.png
END:VEVENT
BEGIN:VEVENT
DTSTART;TZID=America/New_York:20240910T170000
DTEND;TZID=America/New_York:20240910T220000
DTSTAMP:20260422T054905
CREATED:20240828T134553Z
LAST-MODIFIED:20260331T195455Z
UID:10005612-1725987600-1726005600@battlegroundz.net
SUMMARY:Airsoft $20 Tuesday
DESCRIPTION:5pm-10pm \n$20 \n5 Hours session of Unlimited Game Time + 2 slices of pizza \n*Rental gear not included
URL:https://battlegroundz.net/event/airsoft-20-tuesday-2-2/2024-09-10/
LOCATION:RI
CATEGORIES:Airsoft
ATTACH;FMTTYPE=image/png:https://battlegroundz.net/wp-content/uploads/2023/08/20-tuesday-new-post.png
END:VEVENT
BEGIN:VEVENT
DTSTART;TZID=America/New_York:20240913T120000
DTEND;TZID=America/New_York:20240913T233000
DTSTAMP:20260422T054905
CREATED:20240828T135922Z
LAST-MODIFIED:20240828T140513Z
UID:10005891-1726228800-1726270200@battlegroundz.net
SUMMARY:1/2 OFF Arcade Cards 
DESCRIPTION:1/2 OFF Arcade Cards \nPurchase a $20 Play card for only $10 \nPurchase a $30 Play Card for only $15 \n  \n**This special is available every Tuesday & Friday \nSeptember 1- October 31
URL:https://battlegroundz.net/event/1-2-off-arcade-cards-2/2024-09-13/
LOCATION:RI
CATEGORIES:Entertainment
ATTACH;FMTTYPE=image/png:https://battlegroundz.net/wp-content/uploads/2024/08/half-Off-Play-Card-sign.png
END:VEVENT
BEGIN:VEVENT
DTSTART;TZID=America/New_York:20240913T160000
DTEND;TZID=America/New_York:20240914T000000
DTSTAMP:20260422T054905
CREATED:20240828T140743Z
LAST-MODIFIED:20241118T164711Z
UID:10005902-1726243200-1726272000@battlegroundz.net
SUMMARY:Airsoft Session Extension $10
DESCRIPTION:Buy a session of Airsoft and get the next same-day session for only $10 \n  \nSession 1 :4pm-8pm \nSession 2: 8pm-12am \n*Rental gear not included
URL:https://battlegroundz.net/event/buy-a-session-of-airsoft-and-get-the-next-same-day-session-for-only-10-2/2024-09-13/
LOCATION:RI
CATEGORIES:Airsoft
ATTACH;FMTTYPE=image/jpeg:https://battlegroundz.net/wp-content/uploads/2023/08/Airsoft-Extension-Friday.jpg
END:VEVENT
BEGIN:VEVENT
DTSTART;TZID=America/New_York:20240917T120000
DTEND;TZID=America/New_York:20240917T220000
DTSTAMP:20260422T054905
CREATED:20240828T135434Z
LAST-MODIFIED:20240828T135723Z
UID:10005874-1726574400-1726610400@battlegroundz.net
SUMMARY:1/2 OFF Arcade Cards 
DESCRIPTION:1/2 OFF Arcade Cards \nPurchase a $20 Play card for only $10 \nPurchase a $30 Play Card for only $15 \n  \n**This special is available every Tuesday & Friday \nSeptember 1- October 31
URL:https://battlegroundz.net/event/1-2-off-arcade-cards/2024-09-17/
LOCATION:RI
CATEGORIES:Entertainment
ATTACH;FMTTYPE=image/png:https://battlegroundz.net/wp-content/uploads/2024/08/half-Off-Play-Card-sign.png
END:VEVENT
BEGIN:VEVENT
DTSTART;TZID=America/New_York:20240917T170000
DTEND;TZID=America/New_York:20240917T220000
DTSTAMP:20260422T054905
CREATED:20240828T134553Z
LAST-MODIFIED:20260331T195455Z
UID:10005613-1726592400-1726610400@battlegroundz.net
SUMMARY:Airsoft $20 Tuesday
DESCRIPTION:5pm-10pm \n$20 \n5 Hours session of Unlimited Game Time + 2 slices of pizza \n*Rental gear not included
URL:https://battlegroundz.net/event/airsoft-20-tuesday-2-2/2024-09-17/
LOCATION:RI
CATEGORIES:Airsoft
ATTACH;FMTTYPE=image/png:https://battlegroundz.net/wp-content/uploads/2023/08/20-tuesday-new-post.png
END:VEVENT
BEGIN:VEVENT
DTSTART;TZID=America/New_York:20240918T120000
DTEND;TZID=America/New_York:20240918T220000
DTSTAMP:20260422T054905
CREATED:20240201T201539Z
LAST-MODIFIED:20240828T141245Z
UID:10005259-1726660800-1726696800@battlegroundz.net
SUMMARY:Lazer Tag Matinee Pricing ALL Day!
DESCRIPTION:Lazer Tag Matinee Pricing available all day! \n3 rounds of lazer tag for $20 per person \nregular price $25 \nor \n6 rounds of Lazer tag for $35 per person \n 
URL:https://battlegroundz.net/event/lazer-tag-matinee-pricing-all-day-5/
LOCATION:RI
CATEGORIES:Lazer Tag
ATTACH;FMTTYPE=image/png:https://battlegroundz.net/wp-content/uploads/2024/02/Lazer-Tag-Matinee-Pricing-ALL-DAY.png
END:VEVENT
BEGIN:VEVENT
DTSTART;TZID=America/New_York:20240920T120000
DTEND;TZID=America/New_York:20240920T233000
DTSTAMP:20260422T054905
CREATED:20240828T135922Z
LAST-MODIFIED:20240828T140513Z
UID:10005892-1726833600-1726875000@battlegroundz.net
SUMMARY:1/2 OFF Arcade Cards 
DESCRIPTION:1/2 OFF Arcade Cards \nPurchase a $20 Play card for only $10 \nPurchase a $30 Play Card for only $15 \n  \n**This special is available every Tuesday & Friday \nSeptember 1- October 31
URL:https://battlegroundz.net/event/1-2-off-arcade-cards-2/2024-09-20/
LOCATION:RI
CATEGORIES:Entertainment
ATTACH;FMTTYPE=image/png:https://battlegroundz.net/wp-content/uploads/2024/08/half-Off-Play-Card-sign.png
END:VEVENT
BEGIN:VEVENT
DTSTART;TZID=America/New_York:20240920T160000
DTEND;TZID=America/New_York:20240921T000000
DTSTAMP:20260422T054905
CREATED:20240828T140743Z
LAST-MODIFIED:20241118T164711Z
UID:10005903-1726848000-1726876800@battlegroundz.net
SUMMARY:Airsoft Session Extension $10
DESCRIPTION:Buy a session of Airsoft and get the next same-day session for only $10 \n  \nSession 1 :4pm-8pm \nSession 2: 8pm-12am \n*Rental gear not included
URL:https://battlegroundz.net/event/buy-a-session-of-airsoft-and-get-the-next-same-day-session-for-only-10-2/2024-09-20/
LOCATION:RI
CATEGORIES:Airsoft
ATTACH;FMTTYPE=image/jpeg:https://battlegroundz.net/wp-content/uploads/2023/08/Airsoft-Extension-Friday.jpg
END:VEVENT
BEGIN:VEVENT
DTSTART;TZID=America/New_York:20240922T100000
DTEND;TZID=America/New_York:20240922T150000
DTSTAMP:20260422T054905
CREATED:20230831T194814Z
LAST-MODIFIED:20240828T143150Z
UID:10004621-1726999200-1727017200@battlegroundz.net
SUMMARY:John Martin's Foundation Car Show
DESCRIPTION:Come Support the John Martin’s Foundation! \nFree Event \nLocation in our Parking Lot!
URL:https://battlegroundz.net/event/john-martins-foundation-car-show/
LOCATION:RI
CATEGORIES:Entertainment
ATTACH;FMTTYPE=image/jpeg:https://battlegroundz.net/wp-content/uploads/2023/08/John-Martins-Foundation-2024.jpg
END:VEVENT
BEGIN:VEVENT
DTSTART;TZID=America/New_York:20240924T120000
DTEND;TZID=America/New_York:20240924T220000
DTSTAMP:20260422T054905
CREATED:20240828T135434Z
LAST-MODIFIED:20240828T135723Z
UID:10005875-1727179200-1727215200@battlegroundz.net
SUMMARY:1/2 OFF Arcade Cards 
DESCRIPTION:1/2 OFF Arcade Cards \nPurchase a $20 Play card for only $10 \nPurchase a $30 Play Card for only $15 \n  \n**This special is available every Tuesday & Friday \nSeptember 1- October 31
URL:https://battlegroundz.net/event/1-2-off-arcade-cards/2024-09-24/
LOCATION:RI
CATEGORIES:Entertainment
ATTACH;FMTTYPE=image/png:https://battlegroundz.net/wp-content/uploads/2024/08/half-Off-Play-Card-sign.png
END:VEVENT
BEGIN:VEVENT
DTSTART;TZID=America/New_York:20240924T170000
DTEND;TZID=America/New_York:20240924T220000
DTSTAMP:20260422T054905
CREATED:20240828T134553Z
LAST-MODIFIED:20260331T195455Z
UID:10005614-1727197200-1727215200@battlegroundz.net
SUMMARY:Airsoft $20 Tuesday
DESCRIPTION:5pm-10pm \n$20 \n5 Hours session of Unlimited Game Time + 2 slices of pizza \n*Rental gear not included
URL:https://battlegroundz.net/event/airsoft-20-tuesday-2-2/2024-09-24/
LOCATION:RI
CATEGORIES:Airsoft
ATTACH;FMTTYPE=image/png:https://battlegroundz.net/wp-content/uploads/2023/08/20-tuesday-new-post.png
END:VEVENT
BEGIN:VEVENT
DTSTART;TZID=America/New_York:20240926T120000
DTEND;TZID=America/New_York:20240926T220000
DTSTAMP:20260422T054905
CREATED:20231104T195805Z
LAST-MODIFIED:20240828T144439Z
UID:10002143-1727352000-1727388000@battlegroundz.net
SUMMARY:Lazer Tag Matinee Pricing ALL Day!
DESCRIPTION:Lazer Tag Matinee Pricing available all day! \n3 rounds of lazer tag for $20 per person \nregular price $25
URL:https://battlegroundz.net/event/lazer-tag-matinee-pricing-all-day-4/
LOCATION:RI
CATEGORIES:Lazer Tag
ATTACH;FMTTYPE=image/jpeg:https://battlegroundz.net/wp-content/uploads/2023/04/IMG_1681.jpg
END:VEVENT
BEGIN:VEVENT
DTSTART;TZID=America/New_York:20240927T120000
DTEND;TZID=America/New_York:20240927T233000
DTSTAMP:20260422T054905
CREATED:20240828T135922Z
LAST-MODIFIED:20240828T140513Z
UID:10005893-1727438400-1727479800@battlegroundz.net
SUMMARY:1/2 OFF Arcade Cards 
DESCRIPTION:1/2 OFF Arcade Cards \nPurchase a $20 Play card for only $10 \nPurchase a $30 Play Card for only $15 \n  \n**This special is available every Tuesday & Friday \nSeptember 1- October 31
URL:https://battlegroundz.net/event/1-2-off-arcade-cards-2/2024-09-27/
LOCATION:RI
CATEGORIES:Entertainment
ATTACH;FMTTYPE=image/png:https://battlegroundz.net/wp-content/uploads/2024/08/half-Off-Play-Card-sign.png
END:VEVENT
BEGIN:VEVENT
DTSTART;TZID=America/New_York:20240927T160000
DTEND;TZID=America/New_York:20240928T000000
DTSTAMP:20260422T054905
CREATED:20240828T140743Z
LAST-MODIFIED:20241118T164711Z
UID:10005904-1727452800-1727481600@battlegroundz.net
SUMMARY:Airsoft Session Extension $10
DESCRIPTION:Buy a session of Airsoft and get the next same-day session for only $10 \n  \nSession 1 :4pm-8pm \nSession 2: 8pm-12am \n*Rental gear not included
URL:https://battlegroundz.net/event/buy-a-session-of-airsoft-and-get-the-next-same-day-session-for-only-10-2/2024-09-27/
LOCATION:RI
CATEGORIES:Airsoft
ATTACH;FMTTYPE=image/jpeg:https://battlegroundz.net/wp-content/uploads/2023/08/Airsoft-Extension-Friday.jpg
END:VEVENT
BEGIN:VEVENT
DTSTART;TZID=America/New_York:20241001T120000
DTEND;TZID=America/New_York:20241001T220000
DTSTAMP:20260422T054905
CREATED:20240828T135434Z
LAST-MODIFIED:20240828T135723Z
UID:10005876-1727784000-1727820000@battlegroundz.net
SUMMARY:1/2 OFF Arcade Cards 
DESCRIPTION:1/2 OFF Arcade Cards \nPurchase a $20 Play card for only $10 \nPurchase a $30 Play Card for only $15 \n  \n**This special is available every Tuesday & Friday \nSeptember 1- October 31
URL:https://battlegroundz.net/event/1-2-off-arcade-cards/2024-10-01/
LOCATION:RI
CATEGORIES:Entertainment
ATTACH;FMTTYPE=image/png:https://battlegroundz.net/wp-content/uploads/2024/08/half-Off-Play-Card-sign.png
END:VEVENT
BEGIN:VEVENT
DTSTART;TZID=America/New_York:20241001T170000
DTEND;TZID=America/New_York:20241001T220000
DTSTAMP:20260422T054905
CREATED:20240828T134553Z
LAST-MODIFIED:20260331T195455Z
UID:10005615-1727802000-1727820000@battlegroundz.net
SUMMARY:Airsoft $20 Tuesday
DESCRIPTION:5pm-10pm \n$20 \n5 Hours session of Unlimited Game Time + 2 slices of pizza \n*Rental gear not included
URL:https://battlegroundz.net/event/airsoft-20-tuesday-2-2/2024-10-01/
LOCATION:RI
CATEGORIES:Airsoft
ATTACH;FMTTYPE=image/png:https://battlegroundz.net/wp-content/uploads/2023/08/20-tuesday-new-post.png
END:VEVENT
BEGIN:VEVENT
DTSTART;TZID=America/New_York:20241004T120000
DTEND;TZID=America/New_York:20241004T233000
DTSTAMP:20260422T054905
CREATED:20240828T135922Z
LAST-MODIFIED:20240828T140513Z
UID:10005894-1728043200-1728084600@battlegroundz.net
SUMMARY:1/2 OFF Arcade Cards 
DESCRIPTION:1/2 OFF Arcade Cards \nPurchase a $20 Play card for only $10 \nPurchase a $30 Play Card for only $15 \n  \n**This special is available every Tuesday & Friday \nSeptember 1- October 31
URL:https://battlegroundz.net/event/1-2-off-arcade-cards-2/2024-10-04/
LOCATION:RI
CATEGORIES:Entertainment
ATTACH;FMTTYPE=image/png:https://battlegroundz.net/wp-content/uploads/2024/08/half-Off-Play-Card-sign.png
END:VEVENT
END:VCALENDAR