BEGIN:VCALENDAR
VERSION:2.0
PRODID:-//BattleGroundZ - ECPv6.15.20//NONSGML v1.0//EN
CALSCALE:GREGORIAN
METHOD:PUBLISH
X-ORIGINAL-URL:https://battlegroundz.net
X-WR-CALDESC:Events for BattleGroundZ
REFRESH-INTERVAL;VALUE=DURATION:PT1H
X-Robots-Tag:noindex
X-PUBLISHED-TTL:PT1H
BEGIN:VTIMEZONE
TZID:America/New_York
BEGIN:DAYLIGHT
TZOFFSETFROM:-0500
TZOFFSETTO:-0400
TZNAME:EDT
DTSTART:20230312T070000
END:DAYLIGHT
BEGIN:STANDARD
TZOFFSETFROM:-0400
TZOFFSETTO:-0500
TZNAME:EST
DTSTART:20231105T060000
END:STANDARD
BEGIN:DAYLIGHT
TZOFFSETFROM:-0500
TZOFFSETTO:-0400
TZNAME:EDT
DTSTART:20240310T070000
END:DAYLIGHT
BEGIN:STANDARD
TZOFFSETFROM:-0400
TZOFFSETTO:-0500
TZNAME:EST
DTSTART:20241103T060000
END:STANDARD
BEGIN:DAYLIGHT
TZOFFSETFROM:-0500
TZOFFSETTO:-0400
TZNAME:EDT
DTSTART:20250309T070000
END:DAYLIGHT
BEGIN:STANDARD
TZOFFSETFROM:-0400
TZOFFSETTO:-0500
TZNAME:EST
DTSTART:20251102T060000
END:STANDARD
END:VTIMEZONE
BEGIN:VEVENT
DTSTART;VALUE=DATE:20240704
DTEND;VALUE=DATE:20240706
DTSTAMP:20260421T172627
CREATED:20240104T160327Z
LAST-MODIFIED:20240629T235812Z
UID:10005242-1720054800-1720141199@battlegroundz.net
SUMMARY:SPECIAL HOURS 5pm-10pm
DESCRIPTION:Happy 4th of July! \nOpen 5pm-10pm \n1 Session Only! \nDeal of the Day Buy 1 Get 1 session of Airsoft half off \n  \n 
URL:https://battlegroundz.net/event/special-hours-12-5pm-2/
LOCATION:RI
CATEGORIES:Experience Special Hours
END:VEVENT
BEGIN:VEVENT
DTSTART;TZID=America/New_York:20240704T170000
DTEND;TZID=America/New_York:20240704T220000
DTSTAMP:20260421T172627
CREATED:20240426T152333Z
LAST-MODIFIED:20240629T235918Z
UID:10005330-1720112400-1720130400@battlegroundz.net
SUMMARY:Buy a Session of Airsoft and get one HALF OFF
DESCRIPTION:Buy a Session of Airsoft for $30 and get one HALF OFF for $15! \n  \n*Rental gear not included
URL:https://battlegroundz.net/event/buy-a-session-of-airsoft-and-get-one-half-off/
LOCATION:RI
CATEGORIES:Airsoft
ATTACH;FMTTYPE=image/jpeg:https://battlegroundz.net/wp-content/uploads/2023/05/IMG_2339.jpg
END:VEVENT
BEGIN:VEVENT
DTSTART;TZID=America/New_York:20240705T120000
DTEND;TZID=America/New_York:20240706T000000
DTSTAMP:20260421T172627
CREATED:20240524T151744Z
LAST-MODIFIED:20240524T151912Z
UID:10005336-1720180800-1720224000@battlegroundz.net
SUMMARY:Airsoft Session Extension $10
DESCRIPTION:Session 1: 12pm-4pm \nSession 2:4 pm-8pm \nSession 3: 8pm-12am \n  \nBuy a session of Airsoft and get the next same day session for only $10 \n*Rental gear not included
URL:https://battlegroundz.net/event/airsoft-session-extension-10-4-2/2024-07-05/
LOCATION:RI
ATTACH;FMTTYPE=image/jpeg:https://battlegroundz.net/wp-content/uploads/2023/05/IMG_2339.jpg
END:VEVENT
BEGIN:VEVENT
DTSTART;TZID=America/New_York:20240709T120000
DTEND;TZID=America/New_York:20240709T220000
DTSTAMP:20260421T172627
CREATED:20240630T195842Z
LAST-MODIFIED:20240826T180829Z
UID:10005348-1720526400-1720562400@battlegroundz.net
SUMMARY:Airsoft $20 Tuesday
DESCRIPTION:Session 1: 12pm-5pm \nSession 2: 5pm-10pm \n$20 \n5 Hours session of Unlimited Game Time + 2 slices of pizza \n*Rental gear not included
URL:https://battlegroundz.net/event/airsoft-20-tuesday-3/2024-07-09/
LOCATION:RI
CATEGORIES:Special Operating Hours
ATTACH;FMTTYPE=image/jpeg:https://battlegroundz.net/wp-content/uploads/2023/04/292396390_576834900643481_5015748945188152924_n.jpg
END:VEVENT
BEGIN:VEVENT
DTSTART;TZID=America/New_York:20240712T120000
DTEND;TZID=America/New_York:20240713T000000
DTSTAMP:20260421T172627
CREATED:20240524T151744Z
LAST-MODIFIED:20240524T151912Z
UID:10005337-1720785600-1720828800@battlegroundz.net
SUMMARY:Airsoft Session Extension $10
DESCRIPTION:Session 1: 12pm-4pm \nSession 2:4 pm-8pm \nSession 3: 8pm-12am \n  \nBuy a session of Airsoft and get the next same day session for only $10 \n*Rental gear not included
URL:https://battlegroundz.net/event/airsoft-session-extension-10-4-2/2024-07-12/
LOCATION:RI
ATTACH;FMTTYPE=image/jpeg:https://battlegroundz.net/wp-content/uploads/2023/05/IMG_2339.jpg
END:VEVENT
BEGIN:VEVENT
DTSTART;TZID=America/New_York:20240716T120000
DTEND;TZID=America/New_York:20240716T220000
DTSTAMP:20260421T172627
CREATED:20240630T195842Z
LAST-MODIFIED:20240826T180829Z
UID:10005349-1721131200-1721167200@battlegroundz.net
SUMMARY:Airsoft $20 Tuesday
DESCRIPTION:Session 1: 12pm-5pm \nSession 2: 5pm-10pm \n$20 \n5 Hours session of Unlimited Game Time + 2 slices of pizza \n*Rental gear not included
URL:https://battlegroundz.net/event/airsoft-20-tuesday-3/2024-07-16/
LOCATION:RI
CATEGORIES:Special Operating Hours
ATTACH;FMTTYPE=image/jpeg:https://battlegroundz.net/wp-content/uploads/2023/04/292396390_576834900643481_5015748945188152924_n.jpg
END:VEVENT
BEGIN:VEVENT
DTSTART;TZID=America/New_York:20240719T120000
DTEND;TZID=America/New_York:20240720T000000
DTSTAMP:20260421T172627
CREATED:20240524T151744Z
LAST-MODIFIED:20240524T151912Z
UID:10005338-1721390400-1721433600@battlegroundz.net
SUMMARY:Airsoft Session Extension $10
DESCRIPTION:Session 1: 12pm-4pm \nSession 2:4 pm-8pm \nSession 3: 8pm-12am \n  \nBuy a session of Airsoft and get the next same day session for only $10 \n*Rental gear not included
URL:https://battlegroundz.net/event/airsoft-session-extension-10-4-2/2024-07-19/
LOCATION:RI
ATTACH;FMTTYPE=image/jpeg:https://battlegroundz.net/wp-content/uploads/2023/05/IMG_2339.jpg
END:VEVENT
BEGIN:VEVENT
DTSTART;TZID=America/New_York:20240720T190000
DTEND;TZID=America/New_York:20240720T210000
DTSTAMP:20260421T172627
CREATED:20240630T001237Z
LAST-MODIFIED:20240630T001237Z
UID:10005346-1721502000-1721509200@battlegroundz.net
SUMMARY:Paint Nite: Summer Sangria Sippin'
DESCRIPTION:7pm \nPaint Nite \nHosted by Joshua Altobelli \n\n\nPaint Night: Unleash your inner artist\n\n\nCome\, eat\, drink and socialize as we paint this nice glass of Sangria! If you want to paint a different drink\, you are more than welcome! Feel free to purchase food or drinks while you paint! Supplies are provided. No prior experience is necessary. Please purchase your tickets well in advance. \n\n\nhttps://www.paintnite.com/us/ri/lincoln/23268/events/battlegroundz/july-20/sangria-glass-painting-at-battleground-z-10331779/
URL:https://battlegroundz.net/event/paint-nite-summer-sangria-sippin/
LOCATION:RI
CATEGORIES:Classes
ATTACH;FMTTYPE=image/png:https://battlegroundz.net/wp-content/uploads/2024/06/Paintnite-JULY.png
END:VEVENT
BEGIN:VEVENT
DTSTART;TZID=America/New_York:20240723T120000
DTEND;TZID=America/New_York:20240723T220000
DTSTAMP:20260421T172627
CREATED:20240630T195842Z
LAST-MODIFIED:20240826T180829Z
UID:10005350-1721736000-1721772000@battlegroundz.net
SUMMARY:Airsoft $20 Tuesday
DESCRIPTION:Session 1: 12pm-5pm \nSession 2: 5pm-10pm \n$20 \n5 Hours session of Unlimited Game Time + 2 slices of pizza \n*Rental gear not included
URL:https://battlegroundz.net/event/airsoft-20-tuesday-3/2024-07-23/
LOCATION:RI
CATEGORIES:Special Operating Hours
ATTACH;FMTTYPE=image/jpeg:https://battlegroundz.net/wp-content/uploads/2023/04/292396390_576834900643481_5015748945188152924_n.jpg
END:VEVENT
BEGIN:VEVENT
DTSTART;TZID=America/New_York:20240726T120000
DTEND;TZID=America/New_York:20240727T000000
DTSTAMP:20260421T172627
CREATED:20240524T151744Z
LAST-MODIFIED:20240524T151912Z
UID:10005339-1721995200-1722038400@battlegroundz.net
SUMMARY:Airsoft Session Extension $10
DESCRIPTION:Session 1: 12pm-4pm \nSession 2:4 pm-8pm \nSession 3: 8pm-12am \n  \nBuy a session of Airsoft and get the next same day session for only $10 \n*Rental gear not included
URL:https://battlegroundz.net/event/airsoft-session-extension-10-4-2/2024-07-26/
LOCATION:RI
ATTACH;FMTTYPE=image/jpeg:https://battlegroundz.net/wp-content/uploads/2023/05/IMG_2339.jpg
END:VEVENT
BEGIN:VEVENT
DTSTART;TZID=America/New_York:20240727T113000
DTEND;TZID=America/New_York:20240727T220000
DTSTAMP:20260421T172627
CREATED:20230731T184306Z
LAST-MODIFIED:20240630T002257Z
UID:10003767-1722079800-1722117600@battlegroundz.net
SUMMARY:Mess Hall Special
DESCRIPTION:Cheeseburger Club with Fries $12.49 \nQuartered Triple Decker Angus Cheeseburger on white or wheat break stacked with lettuce\, tomato\, bacon and mayonnaise \n*food taxes not included in the price \n 
URL:https://battlegroundz.net/event/mess-hall-special-34/
LOCATION:RI
CATEGORIES:Restaurant and Bar Specials
ATTACH;FMTTYPE=image/png:https://battlegroundz.net/wp-content/uploads/2023/05/Mess-hall.png
END:VEVENT
BEGIN:VEVENT
DTSTART;TZID=America/New_York:20240729T120000
DTEND;TZID=America/New_York:20240729T220000
DTSTAMP:20260421T172627
CREATED:20230630T173954Z
LAST-MODIFIED:20240630T002413Z
UID:10002700-1722254400-1722290400@battlegroundz.net
SUMMARY:5 Games of Paintball for $35
DESCRIPTION:5 Games of Paintball for only $35 per person \n(Regular Price $45) \n*All Rental Gear included \n 
URL:https://battlegroundz.net/event/5-games-of-paintball-for-only-35-per-person/
LOCATION:RI
CATEGORIES:Paintball
ATTACH;FMTTYPE=image/jpeg:https://battlegroundz.net/wp-content/uploads/2023/04/IMG_2279.jpg
END:VEVENT
BEGIN:VEVENT
DTSTART;TZID=America/New_York:20240730T120000
DTEND;TZID=America/New_York:20240730T220000
DTSTAMP:20260421T172627
CREATED:20240630T195842Z
LAST-MODIFIED:20240826T180829Z
UID:10005351-1722340800-1722376800@battlegroundz.net
SUMMARY:Airsoft $20 Tuesday
DESCRIPTION:Session 1: 12pm-5pm \nSession 2: 5pm-10pm \n$20 \n5 Hours session of Unlimited Game Time + 2 slices of pizza \n*Rental gear not included
URL:https://battlegroundz.net/event/airsoft-20-tuesday-3/2024-07-30/
LOCATION:RI
CATEGORIES:Special Operating Hours
ATTACH;FMTTYPE=image/jpeg:https://battlegroundz.net/wp-content/uploads/2023/04/292396390_576834900643481_5015748945188152924_n.jpg
END:VEVENT
BEGIN:VEVENT
DTSTART;TZID=America/New_York:20240802T120000
DTEND;TZID=America/New_York:20240803T000000
DTSTAMP:20260421T172627
CREATED:20240524T151744Z
LAST-MODIFIED:20240524T151912Z
UID:10005340-1722600000-1722643200@battlegroundz.net
SUMMARY:Airsoft Session Extension $10
DESCRIPTION:Session 1: 12pm-4pm \nSession 2:4 pm-8pm \nSession 3: 8pm-12am \n  \nBuy a session of Airsoft and get the next same day session for only $10 \n*Rental gear not included
URL:https://battlegroundz.net/event/airsoft-session-extension-10-4-2/2024-08-02/
LOCATION:RI
ATTACH;FMTTYPE=image/jpeg:https://battlegroundz.net/wp-content/uploads/2023/05/IMG_2339.jpg
END:VEVENT
BEGIN:VEVENT
DTSTART;TZID=America/New_York:20240804T120000
DTEND;TZID=America/New_York:20240804T200000
DTSTAMP:20260421T172627
CREATED:20230731T183245Z
LAST-MODIFIED:20240729T194133Z
UID:10003765-1722772800-1722801600@battlegroundz.net
SUMMARY:Mess Hall Special
DESCRIPTION:Breaded Boneless Chicken Bites $10.99 \n*food taxes not included in the price
URL:https://battlegroundz.net/event/mess-hall-special-32/
LOCATION:RI
CATEGORIES:Restaurant and Bar Specials
ATTACH;FMTTYPE=image/png:https://battlegroundz.net/wp-content/uploads/2023/05/Mess-hall.png
END:VEVENT
BEGIN:VEVENT
DTSTART;TZID=America/New_York:20240806T120000
DTEND;TZID=America/New_York:20240806T220000
DTSTAMP:20260421T172627
CREATED:20240630T195842Z
LAST-MODIFIED:20240826T180829Z
UID:10005352-1722945600-1722981600@battlegroundz.net
SUMMARY:Airsoft $20 Tuesday
DESCRIPTION:Session 1: 12pm-5pm \nSession 2: 5pm-10pm \n$20 \n5 Hours session of Unlimited Game Time + 2 slices of pizza \n*Rental gear not included
URL:https://battlegroundz.net/event/airsoft-20-tuesday-3/2024-08-06/
LOCATION:RI
CATEGORIES:Special Operating Hours
ATTACH;FMTTYPE=image/jpeg:https://battlegroundz.net/wp-content/uploads/2023/04/292396390_576834900643481_5015748945188152924_n.jpg
END:VEVENT
BEGIN:VEVENT
DTSTART;TZID=America/New_York:20240809T120000
DTEND;TZID=America/New_York:20240810T000000
DTSTAMP:20260421T172627
CREATED:20240524T151744Z
LAST-MODIFIED:20240524T151912Z
UID:10005341-1723204800-1723248000@battlegroundz.net
SUMMARY:Airsoft Session Extension $10
DESCRIPTION:Session 1: 12pm-4pm \nSession 2:4 pm-8pm \nSession 3: 8pm-12am \n  \nBuy a session of Airsoft and get the next same day session for only $10 \n*Rental gear not included
URL:https://battlegroundz.net/event/airsoft-session-extension-10-4-2/2024-08-09/
LOCATION:RI
ATTACH;FMTTYPE=image/jpeg:https://battlegroundz.net/wp-content/uploads/2023/05/IMG_2339.jpg
END:VEVENT
BEGIN:VEVENT
DTSTART;TZID=America/New_York:20240809T190000
DTEND;TZID=America/New_York:20240809T210000
DTSTAMP:20260421T172627
CREATED:20240721T163018Z
LAST-MODIFIED:20240721T163018Z
UID:10005608-1723230000-1723237200@battlegroundz.net
SUMMARY:Paint Nite: Sunset Boulevard
DESCRIPTION:7pm \nPaint Nite \nHosted by Joshua Altobelli \n\n\nPaint Night: Unleash your inner artist\n\n\nSummer is nearing its end\, let’s paint a nice sunset with palm trees! Feel free to purchase food or drinks while you paint! Supplies are provided. No prior experience is necessary. Please purchase your tickets well in advanced. I will take a name call at the beginning\, so no need to bring your ticket. Groupons can be used to sign up online before the event. If you want\, we can have a little competition\, and best painting will win a prize! \n\n\nhttps://www.paintnite.com/us/ri/lincoln/23268/events/battlegroundz/august-09/sunset-boulevard-painting-at-battleground-z-10331780/
URL:https://battlegroundz.net/event/paint-nite-5/
LOCATION:RI
CATEGORIES:Classes
ATTACH;FMTTYPE=image/jpeg:https://battlegroundz.net/wp-content/uploads/2024/07/august-pic.jpg
END:VEVENT
BEGIN:VEVENT
DTSTART;VALUE=DATE:20240811
DTEND;VALUE=DATE:20240813
DTSTAMP:20260421T172627
CREATED:20230731T185633Z
LAST-MODIFIED:20240730T141522Z
UID:10003771-1723338000-1723424399@battlegroundz.net
SUMMARY:*Special HOURS*
DESCRIPTION:Airsoft/Paintball /Dart Warz/ Dodgeball only available ONLY  6:30pm to 10pm \nLazer Tag and Gel Blasters available All Day
URL:https://battlegroundz.net/event/special-hours/
LOCATION:RI
END:VEVENT
BEGIN:VEVENT
DTSTART;TZID=America/New_York:20240811T110000
DTEND;TZID=America/New_York:20240811T180000
DTSTAMP:20260421T172627
CREATED:20230731T185344Z
LAST-MODIFIED:20240721T161700Z
UID:10003770-1723374000-1723399200@battlegroundz.net
SUMMARY:Dark Art Festival
DESCRIPTION:The Dark Arts Festival hosts over 60 tables of oddities\, filmmakers\, writers\, and artists! This year we will have World Premiere short films\, a paranormal investigating presentation\, and performances. Exclusive Dark Arts Festival merch will be available in short supply. \nOperation Stand Down will also be in attendance doing raffles that BattlegroundZ will hold for 1 week. With all proceeds of the raffle going to help homeless and in need veterans in Rhode Island. (Anyone looking to donate a raffle prize can DM Horror Depot directly!)In honor of those who serve any attendee with a military ID will be FREE! \nTickets are $10 Children and first responders are also free… \nAdding to the festivities… BattlegroundZ offers a full arcade\, food\, and a full bar featuring the Dark Arts Margarita! \nThere will also be a costume contest for kids earlier in the day and adults later in the day. \nIn association with Motif Magazine’s 20th anniversary. Stay tuned for more details
URL:https://battlegroundz.net/event/join-us-for-this-exciting-event-vendors-artist-film-festival-and-more/
LOCATION:RI
CATEGORIES:Special Operating Hours
ATTACH;FMTTYPE=image/jpeg:https://battlegroundz.net/wp-content/uploads/2023/07/Promo-Pic.jpg
END:VEVENT
BEGIN:VEVENT
DTSTART;TZID=America/New_York:20240813T120000
DTEND;TZID=America/New_York:20240813T220000
DTSTAMP:20260421T172627
CREATED:20240630T195842Z
LAST-MODIFIED:20240826T180829Z
UID:10005353-1723550400-1723586400@battlegroundz.net
SUMMARY:Airsoft $20 Tuesday
DESCRIPTION:Session 1: 12pm-5pm \nSession 2: 5pm-10pm \n$20 \n5 Hours session of Unlimited Game Time + 2 slices of pizza \n*Rental gear not included
URL:https://battlegroundz.net/event/airsoft-20-tuesday-3/2024-08-13/
LOCATION:RI
CATEGORIES:Special Operating Hours
ATTACH;FMTTYPE=image/jpeg:https://battlegroundz.net/wp-content/uploads/2023/04/292396390_576834900643481_5015748945188152924_n.jpg
END:VEVENT
BEGIN:VEVENT
DTSTART;TZID=America/New_York:20240814T120000
DTEND;TZID=America/New_York:20240814T220000
DTSTAMP:20260421T172627
CREATED:20230630T174153Z
LAST-MODIFIED:20240730T131604Z
UID:10002703-1723636800-1723672800@battlegroundz.net
SUMMARY:Mix-N-Match Matinee Special All Day
DESCRIPTION:Mix-N-Match Matinee Special : 3 Rounds of Mix-n-Match for $20 per person \n  \n*Mix-N-Match can be used between Lazer Tag\, Gel Blasters\, Dart Wars and Dodgeball
URL:https://battlegroundz.net/event/mix-n-match-matinee-special-all-day-4/
LOCATION:RI
CATEGORIES:Lazer Tag
ATTACH;FMTTYPE=image/png:https://battlegroundz.net/wp-content/uploads/2023/06/mix-n-match.png
END:VEVENT
BEGIN:VEVENT
DTSTART;TZID=America/New_York:20240815T120000
DTEND;TZID=America/New_York:20240815T200000
DTSTAMP:20260421T172627
CREATED:20230731T182804Z
LAST-MODIFIED:20240730T131643Z
UID:10003762-1723723200-1723752000@battlegroundz.net
SUMMARY:Mess Hall Special
DESCRIPTION:Nachos and Cheese $3.49 \n*food taxes not included in the price
URL:https://battlegroundz.net/event/mess-hall-special-29/
LOCATION:RI
CATEGORIES:Restaurant and Bar Specials
ATTACH;FMTTYPE=image/png:https://battlegroundz.net/wp-content/uploads/2023/05/Mess-hall.png
END:VEVENT
BEGIN:VEVENT
DTSTART;TZID=America/New_York:20240816T120000
DTEND;TZID=America/New_York:20240817T000000
DTSTAMP:20260421T172627
CREATED:20240524T151744Z
LAST-MODIFIED:20240524T151912Z
UID:10005342-1723809600-1723852800@battlegroundz.net
SUMMARY:Airsoft Session Extension $10
DESCRIPTION:Session 1: 12pm-4pm \nSession 2:4 pm-8pm \nSession 3: 8pm-12am \n  \nBuy a session of Airsoft and get the next same day session for only $10 \n*Rental gear not included
URL:https://battlegroundz.net/event/airsoft-session-extension-10-4-2/2024-08-16/
LOCATION:RI
ATTACH;FMTTYPE=image/jpeg:https://battlegroundz.net/wp-content/uploads/2023/05/IMG_2339.jpg
END:VEVENT
BEGIN:VEVENT
DTSTART;TZID=America/New_York:20240819T120000
DTEND;TZID=America/New_York:20240819T220000
DTSTAMP:20260421T172627
CREATED:20240524T145650Z
LAST-MODIFIED:20240730T131932Z
UID:10005334-1724068800-1724104800@battlegroundz.net
SUMMARY:Mix-N-Match Matinee Special All Day
DESCRIPTION:Mix-N-Match Matinee Special : 3 Rounds of Mix-n-Match for $20 per person \n  \n*Mix-N-Match can be used between Lazer Tag\, Gel Blasters\, Dart Wars and Dodgeball
URL:https://battlegroundz.net/event/mix-n-match-matinee-special-all-day-5/
LOCATION:RI
CATEGORIES:Lazer Tag
ATTACH;FMTTYPE=image/png:https://battlegroundz.net/wp-content/uploads/2023/06/mix-n-match.png
END:VEVENT
BEGIN:VEVENT
DTSTART;TZID=America/New_York:20240820T120000
DTEND;TZID=America/New_York:20240820T220000
DTSTAMP:20260421T172627
CREATED:20240630T195842Z
LAST-MODIFIED:20240826T180829Z
UID:10005354-1724155200-1724191200@battlegroundz.net
SUMMARY:Airsoft $20 Tuesday
DESCRIPTION:Session 1: 12pm-5pm \nSession 2: 5pm-10pm \n$20 \n5 Hours session of Unlimited Game Time + 2 slices of pizza \n*Rental gear not included
URL:https://battlegroundz.net/event/airsoft-20-tuesday-3/2024-08-20/
LOCATION:RI
CATEGORIES:Special Operating Hours
ATTACH;FMTTYPE=image/jpeg:https://battlegroundz.net/wp-content/uploads/2023/04/292396390_576834900643481_5015748945188152924_n.jpg
END:VEVENT
BEGIN:VEVENT
DTSTART;TZID=America/New_York:20240821T120000
DTEND;TZID=America/New_York:20240821T220000
DTSTAMP:20260421T172627
CREATED:20240104T160848Z
LAST-MODIFIED:20240730T132314Z
UID:10005243-1724241600-1724277600@battlegroundz.net
SUMMARY:5 Games of Paintball for $35
DESCRIPTION:5 Games of Paintball for only $35 per person \n(Regular Price $45) \n*All Rental Gear included \n 
URL:https://battlegroundz.net/event/5-games-of-paintball-for-35-2/
LOCATION:RI
CATEGORIES:Paintball
ATTACH;FMTTYPE=image/jpeg:https://battlegroundz.net/wp-content/uploads/2023/04/IMG_2279.jpg
END:VEVENT
BEGIN:VEVENT
DTSTART;TZID=America/New_York:20240823T120000
DTEND;TZID=America/New_York:20240824T000000
DTSTAMP:20260421T172627
CREATED:20240524T151744Z
LAST-MODIFIED:20240524T151912Z
UID:10005343-1724414400-1724457600@battlegroundz.net
SUMMARY:Airsoft Session Extension $10
DESCRIPTION:Session 1: 12pm-4pm \nSession 2:4 pm-8pm \nSession 3: 8pm-12am \n  \nBuy a session of Airsoft and get the next same day session for only $10 \n*Rental gear not included
URL:https://battlegroundz.net/event/airsoft-session-extension-10-4-2/2024-08-23/
LOCATION:RI
ATTACH;FMTTYPE=image/jpeg:https://battlegroundz.net/wp-content/uploads/2023/05/IMG_2339.jpg
END:VEVENT
BEGIN:VEVENT
DTSTART;TZID=America/New_York:20240827T120000
DTEND;TZID=America/New_York:20240827T220000
DTSTAMP:20260421T172627
CREATED:20240630T195842Z
LAST-MODIFIED:20240826T180829Z
UID:10005355-1724760000-1724796000@battlegroundz.net
SUMMARY:Airsoft $20 Tuesday
DESCRIPTION:Session 1: 12pm-5pm \nSession 2: 5pm-10pm \n$20 \n5 Hours session of Unlimited Game Time + 2 slices of pizza \n*Rental gear not included
URL:https://battlegroundz.net/event/airsoft-20-tuesday-3/2024-08-27/
LOCATION:RI
CATEGORIES:Special Operating Hours
ATTACH;FMTTYPE=image/jpeg:https://battlegroundz.net/wp-content/uploads/2023/04/292396390_576834900643481_5015748945188152924_n.jpg
END:VEVENT
BEGIN:VEVENT
DTSTART;TZID=America/New_York:20240830T120000
DTEND;TZID=America/New_York:20240831T000000
DTSTAMP:20260421T172627
CREATED:20240524T151744Z
LAST-MODIFIED:20240524T151912Z
UID:10005344-1725019200-1725062400@battlegroundz.net
SUMMARY:Airsoft Session Extension $10
DESCRIPTION:Session 1: 12pm-4pm \nSession 2:4 pm-8pm \nSession 3: 8pm-12am \n  \nBuy a session of Airsoft and get the next same day session for only $10 \n*Rental gear not included
URL:https://battlegroundz.net/event/airsoft-session-extension-10-4-2/2024-08-30/
LOCATION:RI
ATTACH;FMTTYPE=image/jpeg:https://battlegroundz.net/wp-content/uploads/2023/05/IMG_2339.jpg
END:VEVENT
END:VCALENDAR