BEGIN:VCALENDAR
VERSION:2.0
PRODID:-//BattleGroundZ - ECPv6.15.20//NONSGML v1.0//EN
CALSCALE:GREGORIAN
METHOD:PUBLISH
X-WR-CALNAME:BattleGroundZ
X-ORIGINAL-URL:https://battlegroundz.net
X-WR-CALDESC:Events for BattleGroundZ
REFRESH-INTERVAL;VALUE=DURATION:PT1H
X-Robots-Tag:noindex
X-PUBLISHED-TTL:PT1H
BEGIN:VTIMEZONE
TZID:America/New_York
BEGIN:DAYLIGHT
TZOFFSETFROM:-0500
TZOFFSETTO:-0400
TZNAME:EDT
DTSTART:20260308T070000
END:DAYLIGHT
BEGIN:STANDARD
TZOFFSETFROM:-0400
TZOFFSETTO:-0500
TZNAME:EST
DTSTART:20261101T060000
END:STANDARD
BEGIN:DAYLIGHT
TZOFFSETFROM:-0500
TZOFFSETTO:-0400
TZNAME:EDT
DTSTART:20270314T070000
END:DAYLIGHT
BEGIN:STANDARD
TZOFFSETFROM:-0400
TZOFFSETTO:-0500
TZNAME:EST
DTSTART:20271107T060000
END:STANDARD
BEGIN:DAYLIGHT
TZOFFSETFROM:-0500
TZOFFSETTO:-0400
TZNAME:EDT
DTSTART:20280312T070000
END:DAYLIGHT
BEGIN:STANDARD
TZOFFSETFROM:-0400
TZOFFSETTO:-0500
TZNAME:EST
DTSTART:20281105T060000
END:STANDARD
END:VTIMEZONE
BEGIN:VEVENT
DTSTART;TZID=America/New_York:20270827T160000
DTEND;TZID=America/New_York:20270827T235900
DTSTAMP:20260421T205550
CREATED:20260331T164837Z
LAST-MODIFIED:20260331T164837Z
UID:10009031-1819382400-1819411140@battlegroundz.net
SUMMARY:Special 6-Hour Session Times!
DESCRIPTION:BattlegroundZ is offering two 6 hour sessions from 4-12 tonight. An airsoft extension is only $10! Stop by tonight for hours of fun!
URL:https://battlegroundz.net/event/special-6-hour-session-times/2027-08-27/
LOCATION:Battlegroundz\, 100 Higginson Ave\, Lincoln\, RI\, 02865\, United States
CATEGORIES:Airsoft,Airsoft
ATTACH;FMTTYPE=image/jpeg:https://battlegroundz.net/wp-content/uploads/2026/03/3-27-26-Friday-Session-Times.jpg
END:VEVENT
BEGIN:VEVENT
DTSTART;TZID=America/New_York:20270831T170000
DTEND;TZID=America/New_York:20270831T220000
DTSTAMP:20260421T205550
CREATED:20240828T134553Z
LAST-MODIFIED:20260331T195455Z
UID:10005767-1819731600-1819749600@battlegroundz.net
SUMMARY:Airsoft $20 Tuesday
DESCRIPTION:5pm-10pm \n$20 \n5 Hours session of Unlimited Game Time + 2 slices of pizza \n*Rental gear not included
URL:https://battlegroundz.net/event/airsoft-20-tuesday-2-2/2027-08-31/
LOCATION:RI
CATEGORIES:Airsoft
ATTACH;FMTTYPE=image/png:https://battlegroundz.net/wp-content/uploads/2023/08/20-tuesday-new-post.png
END:VEVENT
BEGIN:VEVENT
DTSTART;TZID=America/New_York:20270902T170000
DTEND;TZID=America/New_York:20270902T210000
DTSTAMP:20260421T205550
CREATED:20241028T193722Z
LAST-MODIFIED:20241119T170747Z
UID:10007214-1819904400-1819918800@battlegroundz.net
SUMMARY:Unlimited Paintball + 2 Slices of Pizza ONLY $30
DESCRIPTION:5pm-9pm \nUnlimited Paintball for only $30 \nincludes all rental gear & ammo \n 
URL:https://battlegroundz.net/event/unlimited-paintball-2-slices-of-pizza-only-30/2027-09-02/
LOCATION:RI
CATEGORIES:Paintball
ATTACH;FMTTYPE=image/png:https://battlegroundz.net/wp-content/uploads/2024/10/Thursday-Paintball-Unlimited.png
END:VEVENT
BEGIN:VEVENT
DTSTART;TZID=America/New_York:20270903T160000
DTEND;TZID=America/New_York:20270903T235900
DTSTAMP:20260421T205550
CREATED:20260331T164837Z
LAST-MODIFIED:20260331T164837Z
UID:10009032-1819987200-1820015940@battlegroundz.net
SUMMARY:Special 6-Hour Session Times!
DESCRIPTION:BattlegroundZ is offering two 6 hour sessions from 4-12 tonight. An airsoft extension is only $10! Stop by tonight for hours of fun!
URL:https://battlegroundz.net/event/special-6-hour-session-times/2027-09-03/
LOCATION:Battlegroundz\, 100 Higginson Ave\, Lincoln\, RI\, 02865\, United States
CATEGORIES:Airsoft,Airsoft
ATTACH;FMTTYPE=image/jpeg:https://battlegroundz.net/wp-content/uploads/2026/03/3-27-26-Friday-Session-Times.jpg
END:VEVENT
BEGIN:VEVENT
DTSTART;TZID=America/New_York:20270907T170000
DTEND;TZID=America/New_York:20270907T220000
DTSTAMP:20260421T205550
CREATED:20240828T134553Z
LAST-MODIFIED:20260331T195455Z
UID:10005768-1820336400-1820354400@battlegroundz.net
SUMMARY:Airsoft $20 Tuesday
DESCRIPTION:5pm-10pm \n$20 \n5 Hours session of Unlimited Game Time + 2 slices of pizza \n*Rental gear not included
URL:https://battlegroundz.net/event/airsoft-20-tuesday-2-2/2027-09-07/
LOCATION:RI
CATEGORIES:Airsoft
ATTACH;FMTTYPE=image/png:https://battlegroundz.net/wp-content/uploads/2023/08/20-tuesday-new-post.png
END:VEVENT
BEGIN:VEVENT
DTSTART;TZID=America/New_York:20270909T170000
DTEND;TZID=America/New_York:20270909T210000
DTSTAMP:20260421T205550
CREATED:20241028T193722Z
LAST-MODIFIED:20241119T170747Z
UID:10007221-1820509200-1820523600@battlegroundz.net
SUMMARY:Unlimited Paintball + 2 Slices of Pizza ONLY $30
DESCRIPTION:5pm-9pm \nUnlimited Paintball for only $30 \nincludes all rental gear & ammo \n 
URL:https://battlegroundz.net/event/unlimited-paintball-2-slices-of-pizza-only-30/2027-09-09/
LOCATION:RI
CATEGORIES:Paintball
ATTACH;FMTTYPE=image/png:https://battlegroundz.net/wp-content/uploads/2024/10/Thursday-Paintball-Unlimited.png
END:VEVENT
BEGIN:VEVENT
DTSTART;TZID=America/New_York:20270910T160000
DTEND;TZID=America/New_York:20270910T235900
DTSTAMP:20260421T205550
CREATED:20260331T164837Z
LAST-MODIFIED:20260331T164837Z
UID:10009033-1820592000-1820620740@battlegroundz.net
SUMMARY:Special 6-Hour Session Times!
DESCRIPTION:BattlegroundZ is offering two 6 hour sessions from 4-12 tonight. An airsoft extension is only $10! Stop by tonight for hours of fun!
URL:https://battlegroundz.net/event/special-6-hour-session-times/2027-09-10/
LOCATION:Battlegroundz\, 100 Higginson Ave\, Lincoln\, RI\, 02865\, United States
CATEGORIES:Airsoft,Airsoft
ATTACH;FMTTYPE=image/jpeg:https://battlegroundz.net/wp-content/uploads/2026/03/3-27-26-Friday-Session-Times.jpg
END:VEVENT
BEGIN:VEVENT
DTSTART;TZID=America/New_York:20270914T170000
DTEND;TZID=America/New_York:20270914T220000
DTSTAMP:20260421T205550
CREATED:20240828T134553Z
LAST-MODIFIED:20260331T195455Z
UID:10005769-1820941200-1820959200@battlegroundz.net
SUMMARY:Airsoft $20 Tuesday
DESCRIPTION:5pm-10pm \n$20 \n5 Hours session of Unlimited Game Time + 2 slices of pizza \n*Rental gear not included
URL:https://battlegroundz.net/event/airsoft-20-tuesday-2-2/2027-09-14/
LOCATION:RI
CATEGORIES:Airsoft
ATTACH;FMTTYPE=image/png:https://battlegroundz.net/wp-content/uploads/2023/08/20-tuesday-new-post.png
END:VEVENT
BEGIN:VEVENT
DTSTART;TZID=America/New_York:20270916T170000
DTEND;TZID=America/New_York:20270916T210000
DTSTAMP:20260421T205550
CREATED:20241028T193722Z
LAST-MODIFIED:20241119T170747Z
UID:10007228-1821114000-1821128400@battlegroundz.net
SUMMARY:Unlimited Paintball + 2 Slices of Pizza ONLY $30
DESCRIPTION:5pm-9pm \nUnlimited Paintball for only $30 \nincludes all rental gear & ammo \n 
URL:https://battlegroundz.net/event/unlimited-paintball-2-slices-of-pizza-only-30/2027-09-16/
LOCATION:RI
CATEGORIES:Paintball
ATTACH;FMTTYPE=image/png:https://battlegroundz.net/wp-content/uploads/2024/10/Thursday-Paintball-Unlimited.png
END:VEVENT
BEGIN:VEVENT
DTSTART;TZID=America/New_York:20270917T160000
DTEND;TZID=America/New_York:20270917T235900
DTSTAMP:20260421T205550
CREATED:20260331T164837Z
LAST-MODIFIED:20260331T164837Z
UID:10009034-1821196800-1821225540@battlegroundz.net
SUMMARY:Special 6-Hour Session Times!
DESCRIPTION:BattlegroundZ is offering two 6 hour sessions from 4-12 tonight. An airsoft extension is only $10! Stop by tonight for hours of fun!
URL:https://battlegroundz.net/event/special-6-hour-session-times/2027-09-17/
LOCATION:Battlegroundz\, 100 Higginson Ave\, Lincoln\, RI\, 02865\, United States
CATEGORIES:Airsoft,Airsoft
ATTACH;FMTTYPE=image/jpeg:https://battlegroundz.net/wp-content/uploads/2026/03/3-27-26-Friday-Session-Times.jpg
END:VEVENT
BEGIN:VEVENT
DTSTART;TZID=America/New_York:20270921T170000
DTEND;TZID=America/New_York:20270921T220000
DTSTAMP:20260421T205550
CREATED:20240828T134553Z
LAST-MODIFIED:20260331T195455Z
UID:10005770-1821546000-1821564000@battlegroundz.net
SUMMARY:Airsoft $20 Tuesday
DESCRIPTION:5pm-10pm \n$20 \n5 Hours session of Unlimited Game Time + 2 slices of pizza \n*Rental gear not included
URL:https://battlegroundz.net/event/airsoft-20-tuesday-2-2/2027-09-21/
LOCATION:RI
CATEGORIES:Airsoft
ATTACH;FMTTYPE=image/png:https://battlegroundz.net/wp-content/uploads/2023/08/20-tuesday-new-post.png
END:VEVENT
BEGIN:VEVENT
DTSTART;TZID=America/New_York:20270923T170000
DTEND;TZID=America/New_York:20270923T210000
DTSTAMP:20260421T205550
CREATED:20241028T193722Z
LAST-MODIFIED:20241119T170747Z
UID:10007235-1821718800-1821733200@battlegroundz.net
SUMMARY:Unlimited Paintball + 2 Slices of Pizza ONLY $30
DESCRIPTION:5pm-9pm \nUnlimited Paintball for only $30 \nincludes all rental gear & ammo \n 
URL:https://battlegroundz.net/event/unlimited-paintball-2-slices-of-pizza-only-30/2027-09-23/
LOCATION:RI
CATEGORIES:Paintball
ATTACH;FMTTYPE=image/png:https://battlegroundz.net/wp-content/uploads/2024/10/Thursday-Paintball-Unlimited.png
END:VEVENT
BEGIN:VEVENT
DTSTART;TZID=America/New_York:20270924T160000
DTEND;TZID=America/New_York:20270924T235900
DTSTAMP:20260421T205550
CREATED:20260331T164837Z
LAST-MODIFIED:20260331T164837Z
UID:10009035-1821801600-1821830340@battlegroundz.net
SUMMARY:Special 6-Hour Session Times!
DESCRIPTION:BattlegroundZ is offering two 6 hour sessions from 4-12 tonight. An airsoft extension is only $10! Stop by tonight for hours of fun!
URL:https://battlegroundz.net/event/special-6-hour-session-times/2027-09-24/
LOCATION:Battlegroundz\, 100 Higginson Ave\, Lincoln\, RI\, 02865\, United States
CATEGORIES:Airsoft,Airsoft
ATTACH;FMTTYPE=image/jpeg:https://battlegroundz.net/wp-content/uploads/2026/03/3-27-26-Friday-Session-Times.jpg
END:VEVENT
BEGIN:VEVENT
DTSTART;TZID=America/New_York:20270928T170000
DTEND;TZID=America/New_York:20270928T220000
DTSTAMP:20260421T205550
CREATED:20240828T134553Z
LAST-MODIFIED:20260331T195455Z
UID:10005771-1822150800-1822168800@battlegroundz.net
SUMMARY:Airsoft $20 Tuesday
DESCRIPTION:5pm-10pm \n$20 \n5 Hours session of Unlimited Game Time + 2 slices of pizza \n*Rental gear not included
URL:https://battlegroundz.net/event/airsoft-20-tuesday-2-2/2027-09-28/
LOCATION:RI
CATEGORIES:Airsoft
ATTACH;FMTTYPE=image/png:https://battlegroundz.net/wp-content/uploads/2023/08/20-tuesday-new-post.png
END:VEVENT
BEGIN:VEVENT
DTSTART;TZID=America/New_York:20270930T170000
DTEND;TZID=America/New_York:20270930T210000
DTSTAMP:20260421T205550
CREATED:20241028T193722Z
LAST-MODIFIED:20241119T170747Z
UID:10007242-1822323600-1822338000@battlegroundz.net
SUMMARY:Unlimited Paintball + 2 Slices of Pizza ONLY $30
DESCRIPTION:5pm-9pm \nUnlimited Paintball for only $30 \nincludes all rental gear & ammo \n 
URL:https://battlegroundz.net/event/unlimited-paintball-2-slices-of-pizza-only-30/2027-09-30/
LOCATION:RI
CATEGORIES:Paintball
ATTACH;FMTTYPE=image/png:https://battlegroundz.net/wp-content/uploads/2024/10/Thursday-Paintball-Unlimited.png
END:VEVENT
BEGIN:VEVENT
DTSTART;TZID=America/New_York:20271001T160000
DTEND;TZID=America/New_York:20271001T235900
DTSTAMP:20260421T205550
CREATED:20260331T164837Z
LAST-MODIFIED:20260331T164837Z
UID:10009036-1822406400-1822435140@battlegroundz.net
SUMMARY:Special 6-Hour Session Times!
DESCRIPTION:BattlegroundZ is offering two 6 hour sessions from 4-12 tonight. An airsoft extension is only $10! Stop by tonight for hours of fun!
URL:https://battlegroundz.net/event/special-6-hour-session-times/2027-10-01/
LOCATION:Battlegroundz\, 100 Higginson Ave\, Lincoln\, RI\, 02865\, United States
CATEGORIES:Airsoft,Airsoft
ATTACH;FMTTYPE=image/jpeg:https://battlegroundz.net/wp-content/uploads/2026/03/3-27-26-Friday-Session-Times.jpg
END:VEVENT
BEGIN:VEVENT
DTSTART;TZID=America/New_York:20271005T170000
DTEND;TZID=America/New_York:20271005T220000
DTSTAMP:20260421T205550
CREATED:20240828T134553Z
LAST-MODIFIED:20260331T195455Z
UID:10005772-1822755600-1822773600@battlegroundz.net
SUMMARY:Airsoft $20 Tuesday
DESCRIPTION:5pm-10pm \n$20 \n5 Hours session of Unlimited Game Time + 2 slices of pizza \n*Rental gear not included
URL:https://battlegroundz.net/event/airsoft-20-tuesday-2-2/2027-10-05/
LOCATION:RI
CATEGORIES:Airsoft
ATTACH;FMTTYPE=image/png:https://battlegroundz.net/wp-content/uploads/2023/08/20-tuesday-new-post.png
END:VEVENT
BEGIN:VEVENT
DTSTART;TZID=America/New_York:20271007T170000
DTEND;TZID=America/New_York:20271007T210000
DTSTAMP:20260421T205550
CREATED:20241028T193722Z
LAST-MODIFIED:20241119T170747Z
UID:10007249-1822928400-1822942800@battlegroundz.net
SUMMARY:Unlimited Paintball + 2 Slices of Pizza ONLY $30
DESCRIPTION:5pm-9pm \nUnlimited Paintball for only $30 \nincludes all rental gear & ammo \n 
URL:https://battlegroundz.net/event/unlimited-paintball-2-slices-of-pizza-only-30/2027-10-07/
LOCATION:RI
CATEGORIES:Paintball
ATTACH;FMTTYPE=image/png:https://battlegroundz.net/wp-content/uploads/2024/10/Thursday-Paintball-Unlimited.png
END:VEVENT
BEGIN:VEVENT
DTSTART;TZID=America/New_York:20271008T160000
DTEND;TZID=America/New_York:20271008T235900
DTSTAMP:20260421T205550
CREATED:20260331T164837Z
LAST-MODIFIED:20260331T164837Z
UID:10009037-1823011200-1823039940@battlegroundz.net
SUMMARY:Special 6-Hour Session Times!
DESCRIPTION:BattlegroundZ is offering two 6 hour sessions from 4-12 tonight. An airsoft extension is only $10! Stop by tonight for hours of fun!
URL:https://battlegroundz.net/event/special-6-hour-session-times/2027-10-08/
LOCATION:Battlegroundz\, 100 Higginson Ave\, Lincoln\, RI\, 02865\, United States
CATEGORIES:Airsoft,Airsoft
ATTACH;FMTTYPE=image/jpeg:https://battlegroundz.net/wp-content/uploads/2026/03/3-27-26-Friday-Session-Times.jpg
END:VEVENT
BEGIN:VEVENT
DTSTART;TZID=America/New_York:20271012T170000
DTEND;TZID=America/New_York:20271012T220000
DTSTAMP:20260421T205550
CREATED:20240828T134553Z
LAST-MODIFIED:20260331T195455Z
UID:10005773-1823360400-1823378400@battlegroundz.net
SUMMARY:Airsoft $20 Tuesday
DESCRIPTION:5pm-10pm \n$20 \n5 Hours session of Unlimited Game Time + 2 slices of pizza \n*Rental gear not included
URL:https://battlegroundz.net/event/airsoft-20-tuesday-2-2/2027-10-12/
LOCATION:RI
CATEGORIES:Airsoft
ATTACH;FMTTYPE=image/png:https://battlegroundz.net/wp-content/uploads/2023/08/20-tuesday-new-post.png
END:VEVENT
BEGIN:VEVENT
DTSTART;TZID=America/New_York:20271014T170000
DTEND;TZID=America/New_York:20271014T210000
DTSTAMP:20260421T205550
CREATED:20241028T193722Z
LAST-MODIFIED:20241119T170747Z
UID:10007256-1823533200-1823547600@battlegroundz.net
SUMMARY:Unlimited Paintball + 2 Slices of Pizza ONLY $30
DESCRIPTION:5pm-9pm \nUnlimited Paintball for only $30 \nincludes all rental gear & ammo \n 
URL:https://battlegroundz.net/event/unlimited-paintball-2-slices-of-pizza-only-30/2027-10-14/
LOCATION:RI
CATEGORIES:Paintball
ATTACH;FMTTYPE=image/png:https://battlegroundz.net/wp-content/uploads/2024/10/Thursday-Paintball-Unlimited.png
END:VEVENT
BEGIN:VEVENT
DTSTART;TZID=America/New_York:20271015T160000
DTEND;TZID=America/New_York:20271015T235900
DTSTAMP:20260421T205550
CREATED:20260331T164837Z
LAST-MODIFIED:20260331T164837Z
UID:10009038-1823616000-1823644740@battlegroundz.net
SUMMARY:Special 6-Hour Session Times!
DESCRIPTION:BattlegroundZ is offering two 6 hour sessions from 4-12 tonight. An airsoft extension is only $10! Stop by tonight for hours of fun!
URL:https://battlegroundz.net/event/special-6-hour-session-times/2027-10-15/
LOCATION:Battlegroundz\, 100 Higginson Ave\, Lincoln\, RI\, 02865\, United States
CATEGORIES:Airsoft,Airsoft
ATTACH;FMTTYPE=image/jpeg:https://battlegroundz.net/wp-content/uploads/2026/03/3-27-26-Friday-Session-Times.jpg
END:VEVENT
BEGIN:VEVENT
DTSTART;TZID=America/New_York:20271019T170000
DTEND;TZID=America/New_York:20271019T220000
DTSTAMP:20260421T205550
CREATED:20240828T134553Z
LAST-MODIFIED:20260331T195455Z
UID:10005774-1823965200-1823983200@battlegroundz.net
SUMMARY:Airsoft $20 Tuesday
DESCRIPTION:5pm-10pm \n$20 \n5 Hours session of Unlimited Game Time + 2 slices of pizza \n*Rental gear not included
URL:https://battlegroundz.net/event/airsoft-20-tuesday-2-2/2027-10-19/
LOCATION:RI
CATEGORIES:Airsoft
ATTACH;FMTTYPE=image/png:https://battlegroundz.net/wp-content/uploads/2023/08/20-tuesday-new-post.png
END:VEVENT
BEGIN:VEVENT
DTSTART;TZID=America/New_York:20271021T170000
DTEND;TZID=America/New_York:20271021T210000
DTSTAMP:20260421T205550
CREATED:20241028T193722Z
LAST-MODIFIED:20241119T170747Z
UID:10007263-1824138000-1824152400@battlegroundz.net
SUMMARY:Unlimited Paintball + 2 Slices of Pizza ONLY $30
DESCRIPTION:5pm-9pm \nUnlimited Paintball for only $30 \nincludes all rental gear & ammo \n 
URL:https://battlegroundz.net/event/unlimited-paintball-2-slices-of-pizza-only-30/2027-10-21/
LOCATION:RI
CATEGORIES:Paintball
ATTACH;FMTTYPE=image/png:https://battlegroundz.net/wp-content/uploads/2024/10/Thursday-Paintball-Unlimited.png
END:VEVENT
BEGIN:VEVENT
DTSTART;TZID=America/New_York:20271022T160000
DTEND;TZID=America/New_York:20271022T235900
DTSTAMP:20260421T205550
CREATED:20260331T164837Z
LAST-MODIFIED:20260331T164837Z
UID:10009039-1824220800-1824249540@battlegroundz.net
SUMMARY:Special 6-Hour Session Times!
DESCRIPTION:BattlegroundZ is offering two 6 hour sessions from 4-12 tonight. An airsoft extension is only $10! Stop by tonight for hours of fun!
URL:https://battlegroundz.net/event/special-6-hour-session-times/2027-10-22/
LOCATION:Battlegroundz\, 100 Higginson Ave\, Lincoln\, RI\, 02865\, United States
CATEGORIES:Airsoft,Airsoft
ATTACH;FMTTYPE=image/jpeg:https://battlegroundz.net/wp-content/uploads/2026/03/3-27-26-Friday-Session-Times.jpg
END:VEVENT
BEGIN:VEVENT
DTSTART;TZID=America/New_York:20271026T170000
DTEND;TZID=America/New_York:20271026T220000
DTSTAMP:20260421T205550
CREATED:20240828T134553Z
LAST-MODIFIED:20260331T195455Z
UID:10005775-1824570000-1824588000@battlegroundz.net
SUMMARY:Airsoft $20 Tuesday
DESCRIPTION:5pm-10pm \n$20 \n5 Hours session of Unlimited Game Time + 2 slices of pizza \n*Rental gear not included
URL:https://battlegroundz.net/event/airsoft-20-tuesday-2-2/2027-10-26/
LOCATION:RI
CATEGORIES:Airsoft
ATTACH;FMTTYPE=image/png:https://battlegroundz.net/wp-content/uploads/2023/08/20-tuesday-new-post.png
END:VEVENT
BEGIN:VEVENT
DTSTART;TZID=America/New_York:20271028T170000
DTEND;TZID=America/New_York:20271028T210000
DTSTAMP:20260421T205550
CREATED:20241028T193722Z
LAST-MODIFIED:20241119T170747Z
UID:10007270-1824742800-1824757200@battlegroundz.net
SUMMARY:Unlimited Paintball + 2 Slices of Pizza ONLY $30
DESCRIPTION:5pm-9pm \nUnlimited Paintball for only $30 \nincludes all rental gear & ammo \n 
URL:https://battlegroundz.net/event/unlimited-paintball-2-slices-of-pizza-only-30/2027-10-28/
LOCATION:RI
CATEGORIES:Paintball
ATTACH;FMTTYPE=image/png:https://battlegroundz.net/wp-content/uploads/2024/10/Thursday-Paintball-Unlimited.png
END:VEVENT
BEGIN:VEVENT
DTSTART;TZID=America/New_York:20271029T160000
DTEND;TZID=America/New_York:20271029T235900
DTSTAMP:20260421T205550
CREATED:20260331T164837Z
LAST-MODIFIED:20260331T164837Z
UID:10009040-1824825600-1824854340@battlegroundz.net
SUMMARY:Special 6-Hour Session Times!
DESCRIPTION:BattlegroundZ is offering two 6 hour sessions from 4-12 tonight. An airsoft extension is only $10! Stop by tonight for hours of fun!
URL:https://battlegroundz.net/event/special-6-hour-session-times/2027-10-29/
LOCATION:Battlegroundz\, 100 Higginson Ave\, Lincoln\, RI\, 02865\, United States
CATEGORIES:Airsoft,Airsoft
ATTACH;FMTTYPE=image/jpeg:https://battlegroundz.net/wp-content/uploads/2026/03/3-27-26-Friday-Session-Times.jpg
END:VEVENT
BEGIN:VEVENT
DTSTART;TZID=America/New_York:20271102T170000
DTEND;TZID=America/New_York:20271102T220000
DTSTAMP:20260421T205550
CREATED:20240828T134553Z
LAST-MODIFIED:20260331T195455Z
UID:10005776-1825174800-1825192800@battlegroundz.net
SUMMARY:Airsoft $20 Tuesday
DESCRIPTION:5pm-10pm \n$20 \n5 Hours session of Unlimited Game Time + 2 slices of pizza \n*Rental gear not included
URL:https://battlegroundz.net/event/airsoft-20-tuesday-2-2/2027-11-02/
LOCATION:RI
CATEGORIES:Airsoft
ATTACH;FMTTYPE=image/png:https://battlegroundz.net/wp-content/uploads/2023/08/20-tuesday-new-post.png
END:VEVENT
BEGIN:VEVENT
DTSTART;TZID=America/New_York:20271104T170000
DTEND;TZID=America/New_York:20271104T210000
DTSTAMP:20260421T205550
CREATED:20241028T193722Z
LAST-MODIFIED:20241119T170747Z
UID:10007277-1825347600-1825362000@battlegroundz.net
SUMMARY:Unlimited Paintball + 2 Slices of Pizza ONLY $30
DESCRIPTION:5pm-9pm \nUnlimited Paintball for only $30 \nincludes all rental gear & ammo \n 
URL:https://battlegroundz.net/event/unlimited-paintball-2-slices-of-pizza-only-30/2027-11-04/
LOCATION:RI
CATEGORIES:Paintball
ATTACH;FMTTYPE=image/png:https://battlegroundz.net/wp-content/uploads/2024/10/Thursday-Paintball-Unlimited.png
END:VEVENT
END:VCALENDAR