BEGIN:VCALENDAR
VERSION:2.0
PRODID:-//BattleGroundZ - ECPv6.15.20//NONSGML v1.0//EN
CALSCALE:GREGORIAN
METHOD:PUBLISH
X-WR-CALNAME:BattleGroundZ
X-ORIGINAL-URL:https://battlegroundz.net
X-WR-CALDESC:Events for BattleGroundZ
REFRESH-INTERVAL;VALUE=DURATION:PT1H
X-Robots-Tag:noindex
X-PUBLISHED-TTL:PT1H
BEGIN:VTIMEZONE
TZID:America/New_York
BEGIN:DAYLIGHT
TZOFFSETFROM:-0500
TZOFFSETTO:-0400
TZNAME:EDT
DTSTART:20250309T070000
END:DAYLIGHT
BEGIN:STANDARD
TZOFFSETFROM:-0400
TZOFFSETTO:-0500
TZNAME:EST
DTSTART:20251102T060000
END:STANDARD
BEGIN:DAYLIGHT
TZOFFSETFROM:-0500
TZOFFSETTO:-0400
TZNAME:EDT
DTSTART:20260308T070000
END:DAYLIGHT
BEGIN:STANDARD
TZOFFSETFROM:-0400
TZOFFSETTO:-0500
TZNAME:EST
DTSTART:20261101T060000
END:STANDARD
BEGIN:DAYLIGHT
TZOFFSETFROM:-0500
TZOFFSETTO:-0400
TZNAME:EDT
DTSTART:20270314T070000
END:DAYLIGHT
BEGIN:STANDARD
TZOFFSETFROM:-0400
TZOFFSETTO:-0500
TZNAME:EST
DTSTART:20271107T060000
END:STANDARD
END:VTIMEZONE
BEGIN:VEVENT
DTSTART;TZID=America/New_York:20260118T120000
DTEND;TZID=America/New_York:20260118T200000
DTSTAMP:20260421T002458
CREATED:20260115T204212Z
LAST-MODIFIED:20260115T204212Z
UID:10008920-1768737600-1768766400@battlegroundz.net
SUMMARY:Meatball Sub\, Only $11.99!
DESCRIPTION:Our meatball subs come on toasted torpedo rolls oozing with marinara sauce and melted mozzarella cheese. Make it a combo and add fries for only $4 more!
URL:https://battlegroundz.net/event/meatball-sub-only-11-99/
LOCATION:Battlegroundz\, 100 Higginson Ave\, Lincoln\, RI\, 02865\, United States
CATEGORIES:Restaurant and Bar Specials
ATTACH;FMTTYPE=image/png:https://battlegroundz.net/wp-content/uploads/2026/01/Meatball-Sub.png
END:VEVENT
BEGIN:VEVENT
DTSTART;TZID=America/New_York:20260119T120000
DTEND;TZID=America/New_York:20260119T220000
DTSTAMP:20260421T002458
CREATED:20251228T191416Z
LAST-MODIFIED:20260115T204438Z
UID:10008853-1768824000-1768860000@battlegroundz.net
SUMMARY:Holiday Hours for MLK Day!
DESCRIPTION:Happy MLK Day from your friends at BattlegroundZ! We will be offering all activities today and lazer tag matinee pricing all day! (3 rds/$20\, 6 rds/$35 \nToday All activities open at noon! \nEnjoy Matinee Pricing for our Mix-N-Match games from 12pm to 6pm today! Choose any combination of Laser Tag\, Gel Blasters\, Dodgeball or Dart Wars. \n\n3  10 minute rounds for $20/per person\n6  10 minute rounds for $35/per person\n\nEnjoy a 24oz Slushy for $3.79 today! \nAirsoft Sessions today are 12pm to 5pm and 5pm to 10pm
URL:https://battlegroundz.net/event/holiday-hours-for-mlk-day/
LOCATION:Battlegroundz\, 100 Higginson Ave\, Lincoln\, RI\, 02865\, United States
CATEGORIES:Experience Special Hours,Special Operating Hours
ATTACH;FMTTYPE=image/jpeg:https://battlegroundz.net/wp-content/uploads/2025/12/MLK-Day-Post-2026.jpg
END:VEVENT
BEGIN:VEVENT
DTSTART;TZID=America/New_York:20260120T170000
DTEND;TZID=America/New_York:20260120T220000
DTSTAMP:20260421T002458
CREATED:20240828T134553Z
LAST-MODIFIED:20260331T195455Z
UID:10005683-1768928400-1768946400@battlegroundz.net
SUMMARY:Airsoft $20 Tuesday
DESCRIPTION:5pm-10pm \n$20 \n5 Hours session of Unlimited Game Time + 2 slices of pizza \n*Rental gear not included
URL:https://battlegroundz.net/event/airsoft-20-tuesday-2-2/2026-01-20/
LOCATION:RI
CATEGORIES:Airsoft
ATTACH;FMTTYPE=image/png:https://battlegroundz.net/wp-content/uploads/2023/08/20-tuesday-new-post.png
END:VEVENT
BEGIN:VEVENT
DTSTART;TZID=America/New_York:20260121T120000
DTEND;TZID=America/New_York:20260121T220000
DTSTAMP:20260421T002458
CREATED:20260115T204833Z
LAST-MODIFIED:20260115T204833Z
UID:10008921-1768996800-1769032800@battlegroundz.net
SUMMARY:3 Games Of Gel Blasters Only $20 Today!
DESCRIPTION:Maneuver around our lazer tag arena with a hopper full of water filled orbs for 10 minutes with intense music playing in the background!
URL:https://battlegroundz.net/event/3-games-of-gel-blasters-only-20-today/
LOCATION:Battlegroundz\, 100 Higginson Ave\, Lincoln\, RI\, 02865\, United States
CATEGORIES:Gel Blasters
ATTACH;FMTTYPE=image/jpeg:https://battlegroundz.net/wp-content/uploads/2026/01/3-Games-of-Gel-Blaster-for-20.jpg
END:VEVENT
BEGIN:VEVENT
DTSTART;TZID=America/New_York:20260122T170000
DTEND;TZID=America/New_York:20260122T210000
DTSTAMP:20260421T002458
CREATED:20241028T193722Z
LAST-MODIFIED:20241119T170747Z
UID:10006626-1769101200-1769115600@battlegroundz.net
SUMMARY:Unlimited Paintball + 2 Slices of Pizza ONLY $30
DESCRIPTION:5pm-9pm \nUnlimited Paintball for only $30 \nincludes all rental gear & ammo \n 
URL:https://battlegroundz.net/event/unlimited-paintball-2-slices-of-pizza-only-30/2026-01-22/
LOCATION:RI
CATEGORIES:Paintball
ATTACH;FMTTYPE=image/png:https://battlegroundz.net/wp-content/uploads/2024/10/Thursday-Paintball-Unlimited.png
END:VEVENT
BEGIN:VEVENT
DTSTART;TZID=America/New_York:20260123T190000
DTEND;TZID=America/New_York:20260123T210000
DTSTAMP:20260421T002458
CREATED:20260115T205225Z
LAST-MODIFIED:20260115T205225Z
UID:10008922-1769194800-1769202000@battlegroundz.net
SUMMARY:Paint Nite At BattlegroundZ!
DESCRIPTION:Scan the QR code here to learn more & sign up for a painting demonstration from top local artist Joshua Altobelli!
URL:https://battlegroundz.net/event/paint-nite-at-battlegroundz/
LOCATION:Battlegroundz\, 100 Higginson Ave\, Lincoln\, RI\, 02865\, United States
ATTACH;FMTTYPE=image/jpeg:https://battlegroundz.net/wp-content/uploads/2026/01/Paint-Nite-January-23rd.jpg
END:VEVENT
BEGIN:VEVENT
DTSTART;TZID=America/New_York:20260124T120000
DTEND;TZID=America/New_York:20260124T220000
DTSTAMP:20260421T002458
CREATED:20260115T210413Z
LAST-MODIFIED:20260115T210413Z
UID:10008923-1769256000-1769292000@battlegroundz.net
SUMMARY:BBQ Chicken Loaded Fries\, Only $10.99 Today!
DESCRIPTION:Enjoy a heaping bowl of perfectly cooked fries layered with crispy barbeque chicken and plenty of sauce!
URL:https://battlegroundz.net/event/bbq-chicken-loaded-fries-only-10-99-today/
LOCATION:Battlegroundz\, 100 Higginson Ave\, Lincoln\, RI\, 02865\, United States
CATEGORIES:Restaurant and Bar Specials
ATTACH;FMTTYPE=image/jpeg:https://battlegroundz.net/wp-content/uploads/2026/01/BBQ-Chicken-Loaded-Fries-11.99.jpg
END:VEVENT
BEGIN:VEVENT
DTSTART;TZID=America/New_York:20260125T120000
DTEND;TZID=America/New_York:20260125T200000
DTSTAMP:20260421T002458
CREATED:20260115T210759Z
LAST-MODIFIED:20260115T210759Z
UID:10008924-1769342400-1769371200@battlegroundz.net
SUMMARY:Cinnamon Pretzel Bites\, Only $5.75 Today!
DESCRIPTION:Try our newly added cinnamon pretzel bites with a side of cream cheese icing\, only $5.75!
URL:https://battlegroundz.net/event/cinnamon-pretzel-bites-only-5-75-today/
LOCATION:Battlegroundz\, 100 Higginson Ave\, Lincoln\, RI\, 02865\, United States
CATEGORIES:Restaurant and Bar Specials
ATTACH;FMTTYPE=image/png:https://battlegroundz.net/wp-content/uploads/2026/01/Cinnamon-Pretzel-Bites.png
END:VEVENT
BEGIN:VEVENT
DTSTART;TZID=America/New_York:20260126T170000
DTEND;TZID=America/New_York:20260126T220000
DTSTAMP:20260421T002458
CREATED:20260115T211506Z
LAST-MODIFIED:20260115T211506Z
UID:10008925-1769446800-1769464800@battlegroundz.net
SUMMARY:5 Games Of Airsoft Was $28\, Only $23 Today!
DESCRIPTION:Play 5 airsoft matches for the price of 3 (rental gear not included). Experience the thrill of our city-inspired field and work with your teammates to come out on top!
URL:https://battlegroundz.net/event/5-games-of-airsoft-was-28-only-23-today/
LOCATION:Battlegroundz\, 100 Higginson Ave\, Lincoln\, RI\, 02865\, United States
CATEGORIES:Airsoft
ATTACH;FMTTYPE=image/jpeg:https://battlegroundz.net/wp-content/uploads/2026/01/5-Games-of-Airsoft-was-28-now-its-23.jpg
END:VEVENT
BEGIN:VEVENT
DTSTART;TZID=America/New_York:20260127T170000
DTEND;TZID=America/New_York:20260127T220000
DTSTAMP:20260421T002458
CREATED:20240828T134553Z
LAST-MODIFIED:20260331T195455Z
UID:10005684-1769533200-1769551200@battlegroundz.net
SUMMARY:Airsoft $20 Tuesday
DESCRIPTION:5pm-10pm \n$20 \n5 Hours session of Unlimited Game Time + 2 slices of pizza \n*Rental gear not included
URL:https://battlegroundz.net/event/airsoft-20-tuesday-2-2/2026-01-27/
LOCATION:RI
CATEGORIES:Airsoft
ATTACH;FMTTYPE=image/png:https://battlegroundz.net/wp-content/uploads/2023/08/20-tuesday-new-post.png
END:VEVENT
BEGIN:VEVENT
DTSTART;TZID=America/New_York:20260128T170000
DTEND;TZID=America/New_York:20260128T220000
DTSTAMP:20260421T002458
CREATED:20260115T211841Z
LAST-MODIFIED:20260115T211841Z
UID:10008926-1769619600-1769637600@battlegroundz.net
SUMMARY:3 Games Of Archery Tag\, Only $15 Today!
DESCRIPTION:Give archery a try today\, only $15 for 3 ten minute rounds (normally $25). We have youth and adult sized bows available and inflatable bunkers that you can use for cover
URL:https://battlegroundz.net/event/3-games-of-archery-tag-only-15-today/
LOCATION:Battlegroundz\, 100 Higginson Ave\, Lincoln\, RI\, 02865\, United States
CATEGORIES:Archery Tag
ATTACH;FMTTYPE=image/jpeg:https://battlegroundz.net/wp-content/uploads/2026/01/3-games-of-archery-tag-15.jpg
END:VEVENT
BEGIN:VEVENT
DTSTART;TZID=America/New_York:20260129T170000
DTEND;TZID=America/New_York:20260129T210000
DTSTAMP:20260421T002458
CREATED:20241028T193722Z
LAST-MODIFIED:20241119T170747Z
UID:10006633-1769706000-1769720400@battlegroundz.net
SUMMARY:Unlimited Paintball + 2 Slices of Pizza ONLY $30
DESCRIPTION:5pm-9pm \nUnlimited Paintball for only $30 \nincludes all rental gear & ammo \n 
URL:https://battlegroundz.net/event/unlimited-paintball-2-slices-of-pizza-only-30/2026-01-29/
LOCATION:RI
CATEGORIES:Paintball
ATTACH;FMTTYPE=image/png:https://battlegroundz.net/wp-content/uploads/2024/10/Thursday-Paintball-Unlimited.png
END:VEVENT
BEGIN:VEVENT
DTSTART;TZID=America/New_York:20260201T120000
DTEND;TZID=America/New_York:20260201T200000
DTSTAMP:20260421T002458
CREATED:20260115T212849Z
LAST-MODIFIED:20260115T212849Z
UID:10008928-1769947200-1769976000@battlegroundz.net
SUMMARY:Chicken Parm Sub\, Only $11.99 Today!
DESCRIPTION:Our crispy chicken parm cutlets are served on toasted torpedo rolls and oozing with marinara sauce and mozzarella cheese!
URL:https://battlegroundz.net/event/chicken-parm-sub-only-11-99-today/
LOCATION:Battlegroundz\, 100 Higginson Ave\, Lincoln\, RI\, 02865\, United States
CATEGORIES:Restaurant and Bar Specials
ATTACH;FMTTYPE=image/png:https://battlegroundz.net/wp-content/uploads/2026/01/Chicken-Parm-Sub.png
END:VEVENT
BEGIN:VEVENT
DTSTART;TZID=America/New_York:20260203T170000
DTEND;TZID=America/New_York:20260203T220000
DTSTAMP:20260421T002458
CREATED:20240828T134553Z
LAST-MODIFIED:20260331T195455Z
UID:10005685-1770138000-1770156000@battlegroundz.net
SUMMARY:Airsoft $20 Tuesday
DESCRIPTION:5pm-10pm \n$20 \n5 Hours session of Unlimited Game Time + 2 slices of pizza \n*Rental gear not included
URL:https://battlegroundz.net/event/airsoft-20-tuesday-2-2/2026-02-03/
LOCATION:RI
CATEGORIES:Airsoft
ATTACH;FMTTYPE=image/png:https://battlegroundz.net/wp-content/uploads/2023/08/20-tuesday-new-post.png
END:VEVENT
BEGIN:VEVENT
DTSTART;TZID=America/New_York:20260204T170000
DTEND;TZID=America/New_York:20260204T220000
DTSTAMP:20260421T002458
CREATED:20260130T223519Z
LAST-MODIFIED:20260130T223519Z
UID:10008930-1770224400-1770242400@battlegroundz.net
SUMMARY:3 Games Of Paintball for Groups of 4+\, Only $30!
DESCRIPTION:Enjoy 3 games of paintball for $30 🤯 Mask\, chest protector\, a rental paintball gun & 200 paintballs per game included
URL:https://battlegroundz.net/event/3-games-of-paintball-for-groups-of-4-only-30/
LOCATION:Battlegroundz\, 100 Higginson Ave\, Lincoln\, RI\, 02865\, United States
CATEGORIES:Paintball
ATTACH;FMTTYPE=image/jpeg:https://battlegroundz.net/wp-content/uploads/2026/01/5-off-3-games-of-paint-ball-groups-of-4-or-more.jpg
END:VEVENT
BEGIN:VEVENT
DTSTART;TZID=America/New_York:20260205T170000
DTEND;TZID=America/New_York:20260205T210000
DTSTAMP:20260421T002458
CREATED:20241028T193722Z
LAST-MODIFIED:20241119T170747Z
UID:10006640-1770310800-1770325200@battlegroundz.net
SUMMARY:Unlimited Paintball + 2 Slices of Pizza ONLY $30
DESCRIPTION:5pm-9pm \nUnlimited Paintball for only $30 \nincludes all rental gear & ammo \n 
URL:https://battlegroundz.net/event/unlimited-paintball-2-slices-of-pizza-only-30/2026-02-05/
LOCATION:RI
CATEGORIES:Paintball
ATTACH;FMTTYPE=image/png:https://battlegroundz.net/wp-content/uploads/2024/10/Thursday-Paintball-Unlimited.png
END:VEVENT
BEGIN:VEVENT
DTSTART;TZID=America/New_York:20260207T120000
DTEND;TZID=America/New_York:20260207T220000
DTSTAMP:20260421T002458
CREATED:20260130T223859Z
LAST-MODIFIED:20260130T223859Z
UID:10008931-1770465600-1770501600@battlegroundz.net
SUMMARY:Grilled Cheese w/ Fries\, only $6.99!
DESCRIPTION:Come on in from 12-10PM tonight and enjoy a gooey grilled cheese on white or wheat bread! Comes with a side of fries\, only $6.99!
URL:https://battlegroundz.net/event/grilled-cheese-w-fries-only-6-99/
LOCATION:Battlegroundz\, 100 Higginson Ave\, Lincoln\, RI\, 02865\, United States
CATEGORIES:Restaurant and Bar Specials
ATTACH;FMTTYPE=image/png:https://battlegroundz.net/wp-content/uploads/2026/01/DOTD-Grilled-Cheese-Fries.png
END:VEVENT
BEGIN:VEVENT
DTSTART;TZID=America/New_York:20260208T120000
DTEND;TZID=America/New_York:20260208T200000
DTSTAMP:20260421T002458
CREATED:20260130T224649Z
LAST-MODIFIED:20260130T224649Z
UID:10008932-1770552000-1770580800@battlegroundz.net
SUMMARY:Happy Super Bowl Sunday!
DESCRIPTION:Stop by from 12-8 tonight and enjoy a savory buffalo chicken sub while you watch the game. Only $10.99!
URL:https://battlegroundz.net/event/happy-super-bowl-sunday/
LOCATION:Battlegroundz\, 100 Higginson Ave\, Lincoln\, RI\, 02865\, United States
CATEGORIES:Restaurant and Bar Specials
ATTACH;FMTTYPE=image/png:https://battlegroundz.net/wp-content/uploads/2026/01/Buffalo-Chicken-Sub.png
END:VEVENT
BEGIN:VEVENT
DTSTART;TZID=America/New_York:20260209T170000
DTEND;TZID=America/New_York:20260209T220000
DTSTAMP:20260421T002458
CREATED:20260130T225115Z
LAST-MODIFIED:20260130T225115Z
UID:10008933-1770656400-1770674400@battlegroundz.net
SUMMARY:4 Rounds Of Mix-N-Match was $32\, today only $28!
DESCRIPTION:These 4 Mix-N-Match activities will be offered at a discounted price today! Try each one for only $28 per person! Offered from 5-10PM
URL:https://battlegroundz.net/event/4-rounds-of-mix-n-match-was-32-today-only-28/
LOCATION:Battlegroundz\, 100 Higginson Ave\, Lincoln\, RI\, 02865\, United States
CATEGORIES:Archery Tag,Gel Blasters,Lazer Tag
ATTACH;FMTTYPE=image/jpeg:https://battlegroundz.net/wp-content/uploads/2026/01/4-Rounds-Mix-And-Match-Was-32-Today-Only-28.jpg
END:VEVENT
BEGIN:VEVENT
DTSTART;TZID=America/New_York:20260210T170000
DTEND;TZID=America/New_York:20260210T220000
DTSTAMP:20260421T002458
CREATED:20240828T134553Z
LAST-MODIFIED:20260331T195455Z
UID:10005686-1770742800-1770760800@battlegroundz.net
SUMMARY:Airsoft $20 Tuesday
DESCRIPTION:5pm-10pm \n$20 \n5 Hours session of Unlimited Game Time + 2 slices of pizza \n*Rental gear not included
URL:https://battlegroundz.net/event/airsoft-20-tuesday-2-2/2026-02-10/
LOCATION:RI
CATEGORIES:Airsoft
ATTACH;FMTTYPE=image/png:https://battlegroundz.net/wp-content/uploads/2023/08/20-tuesday-new-post.png
END:VEVENT
BEGIN:VEVENT
DTSTART;TZID=America/New_York:20260211T170000
DTEND;TZID=America/New_York:20260211T220000
DTSTAMP:20260421T002458
CREATED:20260130T225634Z
LAST-MODIFIED:20260130T225634Z
UID:10008934-1770829200-1770847200@battlegroundz.net
SUMMARY:3 Games of Archery Tag\, Only $20 Today!
DESCRIPTION:Give archery tag a try today\, only $20 for 3 ten minute rounds (normally $25). We have youth and adult sized bows available!
URL:https://battlegroundz.net/event/3-games-of-archery-tag-only-20-today/
LOCATION:Battlegroundz\, 100 Higginson Ave\, Lincoln\, RI\, 02865\, United States
CATEGORIES:Archery Tag
ATTACH;FMTTYPE=image/jpeg:https://battlegroundz.net/wp-content/uploads/2026/01/3-games-of-archery-tag-20-Flyer.jpg
END:VEVENT
BEGIN:VEVENT
DTSTART;TZID=America/New_York:20260212T170000
DTEND;TZID=America/New_York:20260212T210000
DTSTAMP:20260421T002458
CREATED:20241028T193722Z
LAST-MODIFIED:20241119T170747Z
UID:10006647-1770915600-1770930000@battlegroundz.net
SUMMARY:Unlimited Paintball + 2 Slices of Pizza ONLY $30
DESCRIPTION:5pm-9pm \nUnlimited Paintball for only $30 \nincludes all rental gear & ammo \n 
URL:https://battlegroundz.net/event/unlimited-paintball-2-slices-of-pizza-only-30/2026-02-12/
LOCATION:RI
CATEGORIES:Paintball
ATTACH;FMTTYPE=image/png:https://battlegroundz.net/wp-content/uploads/2024/10/Thursday-Paintball-Unlimited.png
END:VEVENT
BEGIN:VEVENT
DTSTART;TZID=America/New_York:20260214T113000
DTEND;TZID=America/New_York:20260215T000000
DTSTAMP:20260421T002458
CREATED:20260130T230041Z
LAST-MODIFIED:20260130T230533Z
UID:10008936-1771068600-1771113600@battlegroundz.net
SUMMARY:Happy Valentine's Day!
DESCRIPTION:We’re open from 11:30-midnight today. Stop by after 6PM to purchase 3 rounds of lazer tag\, only $30 per couple!
URL:https://battlegroundz.net/event/happy-valentines-day/
LOCATION:Battlegroundz\, 100 Higginson Ave\, Lincoln\, RI\, 02865\, United States
CATEGORIES:Lazer Tag
ATTACH;FMTTYPE=image/jpeg:https://battlegroundz.net/wp-content/uploads/2026/01/Valentines-Day-2026-Post.jpg
END:VEVENT
BEGIN:VEVENT
DTSTART;TZID=America/New_York:20260215T120000
DTEND;TZID=America/New_York:20260215T200000
DTSTAMP:20260421T002458
CREATED:20260130T230350Z
LAST-MODIFIED:20260130T230350Z
UID:10008935-1771156800-1771185600@battlegroundz.net
SUMMARY:2 Slices of Cheese Pizza w/ Fries\, only $6.49!
DESCRIPTION:Come on in from 12-8PM tonight and enjoy 2 slices of our cheese pizza\, one of the customer favorites at BGZ! Comes with a side of fries\, only $6.49!
URL:https://battlegroundz.net/event/2-slices-of-cheese-pizza-w-fries-only-6-49/
LOCATION:Battlegroundz\, 100 Higginson Ave\, Lincoln\, RI\, 02865\, United States
CATEGORIES:Restaurant and Bar Specials
ATTACH;FMTTYPE=image/jpeg:https://battlegroundz.net/wp-content/uploads/2025/12/cheese-pizza.jpg
END:VEVENT
BEGIN:VEVENT
DTSTART;TZID=America/New_York:20260216T120000
DTEND;TZID=America/New_York:20260216T220000
DTSTAMP:20260421T002458
CREATED:20260130T231011Z
LAST-MODIFIED:20260130T231011Z
UID:10008937-1771243200-1771279200@battlegroundz.net
SUMMARY:Play 5 Hours of Airsoft for $25!
DESCRIPTION:Play 5 hours of airsoft for $25! (rental gear not included). Fields will open at 12PM today for February vacation!
URL:https://battlegroundz.net/event/play-5-hours-of-airsoft-for-25/
LOCATION:Battlegroundz\, 100 Higginson Ave\, Lincoln\, RI\, 02865\, United States
CATEGORIES:Airsoft
ATTACH;FMTTYPE=image/jpeg:https://battlegroundz.net/wp-content/uploads/2026/01/5-off-session-of-airsoft.jpg
END:VEVENT
BEGIN:VEVENT
DTSTART;TZID=America/New_York:20260217T170000
DTEND;TZID=America/New_York:20260217T220000
DTSTAMP:20260421T002458
CREATED:20240828T134553Z
LAST-MODIFIED:20260331T195455Z
UID:10005687-1771347600-1771365600@battlegroundz.net
SUMMARY:Airsoft $20 Tuesday
DESCRIPTION:5pm-10pm \n$20 \n5 Hours session of Unlimited Game Time + 2 slices of pizza \n*Rental gear not included
URL:https://battlegroundz.net/event/airsoft-20-tuesday-2-2/2026-02-17/
LOCATION:RI
CATEGORIES:Airsoft
ATTACH;FMTTYPE=image/png:https://battlegroundz.net/wp-content/uploads/2023/08/20-tuesday-new-post.png
END:VEVENT
BEGIN:VEVENT
DTSTART;TZID=America/New_York:20260218T120000
DTEND;TZID=America/New_York:20260218T220000
DTSTAMP:20260421T002459
CREATED:20260130T231547Z
LAST-MODIFIED:20260130T231547Z
UID:10008938-1771416000-1771452000@battlegroundz.net
SUMMARY:5 Games of Paintball\, Only $30 Per Player!
DESCRIPTION:Want to give paintball a try? Today only\, you can play 5 ten minute rounds for only $30! ($15 discount). Fields are open from 12-10PM today!
URL:https://battlegroundz.net/event/5-games-of-paintball-only-30-per-player/
LOCATION:Battlegroundz\, 100 Higginson Ave\, Lincoln\, RI\, 02865\, United States
CATEGORIES:Paintball
ATTACH;FMTTYPE=image/jpeg:https://battlegroundz.net/wp-content/uploads/2026/01/5-Games-of-Paintball-30-per-person.jpg
END:VEVENT
BEGIN:VEVENT
DTSTART;TZID=America/New_York:20260219T170000
DTEND;TZID=America/New_York:20260219T210000
DTSTAMP:20260421T002459
CREATED:20241028T193722Z
LAST-MODIFIED:20241119T170747Z
UID:10006654-1771520400-1771534800@battlegroundz.net
SUMMARY:Unlimited Paintball + 2 Slices of Pizza ONLY $30
DESCRIPTION:5pm-9pm \nUnlimited Paintball for only $30 \nincludes all rental gear & ammo \n 
URL:https://battlegroundz.net/event/unlimited-paintball-2-slices-of-pizza-only-30/2026-02-19/
LOCATION:RI
CATEGORIES:Paintball
ATTACH;FMTTYPE=image/png:https://battlegroundz.net/wp-content/uploads/2024/10/Thursday-Paintball-Unlimited.png
END:VEVENT
BEGIN:VEVENT
DTSTART;TZID=America/New_York:20260221T120000
DTEND;TZID=America/New_York:20260221T220000
DTSTAMP:20260421T002459
CREATED:20260130T234821Z
LAST-MODIFIED:20260130T234821Z
UID:10008940-1771675200-1771711200@battlegroundz.net
SUMMARY:3 pc Cheesy Breadsticks\, Only $4.49!
DESCRIPTION:Grab a 3 piece cheesy breadsticks order for only $4.49 (normally $6.99). Goes best with a side of marinara!
URL:https://battlegroundz.net/event/3-pc-cheesy-breadsticks-only-4-49/
LOCATION:Battlegroundz\, 100 Higginson Ave\, Lincoln\, RI\, 02865\, United States
CATEGORIES:Restaurant and Bar Specials
ATTACH;FMTTYPE=image/jpeg:https://battlegroundz.net/wp-content/uploads/2026/01/3pc-cheesy-breadsticks-ONLY-4.49.jpg
END:VEVENT
BEGIN:VEVENT
DTSTART;TZID=America/New_York:20260223T170000
DTEND;TZID=America/New_York:20260223T220000
DTSTAMP:20260421T002459
CREATED:20260130T235527Z
LAST-MODIFIED:20260130T235527Z
UID:10008942-1771866000-1771884000@battlegroundz.net
SUMMARY:5 Hours of Unlimited Lazer Tag\, Only $40 Per Player!
DESCRIPTION:Enjoy our unlimited lazer tag special from 5-10PM\, on a Monday! Only $40 per player!
URL:https://battlegroundz.net/event/5-hours-of-unlimited-lazer-tag-only-40-per-player/
LOCATION:Battlegroundz\, 100 Higginson Ave\, Lincoln\, RI\, 02865\, United States
CATEGORIES:Lazer Tag
ATTACH;FMTTYPE=image/jpeg:https://battlegroundz.net/wp-content/uploads/2026/01/Unlimited-Lazer-Tag-5-10-40-per-player.jpg
END:VEVENT
END:VCALENDAR