BEGIN:VCALENDAR
VERSION:2.0
PRODID:-//BattleGroundZ - ECPv6.15.20//NONSGML v1.0//EN
CALSCALE:GREGORIAN
METHOD:PUBLISH
X-WR-CALNAME:BattleGroundZ
X-ORIGINAL-URL:https://battlegroundz.net
X-WR-CALDESC:Events for BattleGroundZ
REFRESH-INTERVAL;VALUE=DURATION:PT1H
X-Robots-Tag:noindex
X-PUBLISHED-TTL:PT1H
BEGIN:VTIMEZONE
TZID:America/New_York
BEGIN:DAYLIGHT
TZOFFSETFROM:-0500
TZOFFSETTO:-0400
TZNAME:EDT
DTSTART:20240310T070000
END:DAYLIGHT
BEGIN:STANDARD
TZOFFSETFROM:-0400
TZOFFSETTO:-0500
TZNAME:EST
DTSTART:20241103T060000
END:STANDARD
BEGIN:DAYLIGHT
TZOFFSETFROM:-0500
TZOFFSETTO:-0400
TZNAME:EDT
DTSTART:20250309T070000
END:DAYLIGHT
BEGIN:STANDARD
TZOFFSETFROM:-0400
TZOFFSETTO:-0500
TZNAME:EST
DTSTART:20251102T060000
END:STANDARD
BEGIN:DAYLIGHT
TZOFFSETFROM:-0500
TZOFFSETTO:-0400
TZNAME:EDT
DTSTART:20260308T070000
END:DAYLIGHT
BEGIN:STANDARD
TZOFFSETFROM:-0400
TZOFFSETTO:-0500
TZNAME:EST
DTSTART:20261101T060000
END:STANDARD
END:VTIMEZONE
BEGIN:VEVENT
DTSTART;TZID=America/New_York:20250902T170000
DTEND;TZID=America/New_York:20250902T220000
DTSTAMP:20260421T182155
CREATED:20240828T134553Z
LAST-MODIFIED:20260331T195455Z
UID:10005663-1756832400-1756850400@battlegroundz.net
SUMMARY:Airsoft $20 Tuesday
DESCRIPTION:5pm-10pm \n$20 \n5 Hours session of Unlimited Game Time + 2 slices of pizza \n*Rental gear not included
URL:https://battlegroundz.net/event/airsoft-20-tuesday-2-2/2025-09-02/
LOCATION:RI
CATEGORIES:Airsoft
ATTACH;FMTTYPE=image/png:https://battlegroundz.net/wp-content/uploads/2023/08/20-tuesday-new-post.png
END:VEVENT
BEGIN:VEVENT
DTSTART;TZID=America/New_York:20250831T120000
DTEND;TZID=America/New_York:20250831T210000
DTSTAMP:20260421T182155
CREATED:20250724T185136Z
LAST-MODIFIED:20250724T185136Z
UID:10008480-1756641600-1756674000@battlegroundz.net
SUMMARY:$2 Off Any Whole Pizza
DESCRIPTION:Feeling hungry? Bring your friends to BGZ and enjoy a $2 discount from any topping pizza you order today\, August 31st\, 2025!
URL:https://battlegroundz.net/event/2-off-any-whole-pizza-3/
LOCATION:RI
ATTACH;FMTTYPE=image/png:https://battlegroundz.net/wp-content/uploads/2025/07/Mess-Hall-Menu-one-page-1.png
END:VEVENT
BEGIN:VEVENT
DTSTART;TZID=America/New_York:20250830T120000
DTEND;TZID=America/New_York:20250830T220000
DTSTAMP:20260421T182155
CREATED:20250724T194212Z
LAST-MODIFIED:20250724T194212Z
UID:10008483-1756555200-1756591200@battlegroundz.net
SUMMARY:15% Off Boneless BBQ Chicken Bites
DESCRIPTION:Enjoy an order of breaded chicken bites smothered in barbeque sauce for $10.99
URL:https://battlegroundz.net/event/15-off-boneless-bbq-chicken-bites/
LOCATION:RI
ATTACH;FMTTYPE=image/png:https://battlegroundz.net/wp-content/uploads/2025/07/Mess-Hall-Menu-one-page-2.png
END:VEVENT
BEGIN:VEVENT
DTSTART;TZID=America/New_York:20250829T120000
DTEND;TZID=America/New_York:20250829T120000
DTSTAMP:20260421T182155
CREATED:20250603T030226Z
LAST-MODIFIED:20250724T172259Z
UID:10008378-1756468800-1756468800@battlegroundz.net
SUMMARY:Airsoft Session Extension $5
DESCRIPTION:Buy a 6-HOUR session of Airsoft and get the next same-day session for only $5 \n(That’s 12 Hours for $35!) \nSession 1: 12pm-6pm \nSession 2: 4pm-10pm \nSession 3: 6pm-12am \n*Rental gear not included
URL:https://battlegroundz.net/event/buy-a-session-of-airsoft-and-get-the-next-same-day-session-for-only-10-2-2-2/2025-08-29/
LOCATION:RI
CATEGORIES:Airsoft
ATTACH;FMTTYPE=image/png:https://battlegroundz.net/wp-content/uploads/2025/06/6-Hour-Summer-Friday-Session-Times-Updated-1.png
END:VEVENT
BEGIN:VEVENT
DTSTART;TZID=America/New_York:20250828T170000
DTEND;TZID=America/New_York:20250828T210000
DTSTAMP:20260421T182155
CREATED:20241028T193722Z
LAST-MODIFIED:20241119T170747Z
UID:10006479-1756400400-1756414800@battlegroundz.net
SUMMARY:Unlimited Paintball + 2 Slices of Pizza ONLY $30
DESCRIPTION:5pm-9pm \nUnlimited Paintball for only $30 \nincludes all rental gear & ammo \n 
URL:https://battlegroundz.net/event/unlimited-paintball-2-slices-of-pizza-only-30/2025-08-28/
LOCATION:RI
CATEGORIES:Paintball
ATTACH;FMTTYPE=image/png:https://battlegroundz.net/wp-content/uploads/2024/10/Thursday-Paintball-Unlimited.png
END:VEVENT
BEGIN:VEVENT
DTSTART;TZID=America/New_York:20250827T120000
DTEND;TZID=America/New_York:20250827T220000
DTSTAMP:20260421T182155
CREATED:20250724T173532Z
LAST-MODIFIED:20250724T200049Z
UID:10008474-1756296000-1756332000@battlegroundz.net
SUMMARY:FREE Round of Dodgeball with 3 Games of Paintball
DESCRIPTION:Today 8/27/25 enjoy a game of dodgeball completely free when you purchase 3 rounds of paintball @ $35 per player
URL:https://battlegroundz.net/event/free-round-of-dodgeball-with-3-games-of-paintball/
LOCATION:RI
END:VEVENT
BEGIN:VEVENT
DTSTART;TZID=America/New_York:20250826T170000
DTEND;TZID=America/New_York:20250826T220000
DTSTAMP:20260421T182155
CREATED:20240828T134553Z
LAST-MODIFIED:20260331T195455Z
UID:10005662-1756227600-1756245600@battlegroundz.net
SUMMARY:Airsoft $20 Tuesday
DESCRIPTION:5pm-10pm \n$20 \n5 Hours session of Unlimited Game Time + 2 slices of pizza \n*Rental gear not included
URL:https://battlegroundz.net/event/airsoft-20-tuesday-2-2/2025-08-26/
LOCATION:RI
CATEGORIES:Airsoft
ATTACH;FMTTYPE=image/png:https://battlegroundz.net/wp-content/uploads/2023/08/20-tuesday-new-post.png
END:VEVENT
BEGIN:VEVENT
DTSTART;TZID=America/New_York:20250826T120000
DTEND;TZID=America/New_York:20250826T220000
DTSTAMP:20260421T182155
CREATED:20250603T005616Z
LAST-MODIFIED:20250603T005616Z
UID:10008368-1756209600-1756245600@battlegroundz.net
SUMMARY:$20 Tuesday
DESCRIPTION:Tuesdays from 12pm to 5pm and 5pm to 10pm enjoy 5 hours of unlimited airsoft play for only $20 AND receive two slices of cheese pizza! Gun rental not included ($25)
URL:https://battlegroundz.net/event/20-tuesday-2/2025-08-26/
LOCATION:RI
END:VEVENT
BEGIN:VEVENT
DTSTART;TZID=America/New_York:20250825T120000
DTEND;TZID=America/New_York:20250825T220000
DTSTAMP:20260421T182155
CREATED:20250724T174528Z
LAST-MODIFIED:20250724T174528Z
UID:10008475-1756123200-1756159200@battlegroundz.net
SUMMARY:Mix-N-Match 4 Rounds for $28pp
DESCRIPTION:Enjoy four games mixed with your choice of sports for $28 per player \nTickets purchased for this activity can be used during normal field hours in any combination for these activities: \nLaser Tag / Gel Blasters / Dodgeball / Dart Wars
URL:https://battlegroundz.net/event/mix-n-match-4-rounds-for-28pp/
LOCATION:RI
END:VEVENT
BEGIN:VEVENT
DTSTART;TZID=America/New_York:20250824T120000
DTEND;TZID=America/New_York:20250824T210000
DTSTAMP:20260421T182155
CREATED:20250724T201550Z
LAST-MODIFIED:20250724T220230Z
UID:10008486-1756036800-1756069200@battlegroundz.net
SUMMARY:Cheeseburger Club with Fries for $12.49
DESCRIPTION:Enjoy our club combo meal including a quartered triple-decker angus cheeseburger on white or wheat bread stacked with lettuce\, tomato\, bacon\, and mayo along with a boat full of fries
URL:https://battlegroundz.net/event/cheese-burger-club-with-fries-for-12-49/
LOCATION:RI
ATTACH;FMTTYPE=image/png:https://battlegroundz.net/wp-content/uploads/2025/07/Mess-Hall-Menu-one-page-2.png
END:VEVENT
BEGIN:VEVENT
DTSTART;TZID=America/New_York:20250823T120000
DTEND;TZID=America/New_York:20250823T220000
DTSTAMP:20260421T182155
CREATED:20250724T184837Z
LAST-MODIFIED:20250724T184837Z
UID:10008479-1755950400-1755986400@battlegroundz.net
SUMMARY:2 Classic Hot Dogs w/ Fries $9.99
DESCRIPTION:Stop by the BGZ Mess Hall for todays special of 2 classic hot dogs with a boat of crispy fries for $9.99
URL:https://battlegroundz.net/event/2-classic-hot-dogs-w-fries-9-99/
LOCATION:RI
END:VEVENT
BEGIN:VEVENT
DTSTART;TZID=America/New_York:20250822T120000
DTEND;TZID=America/New_York:20250822T120000
DTSTAMP:20260421T182155
CREATED:20250603T030226Z
LAST-MODIFIED:20250724T172259Z
UID:10008377-1755864000-1755864000@battlegroundz.net
SUMMARY:Airsoft Session Extension $5
DESCRIPTION:Buy a 6-HOUR session of Airsoft and get the next same-day session for only $5 \n(That’s 12 Hours for $35!) \nSession 1: 12pm-6pm \nSession 2: 4pm-10pm \nSession 3: 6pm-12am \n*Rental gear not included
URL:https://battlegroundz.net/event/buy-a-session-of-airsoft-and-get-the-next-same-day-session-for-only-10-2-2-2/2025-08-22/
LOCATION:RI
CATEGORIES:Airsoft
ATTACH;FMTTYPE=image/png:https://battlegroundz.net/wp-content/uploads/2025/06/6-Hour-Summer-Friday-Session-Times-Updated-1.png
END:VEVENT
BEGIN:VEVENT
DTSTART;TZID=America/New_York:20250821T170000
DTEND;TZID=America/New_York:20250821T210000
DTSTAMP:20260421T182155
CREATED:20241028T193722Z
LAST-MODIFIED:20241119T170747Z
UID:10006472-1755795600-1755810000@battlegroundz.net
SUMMARY:Unlimited Paintball + 2 Slices of Pizza ONLY $30
DESCRIPTION:5pm-9pm \nUnlimited Paintball for only $30 \nincludes all rental gear & ammo \n 
URL:https://battlegroundz.net/event/unlimited-paintball-2-slices-of-pizza-only-30/2025-08-21/
LOCATION:RI
CATEGORIES:Paintball
ATTACH;FMTTYPE=image/png:https://battlegroundz.net/wp-content/uploads/2024/10/Thursday-Paintball-Unlimited.png
END:VEVENT
BEGIN:VEVENT
DTSTART;TZID=America/New_York:20250820T120000
DTEND;TZID=America/New_York:20250820T220000
DTSTAMP:20260421T182155
CREATED:20250724T173258Z
LAST-MODIFIED:20250724T213126Z
UID:10008473-1755691200-1755727200@battlegroundz.net
SUMMARY:3 Games of Archery Tag 25% Off!
DESCRIPTION:Today 8/20/25 play 3 rounds of archery tag for just $20 per person
URL:https://battlegroundz.net/event/3-games-of-archery-tag-40-off/
LOCATION:RI
END:VEVENT
BEGIN:VEVENT
DTSTART;TZID=America/New_York:20250819T170000
DTEND;TZID=America/New_York:20250819T220000
DTSTAMP:20260421T182155
CREATED:20240828T134553Z
LAST-MODIFIED:20260331T195455Z
UID:10005661-1755622800-1755640800@battlegroundz.net
SUMMARY:Airsoft $20 Tuesday
DESCRIPTION:5pm-10pm \n$20 \n5 Hours session of Unlimited Game Time + 2 slices of pizza \n*Rental gear not included
URL:https://battlegroundz.net/event/airsoft-20-tuesday-2-2/2025-08-19/
LOCATION:RI
CATEGORIES:Airsoft
ATTACH;FMTTYPE=image/png:https://battlegroundz.net/wp-content/uploads/2023/08/20-tuesday-new-post.png
END:VEVENT
BEGIN:VEVENT
DTSTART;TZID=America/New_York:20250819T120000
DTEND;TZID=America/New_York:20250819T220000
DTSTAMP:20260421T182155
CREATED:20250603T005616Z
LAST-MODIFIED:20250603T005616Z
UID:10008367-1755604800-1755640800@battlegroundz.net
SUMMARY:$20 Tuesday
DESCRIPTION:Tuesdays from 12pm to 5pm and 5pm to 10pm enjoy 5 hours of unlimited airsoft play for only $20 AND receive two slices of cheese pizza! Gun rental not included ($25)
URL:https://battlegroundz.net/event/20-tuesday-2/2025-08-19/
LOCATION:RI
END:VEVENT
BEGIN:VEVENT
DTSTART;TZID=America/New_York:20250818T120000
DTEND;TZID=America/New_York:20250818T220000
DTSTAMP:20260421T182155
CREATED:20250724T175747Z
LAST-MODIFIED:20250724T175747Z
UID:10008476-1755518400-1755554400@battlegroundz.net
SUMMARY:$5 Off 3 Games of Paintball for Groups of 4 or more!
DESCRIPTION:Grab three or more friends and head on down for a $5 discount per person ($30pp) on 3 rounds of paintball when you purchase with a party of 4+ players (8/18/25) \n 
URL:https://battlegroundz.net/event/5-off-3-games-of-paintball-for-groups-of-4-or-more/
LOCATION:RI
END:VEVENT
BEGIN:VEVENT
DTSTART;TZID=America/New_York:20250817T120000
DTEND;TZID=America/New_York:20250817T210000
DTSTAMP:20260421T182155
CREATED:20250724T220534Z
LAST-MODIFIED:20250724T220534Z
UID:10008489-1755432000-1755464400@battlegroundz.net
SUMMARY:Mac n Cheese Bites 17% Off
DESCRIPTION:Get a 5 piece order of mac n cheese bites for $3.99 at the BGZ Mess Hall today 8/17/25
URL:https://battlegroundz.net/event/mac-n-cheese-bites-17-off-2/
LOCATION:RI
ATTACH;FMTTYPE=image/png:https://battlegroundz.net/wp-content/uploads/2025/07/Mess-Hall-Menu-one-page-2.png
END:VEVENT
BEGIN:VEVENT
DTSTART;TZID=America/New_York:20250816T120000
DTEND;TZID=America/New_York:20250816T220000
DTSTAMP:20260421T182155
CREATED:20250724T183221Z
LAST-MODIFIED:20250724T183221Z
UID:10008477-1755345600-1755381600@battlegroundz.net
SUMMARY:Hot Pretzel for $2.49!
DESCRIPTION:Stop by the BGZ Mess Hall and enjoy a hot baked pretzel for $2.49 along with countless other options from our menu
URL:https://battlegroundz.net/event/hot-pretzel-for-2-49/
LOCATION:RI
END:VEVENT
BEGIN:VEVENT
DTSTART;TZID=America/New_York:20250815T120000
DTEND;TZID=America/New_York:20250815T120000
DTSTAMP:20260421T182155
CREATED:20250603T030226Z
LAST-MODIFIED:20250724T172259Z
UID:10008376-1755259200-1755259200@battlegroundz.net
SUMMARY:Airsoft Session Extension $5
DESCRIPTION:Buy a 6-HOUR session of Airsoft and get the next same-day session for only $5 \n(That’s 12 Hours for $35!) \nSession 1: 12pm-6pm \nSession 2: 4pm-10pm \nSession 3: 6pm-12am \n*Rental gear not included
URL:https://battlegroundz.net/event/buy-a-session-of-airsoft-and-get-the-next-same-day-session-for-only-10-2-2-2/2025-08-15/
LOCATION:RI
CATEGORIES:Airsoft
ATTACH;FMTTYPE=image/png:https://battlegroundz.net/wp-content/uploads/2025/06/6-Hour-Summer-Friday-Session-Times-Updated-1.png
END:VEVENT
BEGIN:VEVENT
DTSTART;TZID=America/New_York:20250814T170000
DTEND;TZID=America/New_York:20250814T210000
DTSTAMP:20260421T182155
CREATED:20241028T193722Z
LAST-MODIFIED:20241119T170747Z
UID:10006465-1755190800-1755205200@battlegroundz.net
SUMMARY:Unlimited Paintball + 2 Slices of Pizza ONLY $30
DESCRIPTION:5pm-9pm \nUnlimited Paintball for only $30 \nincludes all rental gear & ammo \n 
URL:https://battlegroundz.net/event/unlimited-paintball-2-slices-of-pizza-only-30/2025-08-14/
LOCATION:RI
CATEGORIES:Paintball
ATTACH;FMTTYPE=image/png:https://battlegroundz.net/wp-content/uploads/2024/10/Thursday-Paintball-Unlimited.png
END:VEVENT
BEGIN:VEVENT
DTSTART;TZID=America/New_York:20250813T120000
DTEND;TZID=America/New_York:20250813T220000
DTSTAMP:20260421T182155
CREATED:20250724T172955Z
LAST-MODIFIED:20250724T172955Z
UID:10008472-1755086400-1755122400@battlegroundz.net
SUMMARY:$5 Off Airsoft Session!
DESCRIPTION:Come down and enjoy $5 off your airsoft session ($25) today\, August 13th 2025 \n**Gun rental not included in session price. Gun Rental is $25 and includes gun\, face mask\, chest protector\, and 300 BB’s. Mask rental only $5.
URL:https://battlegroundz.net/event/5-off-airsoft-session/
LOCATION:RI
END:VEVENT
BEGIN:VEVENT
DTSTART;TZID=America/New_York:20250812T170000
DTEND;TZID=America/New_York:20250812T220000
DTSTAMP:20260421T182155
CREATED:20240828T134553Z
LAST-MODIFIED:20260331T195455Z
UID:10005660-1755018000-1755036000@battlegroundz.net
SUMMARY:Airsoft $20 Tuesday
DESCRIPTION:5pm-10pm \n$20 \n5 Hours session of Unlimited Game Time + 2 slices of pizza \n*Rental gear not included
URL:https://battlegroundz.net/event/airsoft-20-tuesday-2-2/2025-08-12/
LOCATION:RI
CATEGORIES:Airsoft
ATTACH;FMTTYPE=image/png:https://battlegroundz.net/wp-content/uploads/2023/08/20-tuesday-new-post.png
END:VEVENT
BEGIN:VEVENT
DTSTART;TZID=America/New_York:20250812T120000
DTEND;TZID=America/New_York:20250812T220000
DTSTAMP:20260421T182155
CREATED:20250603T005616Z
LAST-MODIFIED:20250603T005616Z
UID:10008366-1755000000-1755036000@battlegroundz.net
SUMMARY:$20 Tuesday
DESCRIPTION:Tuesdays from 12pm to 5pm and 5pm to 10pm enjoy 5 hours of unlimited airsoft play for only $20 AND receive two slices of cheese pizza! Gun rental not included ($25)
URL:https://battlegroundz.net/event/20-tuesday-2/2025-08-12/
LOCATION:RI
END:VEVENT
BEGIN:VEVENT
DTSTART;TZID=America/New_York:20250811T120000
DTEND;TZID=America/New_York:20250811T220000
DTSTAMP:20260421T182155
CREATED:20250724T202703Z
LAST-MODIFIED:20250724T202703Z
UID:10008488-1754913600-1754949600@battlegroundz.net
SUMMARY:Buy an Airsoft Session\, Your Friend Gets One Half Off!
DESCRIPTION:We’ll give your friend a session of airsoft HALF OFF ($15pp) when you purchase a session ($30pp) today\, August 11th\, 2025! \nSession 1: 12pm-5pm \nSession 2: 5pm-10pm
URL:https://battlegroundz.net/event/buy-an-airsoft-session-your-friend-gets-one-half-off/
LOCATION:RI
END:VEVENT
BEGIN:VEVENT
DTSTART;TZID=America/New_York:20250810T120000
DTEND;TZID=America/New_York:20250810T210000
DTSTAMP:20260421T182155
CREATED:20250724T201112Z
LAST-MODIFIED:20250724T201112Z
UID:10008485-1754827200-1754859600@battlegroundz.net
SUMMARY:Battle Burger with Fries for $12.49
DESCRIPTION:Try our Battle Burger combo meal including a 1/3-pound burger with American cheese\, bacon\, onion rings\, and BBQ sauce alongside a boat of crispy fries for $12.49
URL:https://battlegroundz.net/event/battle-burger-with-fries-for-12-49/
LOCATION:RI
ATTACH;FMTTYPE=image/png:https://battlegroundz.net/wp-content/uploads/2025/07/Mess-Hall-Menu-one-page-2.png
END:VEVENT
BEGIN:VEVENT
DTSTART;TZID=America/New_York:20250809T120000
DTEND;TZID=America/New_York:20250809T220000
DTSTAMP:20260421T182155
CREATED:20250724T184514Z
LAST-MODIFIED:20250724T190005Z
UID:10008478-1754740800-1754776800@battlegroundz.net
SUMMARY:Grilled Cheese with Fries for $6.99
DESCRIPTION:Come by for a tasty grilled cheese with a boat of fries for $6.99 at the Mess Hall with many more great meals available
URL:https://battlegroundz.net/event/grilled-cheese-with-fries-for-5-99/
LOCATION:RI
END:VEVENT
BEGIN:VEVENT
DTSTART;TZID=America/New_York:20250808T120000
DTEND;TZID=America/New_York:20250808T120000
DTSTAMP:20260421T182155
CREATED:20250603T030226Z
LAST-MODIFIED:20250724T172259Z
UID:10008375-1754654400-1754654400@battlegroundz.net
SUMMARY:Airsoft Session Extension $5
DESCRIPTION:Buy a 6-HOUR session of Airsoft and get the next same-day session for only $5 \n(That’s 12 Hours for $35!) \nSession 1: 12pm-6pm \nSession 2: 4pm-10pm \nSession 3: 6pm-12am \n*Rental gear not included
URL:https://battlegroundz.net/event/buy-a-session-of-airsoft-and-get-the-next-same-day-session-for-only-10-2-2-2/2025-08-08/
LOCATION:RI
CATEGORIES:Airsoft
ATTACH;FMTTYPE=image/png:https://battlegroundz.net/wp-content/uploads/2025/06/6-Hour-Summer-Friday-Session-Times-Updated-1.png
END:VEVENT
BEGIN:VEVENT
DTSTART;TZID=America/New_York:20250807T170000
DTEND;TZID=America/New_York:20250807T210000
DTSTAMP:20260421T182155
CREATED:20241028T193722Z
LAST-MODIFIED:20241119T170747Z
UID:10006458-1754586000-1754600400@battlegroundz.net
SUMMARY:Unlimited Paintball + 2 Slices of Pizza ONLY $30
DESCRIPTION:5pm-9pm \nUnlimited Paintball for only $30 \nincludes all rental gear & ammo \n 
URL:https://battlegroundz.net/event/unlimited-paintball-2-slices-of-pizza-only-30/2025-08-07/
LOCATION:RI
CATEGORIES:Paintball
ATTACH;FMTTYPE=image/png:https://battlegroundz.net/wp-content/uploads/2024/10/Thursday-Paintball-Unlimited.png
END:VEVENT
BEGIN:VEVENT
DTSTART;TZID=America/New_York:20250806T120000
DTEND;TZID=America/New_York:20250806T220000
DTSTAMP:20260421T182155
CREATED:20250724T191957Z
LAST-MODIFIED:20250724T193207Z
UID:10008482-1754481600-1754517600@battlegroundz.net
SUMMARY:Battlepass Membership with NO Activation Fee!
DESCRIPTION:Join with a new Battlegroundz Battlepass membership with no fee for activation today (8/6/25)! \nMemberships come with perks such as unlimited airsoft and paintball\, discounted laser tag\, and more!
URL:https://battlegroundz.net/event/battlepass-membership-with-no-activation-fee/
LOCATION:RI
ATTACH;FMTTYPE=image/png:https://battlegroundz.net/wp-content/uploads/2025/07/MembershipBenefits1.png
END:VEVENT
END:VCALENDAR