BEGIN:VCALENDAR
VERSION:2.0
PRODID:-//BattleGroundZ - ECPv6.15.20//NONSGML v1.0//EN
CALSCALE:GREGORIAN
METHOD:PUBLISH
X-ORIGINAL-URL:https://battlegroundz.net
X-WR-CALDESC:Events for BattleGroundZ
REFRESH-INTERVAL;VALUE=DURATION:PT1H
X-Robots-Tag:noindex
X-PUBLISHED-TTL:PT1H
BEGIN:VTIMEZONE
TZID:America/New_York
BEGIN:DAYLIGHT
TZOFFSETFROM:-0500
TZOFFSETTO:-0400
TZNAME:EDT
DTSTART:20220313T070000
END:DAYLIGHT
BEGIN:STANDARD
TZOFFSETFROM:-0400
TZOFFSETTO:-0500
TZNAME:EST
DTSTART:20221106T060000
END:STANDARD
BEGIN:DAYLIGHT
TZOFFSETFROM:-0500
TZOFFSETTO:-0400
TZNAME:EDT
DTSTART:20230312T070000
END:DAYLIGHT
BEGIN:STANDARD
TZOFFSETFROM:-0400
TZOFFSETTO:-0500
TZNAME:EST
DTSTART:20231105T060000
END:STANDARD
BEGIN:DAYLIGHT
TZOFFSETFROM:-0500
TZOFFSETTO:-0400
TZNAME:EDT
DTSTART:20240310T070000
END:DAYLIGHT
BEGIN:STANDARD
TZOFFSETFROM:-0400
TZOFFSETTO:-0500
TZNAME:EST
DTSTART:20241103T060000
END:STANDARD
BEGIN:DAYLIGHT
TZOFFSETFROM:-0500
TZOFFSETTO:-0400
TZNAME:EDT
DTSTART:20250309T070000
END:DAYLIGHT
BEGIN:STANDARD
TZOFFSETFROM:-0400
TZOFFSETTO:-0500
TZNAME:EST
DTSTART:20251102T060000
END:STANDARD
END:VTIMEZONE
BEGIN:VEVENT
DTSTART;TZID=America/New_York:20240806T120000
DTEND;TZID=America/New_York:20240806T220000
DTSTAMP:20260420T083415
CREATED:20240630T195842Z
LAST-MODIFIED:20240826T180829Z
UID:10005352-1722945600-1722981600@battlegroundz.net
SUMMARY:Airsoft $20 Tuesday
DESCRIPTION:Session 1: 12pm-5pm \nSession 2: 5pm-10pm \n$20 \n5 Hours session of Unlimited Game Time + 2 slices of pizza \n*Rental gear not included
URL:https://battlegroundz.net/event/airsoft-20-tuesday-3/2024-08-06/
CATEGORIES:Special Operating Hours
ATTACH;FMTTYPE=image/jpeg:https://battlegroundz.net/wp-content/uploads/2023/04/292396390_576834900643481_5015748945188152924_n.jpg
END:VEVENT
BEGIN:VEVENT
DTSTART;TZID=America/New_York:20240730T120000
DTEND;TZID=America/New_York:20240730T220000
DTSTAMP:20260420T083415
CREATED:20240630T195842Z
LAST-MODIFIED:20240826T180829Z
UID:10005351-1722340800-1722376800@battlegroundz.net
SUMMARY:Airsoft $20 Tuesday
DESCRIPTION:Session 1: 12pm-5pm \nSession 2: 5pm-10pm \n$20 \n5 Hours session of Unlimited Game Time + 2 slices of pizza \n*Rental gear not included
URL:https://battlegroundz.net/event/airsoft-20-tuesday-3/2024-07-30/
CATEGORIES:Special Operating Hours
ATTACH;FMTTYPE=image/jpeg:https://battlegroundz.net/wp-content/uploads/2023/04/292396390_576834900643481_5015748945188152924_n.jpg
END:VEVENT
BEGIN:VEVENT
DTSTART;TZID=America/New_York:20240723T120000
DTEND;TZID=America/New_York:20240723T220000
DTSTAMP:20260420T083415
CREATED:20240630T195842Z
LAST-MODIFIED:20240826T180829Z
UID:10005350-1721736000-1721772000@battlegroundz.net
SUMMARY:Airsoft $20 Tuesday
DESCRIPTION:Session 1: 12pm-5pm \nSession 2: 5pm-10pm \n$20 \n5 Hours session of Unlimited Game Time + 2 slices of pizza \n*Rental gear not included
URL:https://battlegroundz.net/event/airsoft-20-tuesday-3/2024-07-23/
CATEGORIES:Special Operating Hours
ATTACH;FMTTYPE=image/jpeg:https://battlegroundz.net/wp-content/uploads/2023/04/292396390_576834900643481_5015748945188152924_n.jpg
END:VEVENT
BEGIN:VEVENT
DTSTART;TZID=America/New_York:20240716T120000
DTEND;TZID=America/New_York:20240716T220000
DTSTAMP:20260420T083415
CREATED:20240630T195842Z
LAST-MODIFIED:20240826T180829Z
UID:10005349-1721131200-1721167200@battlegroundz.net
SUMMARY:Airsoft $20 Tuesday
DESCRIPTION:Session 1: 12pm-5pm \nSession 2: 5pm-10pm \n$20 \n5 Hours session of Unlimited Game Time + 2 slices of pizza \n*Rental gear not included
URL:https://battlegroundz.net/event/airsoft-20-tuesday-3/2024-07-16/
CATEGORIES:Special Operating Hours
ATTACH;FMTTYPE=image/jpeg:https://battlegroundz.net/wp-content/uploads/2023/04/292396390_576834900643481_5015748945188152924_n.jpg
END:VEVENT
BEGIN:VEVENT
DTSTART;TZID=America/New_York:20240709T120000
DTEND;TZID=America/New_York:20240709T220000
DTSTAMP:20260420T083415
CREATED:20240630T195842Z
LAST-MODIFIED:20240826T180829Z
UID:10005348-1720526400-1720562400@battlegroundz.net
SUMMARY:Airsoft $20 Tuesday
DESCRIPTION:Session 1: 12pm-5pm \nSession 2: 5pm-10pm \n$20 \n5 Hours session of Unlimited Game Time + 2 slices of pizza \n*Rental gear not included
URL:https://battlegroundz.net/event/airsoft-20-tuesday-3/2024-07-09/
CATEGORIES:Special Operating Hours
ATTACH;FMTTYPE=image/jpeg:https://battlegroundz.net/wp-content/uploads/2023/04/292396390_576834900643481_5015748945188152924_n.jpg
END:VEVENT
BEGIN:VEVENT
DTSTART;TZID=America/New_York:20240702T120000
DTEND;TZID=America/New_York:20240702T220000
DTSTAMP:20260420T083415
CREATED:20240630T195842Z
LAST-MODIFIED:20240826T180829Z
UID:10003796-1719921600-1719957600@battlegroundz.net
SUMMARY:Airsoft $20 Tuesday
DESCRIPTION:Session 1: 12pm-5pm \nSession 2: 5pm-10pm \n$20 \n5 Hours session of Unlimited Game Time + 2 slices of pizza \n*Rental gear not included
URL:https://battlegroundz.net/event/airsoft-20-tuesday-3/2024-07-02/
CATEGORIES:Special Operating Hours
ATTACH;FMTTYPE=image/jpeg:https://battlegroundz.net/wp-content/uploads/2023/04/292396390_576834900643481_5015748945188152924_n.jpg
END:VEVENT
BEGIN:VEVENT
DTSTART;TZID=America/New_York:20230918T120000
DTEND;TZID=America/New_York:20230918T220000
DTSTAMP:20260420T083415
CREATED:20230601T202022Z
LAST-MODIFIED:20230831T191432Z
UID:10002407-1695038400-1695074400@battlegroundz.net
SUMMARY:Buy 1 Round of Archery Tag Get 1 FREE
DESCRIPTION:Buy 1 Round of Archery Tag Get 1 FREE \n  \nPrice $10 for 1 Round \n 
URL:https://battlegroundz.net/event/archery-tag-special-2/
CATEGORIES:Archery Tag,Special Operating Hours
ATTACH;FMTTYPE=image/jpeg:https://battlegroundz.net/wp-content/uploads/2023/04/archerytagx2.jpg
END:VEVENT
BEGIN:VEVENT
DTSTART;TZID=America/New_York:20230822T120000
DTEND;TZID=America/New_York:20230822T220000
DTSTAMP:20260420T083415
CREATED:20230427T230501Z
LAST-MODIFIED:20230823T182304Z
UID:10003795-1692705600-1692741600@battlegroundz.net
SUMMARY:Airsoft $20 Tuesday
DESCRIPTION:Session 1: 12pm-5pm \nSession 2: 5pm-10pm \n$20 \n5 Hours session of Unlimited Game Time + 2 slices of pizza \n*Rental gear not included
URL:https://battlegroundz.net/event/airsoft-20-tuesday/2023-08-22/
CATEGORIES:Special Operating Hours
ATTACH;FMTTYPE=image/jpeg:https://battlegroundz.net/wp-content/uploads/2023/04/292396390_576834900643481_5015748945188152924_n.jpg
END:VEVENT
BEGIN:VEVENT
DTSTART;TZID=America/New_York:20230815T120000
DTEND;TZID=America/New_York:20230815T220000
DTSTAMP:20260420T083415
CREATED:20230427T230501Z
LAST-MODIFIED:20230823T182304Z
UID:10003794-1692100800-1692136800@battlegroundz.net
SUMMARY:Airsoft $20 Tuesday
DESCRIPTION:Session 1: 12pm-5pm \nSession 2: 5pm-10pm \n$20 \n5 Hours session of Unlimited Game Time + 2 slices of pizza \n*Rental gear not included
URL:https://battlegroundz.net/event/airsoft-20-tuesday/2023-08-15/
CATEGORIES:Special Operating Hours
ATTACH;FMTTYPE=image/jpeg:https://battlegroundz.net/wp-content/uploads/2023/04/292396390_576834900643481_5015748945188152924_n.jpg
END:VEVENT
BEGIN:VEVENT
DTSTART;TZID=America/New_York:20230808T120000
DTEND;TZID=America/New_York:20230808T220000
DTSTAMP:20260420T083415
CREATED:20230427T230501Z
LAST-MODIFIED:20230823T182304Z
UID:10003793-1691496000-1691532000@battlegroundz.net
SUMMARY:Airsoft $20 Tuesday
DESCRIPTION:Session 1: 12pm-5pm \nSession 2: 5pm-10pm \n$20 \n5 Hours session of Unlimited Game Time + 2 slices of pizza \n*Rental gear not included
URL:https://battlegroundz.net/event/airsoft-20-tuesday/2023-08-08/
CATEGORIES:Special Operating Hours
ATTACH;FMTTYPE=image/jpeg:https://battlegroundz.net/wp-content/uploads/2023/04/292396390_576834900643481_5015748945188152924_n.jpg
END:VEVENT
BEGIN:VEVENT
DTSTART;TZID=America/New_York:20230801T120000
DTEND;TZID=America/New_York:20230801T220000
DTSTAMP:20260420T083415
CREATED:20230427T230501Z
LAST-MODIFIED:20230823T182304Z
UID:10003792-1690891200-1690927200@battlegroundz.net
SUMMARY:Airsoft $20 Tuesday
DESCRIPTION:Session 1: 12pm-5pm \nSession 2: 5pm-10pm \n$20 \n5 Hours session of Unlimited Game Time + 2 slices of pizza \n*Rental gear not included
URL:https://battlegroundz.net/event/airsoft-20-tuesday/2023-08-01/
CATEGORIES:Special Operating Hours
ATTACH;FMTTYPE=image/jpeg:https://battlegroundz.net/wp-content/uploads/2023/04/292396390_576834900643481_5015748945188152924_n.jpg
END:VEVENT
BEGIN:VEVENT
DTSTART;TZID=America/New_York:20230725T120000
DTEND;TZID=America/New_York:20230725T220000
DTSTAMP:20260420T083415
CREATED:20230427T230501Z
LAST-MODIFIED:20230823T182304Z
UID:10003791-1690286400-1690322400@battlegroundz.net
SUMMARY:Airsoft $20 Tuesday
DESCRIPTION:Session 1: 12pm-5pm \nSession 2: 5pm-10pm \n$20 \n5 Hours session of Unlimited Game Time + 2 slices of pizza \n*Rental gear not included
URL:https://battlegroundz.net/event/airsoft-20-tuesday/2023-07-25/
CATEGORIES:Special Operating Hours
ATTACH;FMTTYPE=image/jpeg:https://battlegroundz.net/wp-content/uploads/2023/04/292396390_576834900643481_5015748945188152924_n.jpg
END:VEVENT
BEGIN:VEVENT
DTSTART;TZID=America/New_York:20230718T120000
DTEND;TZID=America/New_York:20230718T220000
DTSTAMP:20260420T083415
CREATED:20230427T230501Z
LAST-MODIFIED:20230823T182304Z
UID:10003790-1689681600-1689717600@battlegroundz.net
SUMMARY:Airsoft $20 Tuesday
DESCRIPTION:Session 1: 12pm-5pm \nSession 2: 5pm-10pm \n$20 \n5 Hours session of Unlimited Game Time + 2 slices of pizza \n*Rental gear not included
URL:https://battlegroundz.net/event/airsoft-20-tuesday/2023-07-18/
CATEGORIES:Special Operating Hours
ATTACH;FMTTYPE=image/jpeg:https://battlegroundz.net/wp-content/uploads/2023/04/292396390_576834900643481_5015748945188152924_n.jpg
END:VEVENT
BEGIN:VEVENT
DTSTART;TZID=America/New_York:20230711T120000
DTEND;TZID=America/New_York:20230711T220000
DTSTAMP:20260420T083415
CREATED:20230427T230501Z
LAST-MODIFIED:20230823T182304Z
UID:10003789-1689076800-1689112800@battlegroundz.net
SUMMARY:Airsoft $20 Tuesday
DESCRIPTION:Session 1: 12pm-5pm \nSession 2: 5pm-10pm \n$20 \n5 Hours session of Unlimited Game Time + 2 slices of pizza \n*Rental gear not included
URL:https://battlegroundz.net/event/airsoft-20-tuesday/2023-07-11/
CATEGORIES:Special Operating Hours
ATTACH;FMTTYPE=image/jpeg:https://battlegroundz.net/wp-content/uploads/2023/04/292396390_576834900643481_5015748945188152924_n.jpg
END:VEVENT
BEGIN:VEVENT
DTSTART;TZID=America/New_York:20230704T170000
DTEND;TZID=America/New_York:20230704T220000
DTSTAMP:20260420T083415
CREATED:20230630T172847Z
LAST-MODIFIED:20230630T173316Z
UID:10002695-1688490000-1688508000@battlegroundz.net
SUMMARY:SPECIAL HOURS: OPEN 5pm-10pm
DESCRIPTION:HAPPY FOURTH OF JULY\nWE ARE ONLY OPEN 5PM-10PM
URL:https://battlegroundz.net/event/special-hours-open-5pm-10pm/
CATEGORIES:Special Operating Hours
ATTACH;FMTTYPE=image/jpeg:https://battlegroundz.net/wp-content/uploads/2023/06/Battlgroundz-Profile-Pic.jpg
END:VEVENT
BEGIN:VEVENT
DTSTART;TZID=America/New_York:20230704T120000
DTEND;TZID=America/New_York:20230704T220000
DTSTAMP:20260420T083415
CREATED:20230427T230501Z
LAST-MODIFIED:20230823T182304Z
UID:10003788-1688472000-1688508000@battlegroundz.net
SUMMARY:Airsoft $20 Tuesday
DESCRIPTION:Session 1: 12pm-5pm \nSession 2: 5pm-10pm \n$20 \n5 Hours session of Unlimited Game Time + 2 slices of pizza \n*Rental gear not included
URL:https://battlegroundz.net/event/airsoft-20-tuesday/2023-07-04/
CATEGORIES:Special Operating Hours
ATTACH;FMTTYPE=image/jpeg:https://battlegroundz.net/wp-content/uploads/2023/04/292396390_576834900643481_5015748945188152924_n.jpg
END:VEVENT
BEGIN:VEVENT
DTSTART;TZID=America/New_York:20230627T120000
DTEND;TZID=America/New_York:20230627T220000
DTSTAMP:20260420T083415
CREATED:20230427T230501Z
LAST-MODIFIED:20230823T182304Z
UID:10003787-1687867200-1687903200@battlegroundz.net
SUMMARY:Airsoft $20 Tuesday
DESCRIPTION:Session 1: 12pm-5pm \nSession 2: 5pm-10pm \n$20 \n5 Hours session of Unlimited Game Time + 2 slices of pizza \n*Rental gear not included
URL:https://battlegroundz.net/event/airsoft-20-tuesday/2023-06-27/
CATEGORIES:Special Operating Hours
ATTACH;FMTTYPE=image/jpeg:https://battlegroundz.net/wp-content/uploads/2023/04/292396390_576834900643481_5015748945188152924_n.jpg
END:VEVENT
BEGIN:VEVENT
DTSTART;TZID=America/New_York:20230620T120000
DTEND;TZID=America/New_York:20230620T220000
DTSTAMP:20260420T083415
CREATED:20230427T230501Z
LAST-MODIFIED:20230823T182304Z
UID:10003786-1687262400-1687298400@battlegroundz.net
SUMMARY:Airsoft $20 Tuesday
DESCRIPTION:Session 1: 12pm-5pm \nSession 2: 5pm-10pm \n$20 \n5 Hours session of Unlimited Game Time + 2 slices of pizza \n*Rental gear not included
URL:https://battlegroundz.net/event/airsoft-20-tuesday/2023-06-20/
CATEGORIES:Special Operating Hours
ATTACH;FMTTYPE=image/jpeg:https://battlegroundz.net/wp-content/uploads/2023/04/292396390_576834900643481_5015748945188152924_n.jpg
END:VEVENT
BEGIN:VEVENT
DTSTART;TZID=America/New_York:20230613T120000
DTEND;TZID=America/New_York:20230613T220000
DTSTAMP:20260420T083415
CREATED:20230427T230501Z
LAST-MODIFIED:20230823T182304Z
UID:10003785-1686657600-1686693600@battlegroundz.net
SUMMARY:Airsoft $20 Tuesday
DESCRIPTION:Session 1: 12pm-5pm \nSession 2: 5pm-10pm \n$20 \n5 Hours session of Unlimited Game Time + 2 slices of pizza \n*Rental gear not included
URL:https://battlegroundz.net/event/airsoft-20-tuesday/2023-06-13/
CATEGORIES:Special Operating Hours
ATTACH;FMTTYPE=image/jpeg:https://battlegroundz.net/wp-content/uploads/2023/04/292396390_576834900643481_5015748945188152924_n.jpg
END:VEVENT
BEGIN:VEVENT
DTSTART;TZID=America/New_York:20230606T120000
DTEND;TZID=America/New_York:20230606T220000
DTSTAMP:20260420T083415
CREATED:20230427T230501Z
LAST-MODIFIED:20230823T182304Z
UID:10003784-1686052800-1686088800@battlegroundz.net
SUMMARY:Airsoft $20 Tuesday
DESCRIPTION:Session 1: 12pm-5pm \nSession 2: 5pm-10pm \n$20 \n5 Hours session of Unlimited Game Time + 2 slices of pizza \n*Rental gear not included
URL:https://battlegroundz.net/event/airsoft-20-tuesday/2023-06-06/
CATEGORIES:Special Operating Hours
ATTACH;FMTTYPE=image/jpeg:https://battlegroundz.net/wp-content/uploads/2023/04/292396390_576834900643481_5015748945188152924_n.jpg
END:VEVENT
BEGIN:VEVENT
DTSTART;TZID=America/New_York:20230530T120000
DTEND;TZID=America/New_York:20230530T220000
DTSTAMP:20260420T083415
CREATED:20230427T230501Z
LAST-MODIFIED:20230823T182304Z
UID:10003783-1685448000-1685484000@battlegroundz.net
SUMMARY:Airsoft $20 Tuesday
DESCRIPTION:Session 1: 12pm-5pm \nSession 2: 5pm-10pm \n$20 \n5 Hours session of Unlimited Game Time + 2 slices of pizza \n*Rental gear not included
URL:https://battlegroundz.net/event/airsoft-20-tuesday/2023-05-30/
CATEGORIES:Special Operating Hours
ATTACH;FMTTYPE=image/jpeg:https://battlegroundz.net/wp-content/uploads/2023/04/292396390_576834900643481_5015748945188152924_n.jpg
END:VEVENT
BEGIN:VEVENT
DTSTART;TZID=America/New_York:20230529T170000
DTEND;TZID=America/New_York:20230529T210000
DTSTAMP:20260420T083415
CREATED:20230522T173831Z
LAST-MODIFIED:20230522T174328Z
UID:10001864-1685379600-1685394000@battlegroundz.net
SUMMARY:Memorial Day Special -Family Night
DESCRIPTION:5pm-9pm \nFamily Night for 4 \n$100- \nEach Person Receives \n1 Small Slushy \n2 Slices of Pizza \n3 Rounds of Lazer Tag \n$5 Arcade Card \nAdditional family member $22 each
URL:https://battlegroundz.net/event/memorial-day-special-family-night/
CATEGORIES:Special Operating Hours
ATTACH;FMTTYPE=image/jpeg:https://battlegroundz.net/wp-content/uploads/2023/04/IMG_1101-rotated.jpg
END:VEVENT
BEGIN:VEVENT
DTSTART;TZID=America/New_York:20230523T120000
DTEND;TZID=America/New_York:20230523T220000
DTSTAMP:20260420T083415
CREATED:20230427T230501Z
LAST-MODIFIED:20230823T182304Z
UID:10003782-1684843200-1684879200@battlegroundz.net
SUMMARY:Airsoft $20 Tuesday
DESCRIPTION:Session 1: 12pm-5pm \nSession 2: 5pm-10pm \n$20 \n5 Hours session of Unlimited Game Time + 2 slices of pizza \n*Rental gear not included
URL:https://battlegroundz.net/event/airsoft-20-tuesday/2023-05-23/
CATEGORIES:Special Operating Hours
ATTACH;FMTTYPE=image/jpeg:https://battlegroundz.net/wp-content/uploads/2023/04/292396390_576834900643481_5015748945188152924_n.jpg
END:VEVENT
BEGIN:VEVENT
DTSTART;TZID=America/New_York:20230516T120000
DTEND;TZID=America/New_York:20230516T220000
DTSTAMP:20260420T083415
CREATED:20230427T230501Z
LAST-MODIFIED:20230823T182304Z
UID:10003781-1684238400-1684274400@battlegroundz.net
SUMMARY:Airsoft $20 Tuesday
DESCRIPTION:Session 1: 12pm-5pm \nSession 2: 5pm-10pm \n$20 \n5 Hours session of Unlimited Game Time + 2 slices of pizza \n*Rental gear not included
URL:https://battlegroundz.net/event/airsoft-20-tuesday/2023-05-16/
CATEGORIES:Special Operating Hours
ATTACH;FMTTYPE=image/jpeg:https://battlegroundz.net/wp-content/uploads/2023/04/292396390_576834900643481_5015748945188152924_n.jpg
END:VEVENT
BEGIN:VEVENT
DTSTART;TZID=America/New_York:20230509T120000
DTEND;TZID=America/New_York:20230509T220000
DTSTAMP:20260420T083415
CREATED:20230427T230501Z
LAST-MODIFIED:20230823T182304Z
UID:10003780-1683633600-1683669600@battlegroundz.net
SUMMARY:Airsoft $20 Tuesday
DESCRIPTION:Session 1: 12pm-5pm \nSession 2: 5pm-10pm \n$20 \n5 Hours session of Unlimited Game Time + 2 slices of pizza \n*Rental gear not included
URL:https://battlegroundz.net/event/airsoft-20-tuesday/2023-05-09/
CATEGORIES:Special Operating Hours
ATTACH;FMTTYPE=image/jpeg:https://battlegroundz.net/wp-content/uploads/2023/04/292396390_576834900643481_5015748945188152924_n.jpg
END:VEVENT
BEGIN:VEVENT
DTSTART;TZID=America/New_York:20230505T160000
DTEND;TZID=America/New_York:20230505T220000
DTSTAMP:20260420T083415
CREATED:20230430T170424Z
LAST-MODIFIED:20230430T195604Z
UID:10001320-1683302400-1683324000@battlegroundz.net
SUMMARY:Mess Hall Special
DESCRIPTION:Appetizer Sampler $15.00 \n2 Chicken Tenders \n2 Mozzarella Sticks \nSmall Fries \n4 Mac & Cheese Poppers \nHalf Chicken Quesadilla \n*food taxes not included in the price 
URL:https://battlegroundz.net/event/mess-hall-special/
CATEGORIES:Special Operating Hours
ATTACH;FMTTYPE=image/png:https://battlegroundz.net/wp-content/uploads/2023/04/Mess-hall-1.png
END:VEVENT
BEGIN:VEVENT
DTSTART;TZID=America/New_York:20230503T170000
DTEND;TZID=America/New_York:20230503T220000
DTSTAMP:20260420T083415
CREATED:20230429T202619Z
LAST-MODIFIED:20230429T202619Z
UID:10001058-1683133200-1683151200@battlegroundz.net
SUMMARY:FREE Archery Tag with a Purchase of Paintball
DESCRIPTION:5pm-10pm \nBuy 3 Games of Paintball and get 1 FREE Game of Archery Tag
URL:https://battlegroundz.net/event/free-archery-tag-with-a-purchase-of-paintball/
CATEGORIES:Special Operating Hours
ATTACH;FMTTYPE=image/jpeg:https://battlegroundz.net/wp-content/uploads/2023/04/archerytagx2.jpg
END:VEVENT
BEGIN:VEVENT
DTSTART;TZID=America/New_York:20230502T120000
DTEND;TZID=America/New_York:20230502T220000
DTSTAMP:20260420T083415
CREATED:20230427T230501Z
LAST-MODIFIED:20230823T182304Z
UID:10003779-1683028800-1683064800@battlegroundz.net
SUMMARY:Airsoft $20 Tuesday
DESCRIPTION:Session 1: 12pm-5pm \nSession 2: 5pm-10pm \n$20 \n5 Hours session of Unlimited Game Time + 2 slices of pizza \n*Rental gear not included
URL:https://battlegroundz.net/event/airsoft-20-tuesday/2023-05-02/
CATEGORIES:Special Operating Hours
ATTACH;FMTTYPE=image/jpeg:https://battlegroundz.net/wp-content/uploads/2023/04/292396390_576834900643481_5015748945188152924_n.jpg
END:VEVENT
BEGIN:VEVENT
DTSTART;TZID=America/New_York:20230501T170000
DTEND;TZID=America/New_York:20230501T220000
DTSTAMP:20260420T083415
CREATED:20230429T201615Z
LAST-MODIFIED:20230429T201615Z
UID:10001057-1682960400-1682978400@battlegroundz.net
SUMMARY:Archery Tag Special
DESCRIPTION:5-10pm \n3 Games of Archery Tag $20 per person
URL:https://battlegroundz.net/event/archery-tag-special/
CATEGORIES:Special Operating Hours
ATTACH;FMTTYPE=image/jpeg:https://battlegroundz.net/wp-content/uploads/2023/04/archerytagx2.jpg
END:VEVENT
BEGIN:VEVENT
DTSTART;TZID=America/New_York:20230425T120000
DTEND;TZID=America/New_York:20230425T220000
DTSTAMP:20260420T083415
CREATED:20230427T230501Z
LAST-MODIFIED:20230823T182304Z
UID:10003488-1682424000-1682460000@battlegroundz.net
SUMMARY:Airsoft $20 Tuesday
DESCRIPTION:Session 1: 12pm-5pm \nSession 2: 5pm-10pm \n$20 \n5 Hours session of Unlimited Game Time + 2 slices of pizza \n*Rental gear not included
URL:https://battlegroundz.net/event/airsoft-20-tuesday/2023-04-25/
CATEGORIES:Special Operating Hours
ATTACH;FMTTYPE=image/jpeg:https://battlegroundz.net/wp-content/uploads/2023/04/292396390_576834900643481_5015748945188152924_n.jpg
END:VEVENT
END:VCALENDAR