BEGIN:VCALENDAR
VERSION:2.0
PRODID:-//BattleGroundZ - ECPv6.15.20//NONSGML v1.0//EN
CALSCALE:GREGORIAN
METHOD:PUBLISH
X-ORIGINAL-URL:https://battlegroundz.net
X-WR-CALDESC:Events for BattleGroundZ
REFRESH-INTERVAL;VALUE=DURATION:PT1H
X-Robots-Tag:noindex
X-PUBLISHED-TTL:PT1H
BEGIN:VTIMEZONE
TZID:America/New_York
BEGIN:DAYLIGHT
TZOFFSETFROM:-0500
TZOFFSETTO:-0400
TZNAME:EDT
DTSTART:20240310T070000
END:DAYLIGHT
BEGIN:STANDARD
TZOFFSETFROM:-0400
TZOFFSETTO:-0500
TZNAME:EST
DTSTART:20241103T060000
END:STANDARD
BEGIN:DAYLIGHT
TZOFFSETFROM:-0500
TZOFFSETTO:-0400
TZNAME:EDT
DTSTART:20250309T070000
END:DAYLIGHT
BEGIN:STANDARD
TZOFFSETFROM:-0400
TZOFFSETTO:-0500
TZNAME:EST
DTSTART:20251102T060000
END:STANDARD
BEGIN:DAYLIGHT
TZOFFSETFROM:-0500
TZOFFSETTO:-0400
TZNAME:EDT
DTSTART:20260308T070000
END:DAYLIGHT
BEGIN:STANDARD
TZOFFSETFROM:-0400
TZOFFSETTO:-0500
TZNAME:EST
DTSTART:20261101T060000
END:STANDARD
BEGIN:DAYLIGHT
TZOFFSETFROM:-0500
TZOFFSETTO:-0400
TZNAME:EDT
DTSTART:20270314T070000
END:DAYLIGHT
BEGIN:STANDARD
TZOFFSETFROM:-0400
TZOFFSETTO:-0500
TZNAME:EST
DTSTART:20271107T060000
END:STANDARD
END:VTIMEZONE
BEGIN:VEVENT
DTSTART;TZID=America/New_York:20260416T170000
DTEND;TZID=America/New_York:20260416T210000
DTSTAMP:20260420T102957
CREATED:20241028T193722Z
LAST-MODIFIED:20241119T170747Z
UID:10006710-1776358800-1776373200@battlegroundz.net
SUMMARY:Unlimited Paintball + 2 Slices of Pizza ONLY $30
DESCRIPTION:5pm-9pm \nUnlimited Paintball for only $30 \nincludes all rental gear & ammo \n 
URL:https://battlegroundz.net/event/unlimited-paintball-2-slices-of-pizza-only-30/2026-04-16/
LOCATION:RI
CATEGORIES:Paintball
ATTACH;FMTTYPE=image/png:https://battlegroundz.net/wp-content/uploads/2024/10/Thursday-Paintball-Unlimited.png
END:VEVENT
BEGIN:VEVENT
DTSTART;TZID=America/New_York:20260413T170000
DTEND;TZID=America/New_York:20260413T220000
DTSTAMP:20260420T102957
CREATED:20260130T222823Z
LAST-MODIFIED:20260331T180057Z
UID:10008929-1776099600-1776117600@battlegroundz.net
SUMMARY:Buy 3 Games Of Paintball\, Get 1 FREE Game Of Lazer Tag!
DESCRIPTION:Finish off your day of paintball with a bang\, enjoy a thrilling game of lazer tag with friends for free! ($10 value). Fields will open at 5PM
URL:https://battlegroundz.net/event/buy-3-games-of-paintball-get-1-free-game-of-dodgeball/
LOCATION:Battlegroundz\, 100 Higginson Ave\, Lincoln\, RI\, 02865\, United States
CATEGORIES:Paintball
ATTACH;FMTTYPE=image/jpeg:https://battlegroundz.net/wp-content/uploads/2026/01/Buy-3-Games-of-Paintball-get-1-FREE-Game-of-Lazer-Tag.jpg
END:VEVENT
BEGIN:VEVENT
DTSTART;TZID=America/New_York:20260409T170000
DTEND;TZID=America/New_York:20260409T210000
DTSTAMP:20260420T102957
CREATED:20241028T193722Z
LAST-MODIFIED:20241119T170747Z
UID:10006703-1775754000-1775768400@battlegroundz.net
SUMMARY:Unlimited Paintball + 2 Slices of Pizza ONLY $30
DESCRIPTION:5pm-9pm \nUnlimited Paintball for only $30 \nincludes all rental gear & ammo \n 
URL:https://battlegroundz.net/event/unlimited-paintball-2-slices-of-pizza-only-30/2026-04-09/
LOCATION:RI
CATEGORIES:Paintball
ATTACH;FMTTYPE=image/png:https://battlegroundz.net/wp-content/uploads/2024/10/Thursday-Paintball-Unlimited.png
END:VEVENT
BEGIN:VEVENT
DTSTART;TZID=America/New_York:20260402T170000
DTEND;TZID=America/New_York:20260402T210000
DTSTAMP:20260420T102957
CREATED:20241028T193722Z
LAST-MODIFIED:20241119T170747Z
UID:10006696-1775149200-1775163600@battlegroundz.net
SUMMARY:Unlimited Paintball + 2 Slices of Pizza ONLY $30
DESCRIPTION:5pm-9pm \nUnlimited Paintball for only $30 \nincludes all rental gear & ammo \n 
URL:https://battlegroundz.net/event/unlimited-paintball-2-slices-of-pizza-only-30/2026-04-02/
LOCATION:RI
CATEGORIES:Paintball
ATTACH;FMTTYPE=image/png:https://battlegroundz.net/wp-content/uploads/2024/10/Thursday-Paintball-Unlimited.png
END:VEVENT
BEGIN:VEVENT
DTSTART;TZID=America/New_York:20260326T170000
DTEND;TZID=America/New_York:20260326T210000
DTSTAMP:20260420T102957
CREATED:20241028T193722Z
LAST-MODIFIED:20241119T170747Z
UID:10006689-1774544400-1774558800@battlegroundz.net
SUMMARY:Unlimited Paintball + 2 Slices of Pizza ONLY $30
DESCRIPTION:5pm-9pm \nUnlimited Paintball for only $30 \nincludes all rental gear & ammo \n 
URL:https://battlegroundz.net/event/unlimited-paintball-2-slices-of-pizza-only-30/2026-03-26/
LOCATION:RI
CATEGORIES:Paintball
ATTACH;FMTTYPE=image/png:https://battlegroundz.net/wp-content/uploads/2024/10/Thursday-Paintball-Unlimited.png
END:VEVENT
BEGIN:VEVENT
DTSTART;TZID=America/New_York:20260319T170000
DTEND;TZID=America/New_York:20260319T210000
DTSTAMP:20260420T102957
CREATED:20241028T193722Z
LAST-MODIFIED:20241119T170747Z
UID:10006682-1773939600-1773954000@battlegroundz.net
SUMMARY:Unlimited Paintball + 2 Slices of Pizza ONLY $30
DESCRIPTION:5pm-9pm \nUnlimited Paintball for only $30 \nincludes all rental gear & ammo \n 
URL:https://battlegroundz.net/event/unlimited-paintball-2-slices-of-pizza-only-30/2026-03-19/
LOCATION:RI
CATEGORIES:Paintball
ATTACH;FMTTYPE=image/png:https://battlegroundz.net/wp-content/uploads/2024/10/Thursday-Paintball-Unlimited.png
END:VEVENT
BEGIN:VEVENT
DTSTART;TZID=America/New_York:20260316T170000
DTEND;TZID=America/New_York:20260316T220000
DTSTAMP:20260420T102957
CREATED:20260309T194313Z
LAST-MODIFIED:20260309T194313Z
UID:10008950-1773680400-1773698400@battlegroundz.net
SUMMARY:Buy 3 Rounds Of Paintball\, Get 1 Free Round Of Dodgeball!
DESCRIPTION:Finish off your paintball session with a thrilling game of dodgeball with your friends! Available from 5-10PM today!
URL:https://battlegroundz.net/event/buy-3-rounds-of-paintball-get-1-free-round-of-dodgeball/
LOCATION:Battlegroundz\, 100 Higginson Ave\, Lincoln\, RI\, 02865\, United States
CATEGORIES:Paintball
ATTACH;FMTTYPE=image/png:https://battlegroundz.net/wp-content/uploads/2026/03/Buy-3-Games-of-Paintball-get-1-FREE-Game-of-DB.png
END:VEVENT
BEGIN:VEVENT
DTSTART;TZID=America/New_York:20260312T170000
DTEND;TZID=America/New_York:20260312T210000
DTSTAMP:20260420T102957
CREATED:20241028T193722Z
LAST-MODIFIED:20241119T170747Z
UID:10006675-1773334800-1773349200@battlegroundz.net
SUMMARY:Unlimited Paintball + 2 Slices of Pizza ONLY $30
DESCRIPTION:5pm-9pm \nUnlimited Paintball for only $30 \nincludes all rental gear & ammo \n 
URL:https://battlegroundz.net/event/unlimited-paintball-2-slices-of-pizza-only-30/2026-03-12/
LOCATION:RI
CATEGORIES:Paintball
ATTACH;FMTTYPE=image/png:https://battlegroundz.net/wp-content/uploads/2024/10/Thursday-Paintball-Unlimited.png
END:VEVENT
BEGIN:VEVENT
DTSTART;TZID=America/New_York:20260305T170000
DTEND;TZID=America/New_York:20260305T210000
DTSTAMP:20260420T102957
CREATED:20241028T193722Z
LAST-MODIFIED:20241119T170747Z
UID:10006668-1772730000-1772744400@battlegroundz.net
SUMMARY:Unlimited Paintball + 2 Slices of Pizza ONLY $30
DESCRIPTION:5pm-9pm \nUnlimited Paintball for only $30 \nincludes all rental gear & ammo \n 
URL:https://battlegroundz.net/event/unlimited-paintball-2-slices-of-pizza-only-30/2026-03-05/
LOCATION:RI
CATEGORIES:Paintball
ATTACH;FMTTYPE=image/png:https://battlegroundz.net/wp-content/uploads/2024/10/Thursday-Paintball-Unlimited.png
END:VEVENT
BEGIN:VEVENT
DTSTART;TZID=America/New_York:20260226T170000
DTEND;TZID=America/New_York:20260226T210000
DTSTAMP:20260420T102957
CREATED:20241028T193722Z
LAST-MODIFIED:20241119T170747Z
UID:10006661-1772125200-1772139600@battlegroundz.net
SUMMARY:Unlimited Paintball + 2 Slices of Pizza ONLY $30
DESCRIPTION:5pm-9pm \nUnlimited Paintball for only $30 \nincludes all rental gear & ammo \n 
URL:https://battlegroundz.net/event/unlimited-paintball-2-slices-of-pizza-only-30/2026-02-26/
LOCATION:RI
CATEGORIES:Paintball
ATTACH;FMTTYPE=image/png:https://battlegroundz.net/wp-content/uploads/2024/10/Thursday-Paintball-Unlimited.png
END:VEVENT
BEGIN:VEVENT
DTSTART;TZID=America/New_York:20260225T120000
DTEND;TZID=America/New_York:20260225T220000
DTSTAMP:20260420T102957
CREATED:20260131T000229Z
LAST-MODIFIED:20260131T000229Z
UID:10008943-1772020800-1772056800@battlegroundz.net
SUMMARY:Join the Battlepass Today\, We'll Waive the Activation Fee!
DESCRIPTION:Players that buy 3 sessions of airsoft/paintball or more see an incredible value in our $99 per month locked in price!
URL:https://battlegroundz.net/event/join-the-battlepass-today-well-waive-the-activation-fee/
LOCATION:Battlegroundz\, 100 Higginson Ave\, Lincoln\, RI\, 02865\, United States
CATEGORIES:Airsoft,Lazer Tag,Paintball
ATTACH;FMTTYPE=image/png:https://battlegroundz.net/wp-content/uploads/2026/01/activation-fee-waived.png
END:VEVENT
BEGIN:VEVENT
DTSTART;TZID=America/New_York:20260219T170000
DTEND;TZID=America/New_York:20260219T210000
DTSTAMP:20260420T102957
CREATED:20241028T193722Z
LAST-MODIFIED:20241119T170747Z
UID:10006654-1771520400-1771534800@battlegroundz.net
SUMMARY:Unlimited Paintball + 2 Slices of Pizza ONLY $30
DESCRIPTION:5pm-9pm \nUnlimited Paintball for only $30 \nincludes all rental gear & ammo \n 
URL:https://battlegroundz.net/event/unlimited-paintball-2-slices-of-pizza-only-30/2026-02-19/
LOCATION:RI
CATEGORIES:Paintball
ATTACH;FMTTYPE=image/png:https://battlegroundz.net/wp-content/uploads/2024/10/Thursday-Paintball-Unlimited.png
END:VEVENT
BEGIN:VEVENT
DTSTART;TZID=America/New_York:20260218T120000
DTEND;TZID=America/New_York:20260218T220000
DTSTAMP:20260420T102957
CREATED:20260130T231547Z
LAST-MODIFIED:20260130T231547Z
UID:10008938-1771416000-1771452000@battlegroundz.net
SUMMARY:5 Games of Paintball\, Only $30 Per Player!
DESCRIPTION:Want to give paintball a try? Today only\, you can play 5 ten minute rounds for only $30! ($15 discount). Fields are open from 12-10PM today!
URL:https://battlegroundz.net/event/5-games-of-paintball-only-30-per-player/
LOCATION:Battlegroundz\, 100 Higginson Ave\, Lincoln\, RI\, 02865\, United States
CATEGORIES:Paintball
ATTACH;FMTTYPE=image/jpeg:https://battlegroundz.net/wp-content/uploads/2026/01/5-Games-of-Paintball-30-per-person.jpg
END:VEVENT
BEGIN:VEVENT
DTSTART;TZID=America/New_York:20260212T170000
DTEND;TZID=America/New_York:20260212T210000
DTSTAMP:20260420T102957
CREATED:20241028T193722Z
LAST-MODIFIED:20241119T170747Z
UID:10006647-1770915600-1770930000@battlegroundz.net
SUMMARY:Unlimited Paintball + 2 Slices of Pizza ONLY $30
DESCRIPTION:5pm-9pm \nUnlimited Paintball for only $30 \nincludes all rental gear & ammo \n 
URL:https://battlegroundz.net/event/unlimited-paintball-2-slices-of-pizza-only-30/2026-02-12/
LOCATION:RI
CATEGORIES:Paintball
ATTACH;FMTTYPE=image/png:https://battlegroundz.net/wp-content/uploads/2024/10/Thursday-Paintball-Unlimited.png
END:VEVENT
BEGIN:VEVENT
DTSTART;TZID=America/New_York:20260205T170000
DTEND;TZID=America/New_York:20260205T210000
DTSTAMP:20260420T102957
CREATED:20241028T193722Z
LAST-MODIFIED:20241119T170747Z
UID:10006640-1770310800-1770325200@battlegroundz.net
SUMMARY:Unlimited Paintball + 2 Slices of Pizza ONLY $30
DESCRIPTION:5pm-9pm \nUnlimited Paintball for only $30 \nincludes all rental gear & ammo \n 
URL:https://battlegroundz.net/event/unlimited-paintball-2-slices-of-pizza-only-30/2026-02-05/
LOCATION:RI
CATEGORIES:Paintball
ATTACH;FMTTYPE=image/png:https://battlegroundz.net/wp-content/uploads/2024/10/Thursday-Paintball-Unlimited.png
END:VEVENT
BEGIN:VEVENT
DTSTART;TZID=America/New_York:20260204T170000
DTEND;TZID=America/New_York:20260204T220000
DTSTAMP:20260420T102957
CREATED:20260130T223519Z
LAST-MODIFIED:20260130T223519Z
UID:10008930-1770224400-1770242400@battlegroundz.net
SUMMARY:3 Games Of Paintball for Groups of 4+\, Only $30!
DESCRIPTION:Enjoy 3 games of paintball for $30 🤯 Mask\, chest protector\, a rental paintball gun & 200 paintballs per game included
URL:https://battlegroundz.net/event/3-games-of-paintball-for-groups-of-4-only-30/
LOCATION:Battlegroundz\, 100 Higginson Ave\, Lincoln\, RI\, 02865\, United States
CATEGORIES:Paintball
ATTACH;FMTTYPE=image/jpeg:https://battlegroundz.net/wp-content/uploads/2026/01/5-off-3-games-of-paint-ball-groups-of-4-or-more.jpg
END:VEVENT
BEGIN:VEVENT
DTSTART;TZID=America/New_York:20260129T170000
DTEND;TZID=America/New_York:20260129T210000
DTSTAMP:20260420T102957
CREATED:20241028T193722Z
LAST-MODIFIED:20241119T170747Z
UID:10006633-1769706000-1769720400@battlegroundz.net
SUMMARY:Unlimited Paintball + 2 Slices of Pizza ONLY $30
DESCRIPTION:5pm-9pm \nUnlimited Paintball for only $30 \nincludes all rental gear & ammo \n 
URL:https://battlegroundz.net/event/unlimited-paintball-2-slices-of-pizza-only-30/2026-01-29/
LOCATION:RI
CATEGORIES:Paintball
ATTACH;FMTTYPE=image/png:https://battlegroundz.net/wp-content/uploads/2024/10/Thursday-Paintball-Unlimited.png
END:VEVENT
BEGIN:VEVENT
DTSTART;TZID=America/New_York:20260122T170000
DTEND;TZID=America/New_York:20260122T210000
DTSTAMP:20260420T102957
CREATED:20241028T193722Z
LAST-MODIFIED:20241119T170747Z
UID:10006626-1769101200-1769115600@battlegroundz.net
SUMMARY:Unlimited Paintball + 2 Slices of Pizza ONLY $30
DESCRIPTION:5pm-9pm \nUnlimited Paintball for only $30 \nincludes all rental gear & ammo \n 
URL:https://battlegroundz.net/event/unlimited-paintball-2-slices-of-pizza-only-30/2026-01-22/
LOCATION:RI
CATEGORIES:Paintball
ATTACH;FMTTYPE=image/png:https://battlegroundz.net/wp-content/uploads/2024/10/Thursday-Paintball-Unlimited.png
END:VEVENT
BEGIN:VEVENT
DTSTART;TZID=America/New_York:20260115T170000
DTEND;TZID=America/New_York:20260115T210000
DTSTAMP:20260420T102957
CREATED:20241028T193722Z
LAST-MODIFIED:20241119T170747Z
UID:10006619-1768496400-1768510800@battlegroundz.net
SUMMARY:Unlimited Paintball + 2 Slices of Pizza ONLY $30
DESCRIPTION:5pm-9pm \nUnlimited Paintball for only $30 \nincludes all rental gear & ammo \n 
URL:https://battlegroundz.net/event/unlimited-paintball-2-slices-of-pizza-only-30/2026-01-15/
LOCATION:RI
CATEGORIES:Paintball
ATTACH;FMTTYPE=image/png:https://battlegroundz.net/wp-content/uploads/2024/10/Thursday-Paintball-Unlimited.png
END:VEVENT
BEGIN:VEVENT
DTSTART;TZID=America/New_York:20260112T170000
DTEND;TZID=America/New_York:20260112T220000
DTSTAMP:20260420T102957
CREATED:20260115T202609Z
LAST-MODIFIED:20260115T202609Z
UID:10008862-1768237200-1768255200@battlegroundz.net
SUMMARY:Buy 3 Games Of Paintball\, Get One Free Game Of Dodgeball!
DESCRIPTION:Finish off your day of paintball with a bang\, enjoy a thrilling dodgeball game with friends for free! ($10 value). Fields will open at 5PM.
URL:https://battlegroundz.net/event/buy-3-games-of-paintball-get-one-free-game-of-dodgeball/
LOCATION:Battlegroundz\, 100 Higginson Ave\, Lincoln\, RI\, 02865\, United States
CATEGORIES:Paintball
ATTACH;FMTTYPE=image/png:https://battlegroundz.net/wp-content/uploads/2026/01/Buy-3-Games-of-Paintball-get-1-FREE-Game-of-DB.png
END:VEVENT
BEGIN:VEVENT
DTSTART;TZID=America/New_York:20260108T170000
DTEND;TZID=America/New_York:20260108T210000
DTSTAMP:20260420T102957
CREATED:20241028T193722Z
LAST-MODIFIED:20241119T170747Z
UID:10006612-1767891600-1767906000@battlegroundz.net
SUMMARY:Unlimited Paintball + 2 Slices of Pizza ONLY $30
DESCRIPTION:5pm-9pm \nUnlimited Paintball for only $30 \nincludes all rental gear & ammo \n 
URL:https://battlegroundz.net/event/unlimited-paintball-2-slices-of-pizza-only-30/2026-01-08/
LOCATION:RI
CATEGORIES:Paintball
ATTACH;FMTTYPE=image/png:https://battlegroundz.net/wp-content/uploads/2024/10/Thursday-Paintball-Unlimited.png
END:VEVENT
BEGIN:VEVENT
DTSTART;TZID=America/New_York:20260107T170000
DTEND;TZID=America/New_York:20260107T220000
DTSTAMP:20260420T102957
CREATED:20260104T224647Z
LAST-MODIFIED:20260104T224647Z
UID:10008859-1767805200-1767823200@battlegroundz.net
SUMMARY:3 Games Of Paintball For $30!
DESCRIPTION:Today only\, come by from 5-10PM and play 3 games of paintball for only $30 per player (normally $35). Mask\, vest\, paintball gun & 200 paintballs per game included!
URL:https://battlegroundz.net/event/3-games-of-paintball-for-30-2/
LOCATION:Battlegroundz\, 100 Higginson Ave\, Lincoln\, RI\, 02865\, United States
CATEGORIES:Paintball
ATTACH;FMTTYPE=image/jpeg:https://battlegroundz.net/wp-content/uploads/2026/01/3-Games-Of-Paintball-30-Per-Player.jpg
END:VEVENT
BEGIN:VEVENT
DTSTART;TZID=America/New_York:20260101T170000
DTEND;TZID=America/New_York:20260101T210000
DTSTAMP:20260420T102957
CREATED:20241028T193722Z
LAST-MODIFIED:20241119T170747Z
UID:10006605-1767286800-1767301200@battlegroundz.net
SUMMARY:Unlimited Paintball + 2 Slices of Pizza ONLY $30
DESCRIPTION:5pm-9pm \nUnlimited Paintball for only $30 \nincludes all rental gear & ammo \n 
URL:https://battlegroundz.net/event/unlimited-paintball-2-slices-of-pizza-only-30/2026-01-01/
LOCATION:RI
CATEGORIES:Paintball
ATTACH;FMTTYPE=image/png:https://battlegroundz.net/wp-content/uploads/2024/10/Thursday-Paintball-Unlimited.png
END:VEVENT
BEGIN:VEVENT
DTSTART;TZID=America/New_York:20251218T170000
DTEND;TZID=America/New_York:20251218T210000
DTSTAMP:20260420T102957
CREATED:20241028T193722Z
LAST-MODIFIED:20241119T170747Z
UID:10006591-1766077200-1766091600@battlegroundz.net
SUMMARY:Unlimited Paintball + 2 Slices of Pizza ONLY $30
DESCRIPTION:5pm-9pm \nUnlimited Paintball for only $30 \nincludes all rental gear & ammo \n 
URL:https://battlegroundz.net/event/unlimited-paintball-2-slices-of-pizza-only-30/2025-12-18/
LOCATION:RI
CATEGORIES:Paintball
ATTACH;FMTTYPE=image/png:https://battlegroundz.net/wp-content/uploads/2024/10/Thursday-Paintball-Unlimited.png
END:VEVENT
BEGIN:VEVENT
DTSTART;TZID=America/New_York:20251211T170000
DTEND;TZID=America/New_York:20251211T210000
DTSTAMP:20260420T102957
CREATED:20241028T193722Z
LAST-MODIFIED:20241119T170747Z
UID:10006584-1765472400-1765486800@battlegroundz.net
SUMMARY:Unlimited Paintball + 2 Slices of Pizza ONLY $30
DESCRIPTION:5pm-9pm \nUnlimited Paintball for only $30 \nincludes all rental gear & ammo \n 
URL:https://battlegroundz.net/event/unlimited-paintball-2-slices-of-pizza-only-30/2025-12-11/
LOCATION:RI
CATEGORIES:Paintball
ATTACH;FMTTYPE=image/png:https://battlegroundz.net/wp-content/uploads/2024/10/Thursday-Paintball-Unlimited.png
END:VEVENT
BEGIN:VEVENT
DTSTART;TZID=America/New_York:20251204T170000
DTEND;TZID=America/New_York:20251204T210000
DTSTAMP:20260420T102957
CREATED:20241028T193722Z
LAST-MODIFIED:20241119T170747Z
UID:10006577-1764867600-1764882000@battlegroundz.net
SUMMARY:Unlimited Paintball + 2 Slices of Pizza ONLY $30
DESCRIPTION:5pm-9pm \nUnlimited Paintball for only $30 \nincludes all rental gear & ammo \n 
URL:https://battlegroundz.net/event/unlimited-paintball-2-slices-of-pizza-only-30/2025-12-04/
LOCATION:RI
CATEGORIES:Paintball
ATTACH;FMTTYPE=image/png:https://battlegroundz.net/wp-content/uploads/2024/10/Thursday-Paintball-Unlimited.png
END:VEVENT
BEGIN:VEVENT
DTSTART;TZID=America/New_York:20251128T120000
DTEND;TZID=America/New_York:20251129T000000
DTSTAMP:20260420T102957
CREATED:20251123T232838Z
LAST-MODIFIED:20251123T232838Z
UID:10008761-1764331200-1764374400@battlegroundz.net
SUMMARY:Black Friday Deals!
DESCRIPTION:Score huge Black Friday savings with 15% off all Pro Shop items\, B1G1 half off patches and 12 hours of nonstop Airsoft action for just $30\, or 6 hours for $20. Airsoft rental gear not included. Play 3 rounds of choice of Laser Tag\, Gel Blasters\, Dodgeball\, or Dart Wars for $25/pp or 6 rounds for $35/pp. All activities open at  noon and close at midnight.
URL:https://battlegroundz.net/event/black-friday-deals/
LOCATION:Battlegroundz\, 100 Higginson Ave\, Lincoln\, RI\, 02865\, United States
CATEGORIES:Airsoft,Archery Tag,Entertainment,Lazer Tag,Paintball,Restaurant and Bar Specials,Special Operating Hours
END:VEVENT
BEGIN:VEVENT
DTSTART;TZID=America/New_York:20251127T170000
DTEND;TZID=America/New_York:20251127T210000
DTSTAMP:20260420T102957
CREATED:20241028T193722Z
LAST-MODIFIED:20241119T170747Z
UID:10006570-1764262800-1764277200@battlegroundz.net
SUMMARY:Unlimited Paintball + 2 Slices of Pizza ONLY $30
DESCRIPTION:5pm-9pm \nUnlimited Paintball for only $30 \nincludes all rental gear & ammo \n 
URL:https://battlegroundz.net/event/unlimited-paintball-2-slices-of-pizza-only-30/2025-11-27/
LOCATION:RI
CATEGORIES:Paintball
ATTACH;FMTTYPE=image/png:https://battlegroundz.net/wp-content/uploads/2024/10/Thursday-Paintball-Unlimited.png
END:VEVENT
BEGIN:VEVENT
DTSTART;TZID=America/New_York:20251120T170000
DTEND;TZID=America/New_York:20251120T210000
DTSTAMP:20260420T102957
CREATED:20241028T193722Z
LAST-MODIFIED:20241119T170747Z
UID:10006563-1763658000-1763672400@battlegroundz.net
SUMMARY:Unlimited Paintball + 2 Slices of Pizza ONLY $30
DESCRIPTION:5pm-9pm \nUnlimited Paintball for only $30 \nincludes all rental gear & ammo \n 
URL:https://battlegroundz.net/event/unlimited-paintball-2-slices-of-pizza-only-30/2025-11-20/
LOCATION:RI
CATEGORIES:Paintball
ATTACH;FMTTYPE=image/png:https://battlegroundz.net/wp-content/uploads/2024/10/Thursday-Paintball-Unlimited.png
END:VEVENT
BEGIN:VEVENT
DTSTART;TZID=America/New_York:20251113T170000
DTEND;TZID=America/New_York:20251113T210000
DTSTAMP:20260420T102957
CREATED:20241028T193722Z
LAST-MODIFIED:20241119T170747Z
UID:10006556-1763053200-1763067600@battlegroundz.net
SUMMARY:Unlimited Paintball + 2 Slices of Pizza ONLY $30
DESCRIPTION:5pm-9pm \nUnlimited Paintball for only $30 \nincludes all rental gear & ammo \n 
URL:https://battlegroundz.net/event/unlimited-paintball-2-slices-of-pizza-only-30/2025-11-13/
LOCATION:RI
CATEGORIES:Paintball
ATTACH;FMTTYPE=image/png:https://battlegroundz.net/wp-content/uploads/2024/10/Thursday-Paintball-Unlimited.png
END:VEVENT
END:VCALENDAR