BEGIN:VCALENDAR
VERSION:2.0
PRODID:-//BattleGroundZ - ECPv6.15.20//NONSGML v1.0//EN
CALSCALE:GREGORIAN
METHOD:PUBLISH
X-WR-CALNAME:BattleGroundZ
X-ORIGINAL-URL:https://battlegroundz.net
X-WR-CALDESC:Events for BattleGroundZ
REFRESH-INTERVAL;VALUE=DURATION:PT1H
X-Robots-Tag:noindex
X-PUBLISHED-TTL:PT1H
BEGIN:VTIMEZONE
TZID:America/New_York
BEGIN:DAYLIGHT
TZOFFSETFROM:-0500
TZOFFSETTO:-0400
TZNAME:EDT
DTSTART:20230312T070000
END:DAYLIGHT
BEGIN:STANDARD
TZOFFSETFROM:-0400
TZOFFSETTO:-0500
TZNAME:EST
DTSTART:20231105T060000
END:STANDARD
BEGIN:DAYLIGHT
TZOFFSETFROM:-0500
TZOFFSETTO:-0400
TZNAME:EDT
DTSTART:20240310T070000
END:DAYLIGHT
BEGIN:STANDARD
TZOFFSETFROM:-0400
TZOFFSETTO:-0500
TZNAME:EST
DTSTART:20241103T060000
END:STANDARD
BEGIN:DAYLIGHT
TZOFFSETFROM:-0500
TZOFFSETTO:-0400
TZNAME:EDT
DTSTART:20250309T070000
END:DAYLIGHT
BEGIN:STANDARD
TZOFFSETFROM:-0400
TZOFFSETTO:-0500
TZNAME:EST
DTSTART:20251102T060000
END:STANDARD
END:VTIMEZONE
BEGIN:VEVENT
DTSTART;TZID=America/New_York:20240917T120000
DTEND;TZID=America/New_York:20240917T220000
DTSTAMP:20260424T193350
CREATED:20240828T135434Z
LAST-MODIFIED:20240828T135723Z
UID:10005874-1726574400-1726610400@battlegroundz.net
SUMMARY:1/2 OFF Arcade Cards 
DESCRIPTION:1/2 OFF Arcade Cards \nPurchase a $20 Play card for only $10 \nPurchase a $30 Play Card for only $15 \n  \n**This special is available every Tuesday & Friday \nSeptember 1- October 31
URL:https://battlegroundz.net/event/1-2-off-arcade-cards/2024-09-17/
LOCATION:RI
CATEGORIES:Entertainment
ATTACH;FMTTYPE=image/png:https://battlegroundz.net/wp-content/uploads/2024/08/half-Off-Play-Card-sign.png
END:VEVENT
BEGIN:VEVENT
DTSTART;TZID=America/New_York:20240920T120000
DTEND;TZID=America/New_York:20240920T233000
DTSTAMP:20260424T193350
CREATED:20240828T135922Z
LAST-MODIFIED:20240828T140513Z
UID:10005892-1726833600-1726875000@battlegroundz.net
SUMMARY:1/2 OFF Arcade Cards 
DESCRIPTION:1/2 OFF Arcade Cards \nPurchase a $20 Play card for only $10 \nPurchase a $30 Play Card for only $15 \n  \n**This special is available every Tuesday & Friday \nSeptember 1- October 31
URL:https://battlegroundz.net/event/1-2-off-arcade-cards-2/2024-09-20/
LOCATION:RI
CATEGORIES:Entertainment
ATTACH;FMTTYPE=image/png:https://battlegroundz.net/wp-content/uploads/2024/08/half-Off-Play-Card-sign.png
END:VEVENT
BEGIN:VEVENT
DTSTART;TZID=America/New_York:20240922T100000
DTEND;TZID=America/New_York:20240922T150000
DTSTAMP:20260424T193350
CREATED:20230831T194814Z
LAST-MODIFIED:20240828T143150Z
UID:10004621-1726999200-1727017200@battlegroundz.net
SUMMARY:John Martin's Foundation Car Show
DESCRIPTION:Come Support the John Martin’s Foundation! \nFree Event \nLocation in our Parking Lot!
URL:https://battlegroundz.net/event/john-martins-foundation-car-show/
LOCATION:RI
CATEGORIES:Entertainment
ATTACH;FMTTYPE=image/jpeg:https://battlegroundz.net/wp-content/uploads/2023/08/John-Martins-Foundation-2024.jpg
END:VEVENT
END:VCALENDAR