BEGIN:VCALENDAR
VERSION:2.0
PRODID:-//BattleGroundZ - ECPv6.15.20//NONSGML v1.0//EN
CALSCALE:GREGORIAN
METHOD:PUBLISH
X-ORIGINAL-URL:https://battlegroundz.net
X-WR-CALDESC:Events for BattleGroundZ
REFRESH-INTERVAL;VALUE=DURATION:PT1H
X-Robots-Tag:noindex
X-PUBLISHED-TTL:PT1H
BEGIN:VTIMEZONE
TZID:America/New_York
BEGIN:DAYLIGHT
TZOFFSETFROM:-0500
TZOFFSETTO:-0400
TZNAME:EDT
DTSTART:20260308T070000
END:DAYLIGHT
BEGIN:STANDARD
TZOFFSETFROM:-0400
TZOFFSETTO:-0500
TZNAME:EST
DTSTART:20261101T060000
END:STANDARD
BEGIN:DAYLIGHT
TZOFFSETFROM:-0500
TZOFFSETTO:-0400
TZNAME:EDT
DTSTART:20270314T070000
END:DAYLIGHT
BEGIN:STANDARD
TZOFFSETFROM:-0400
TZOFFSETTO:-0500
TZNAME:EST
DTSTART:20271107T060000
END:STANDARD
BEGIN:DAYLIGHT
TZOFFSETFROM:-0500
TZOFFSETTO:-0400
TZNAME:EDT
DTSTART:20280312T070000
END:DAYLIGHT
BEGIN:STANDARD
TZOFFSETFROM:-0400
TZOFFSETTO:-0500
TZNAME:EST
DTSTART:20281105T060000
END:STANDARD
END:VTIMEZONE
BEGIN:VEVENT
DTSTART;TZID=America/New_York:20270629T170000
DTEND;TZID=America/New_York:20270629T220000
DTSTAMP:20260422T184609
CREATED:20240828T134553Z
LAST-MODIFIED:20260331T195455Z
UID:10005758-1814288400-1814306400@battlegroundz.net
SUMMARY:Airsoft $20 Tuesday
DESCRIPTION:5pm-10pm \n$20 \n5 Hours session of Unlimited Game Time + 2 slices of pizza \n*Rental gear not included
URL:https://battlegroundz.net/event/airsoft-20-tuesday-2-2/2027-06-29/
LOCATION:RI
CATEGORIES:Airsoft
ATTACH;FMTTYPE=image/png:https://battlegroundz.net/wp-content/uploads/2023/08/20-tuesday-new-post.png
END:VEVENT
BEGIN:VEVENT
DTSTART;TZID=America/New_York:20270702T160000
DTEND;TZID=America/New_York:20270702T235900
DTSTAMP:20260422T184609
CREATED:20260331T164837Z
LAST-MODIFIED:20260331T164837Z
UID:10009023-1814544000-1814572740@battlegroundz.net
SUMMARY:Special 6-Hour Session Times!
DESCRIPTION:BattlegroundZ is offering two 6 hour sessions from 4-12 tonight. An airsoft extension is only $10! Stop by tonight for hours of fun!
URL:https://battlegroundz.net/event/special-6-hour-session-times/2027-07-02/
LOCATION:Battlegroundz\, 100 Higginson Ave\, Lincoln\, RI\, 02865\, United States
CATEGORIES:Airsoft,Airsoft
ATTACH;FMTTYPE=image/jpeg:https://battlegroundz.net/wp-content/uploads/2026/03/3-27-26-Friday-Session-Times.jpg
END:VEVENT
BEGIN:VEVENT
DTSTART;TZID=America/New_York:20270706T170000
DTEND;TZID=America/New_York:20270706T220000
DTSTAMP:20260422T184609
CREATED:20240828T134553Z
LAST-MODIFIED:20260331T195455Z
UID:10005759-1814893200-1814911200@battlegroundz.net
SUMMARY:Airsoft $20 Tuesday
DESCRIPTION:5pm-10pm \n$20 \n5 Hours session of Unlimited Game Time + 2 slices of pizza \n*Rental gear not included
URL:https://battlegroundz.net/event/airsoft-20-tuesday-2-2/2027-07-06/
LOCATION:RI
CATEGORIES:Airsoft
ATTACH;FMTTYPE=image/png:https://battlegroundz.net/wp-content/uploads/2023/08/20-tuesday-new-post.png
END:VEVENT
BEGIN:VEVENT
DTSTART;TZID=America/New_York:20270709T160000
DTEND;TZID=America/New_York:20270709T235900
DTSTAMP:20260422T184609
CREATED:20260331T164837Z
LAST-MODIFIED:20260331T164837Z
UID:10009024-1815148800-1815177540@battlegroundz.net
SUMMARY:Special 6-Hour Session Times!
DESCRIPTION:BattlegroundZ is offering two 6 hour sessions from 4-12 tonight. An airsoft extension is only $10! Stop by tonight for hours of fun!
URL:https://battlegroundz.net/event/special-6-hour-session-times/2027-07-09/
LOCATION:Battlegroundz\, 100 Higginson Ave\, Lincoln\, RI\, 02865\, United States
CATEGORIES:Airsoft,Airsoft
ATTACH;FMTTYPE=image/jpeg:https://battlegroundz.net/wp-content/uploads/2026/03/3-27-26-Friday-Session-Times.jpg
END:VEVENT
BEGIN:VEVENT
DTSTART;TZID=America/New_York:20270713T170000
DTEND;TZID=America/New_York:20270713T220000
DTSTAMP:20260422T184609
CREATED:20240828T134553Z
LAST-MODIFIED:20260331T195455Z
UID:10005760-1815498000-1815516000@battlegroundz.net
SUMMARY:Airsoft $20 Tuesday
DESCRIPTION:5pm-10pm \n$20 \n5 Hours session of Unlimited Game Time + 2 slices of pizza \n*Rental gear not included
URL:https://battlegroundz.net/event/airsoft-20-tuesday-2-2/2027-07-13/
LOCATION:RI
CATEGORIES:Airsoft
ATTACH;FMTTYPE=image/png:https://battlegroundz.net/wp-content/uploads/2023/08/20-tuesday-new-post.png
END:VEVENT
BEGIN:VEVENT
DTSTART;TZID=America/New_York:20270716T160000
DTEND;TZID=America/New_York:20270716T235900
DTSTAMP:20260422T184609
CREATED:20260331T164837Z
LAST-MODIFIED:20260331T164837Z
UID:10009025-1815753600-1815782340@battlegroundz.net
SUMMARY:Special 6-Hour Session Times!
DESCRIPTION:BattlegroundZ is offering two 6 hour sessions from 4-12 tonight. An airsoft extension is only $10! Stop by tonight for hours of fun!
URL:https://battlegroundz.net/event/special-6-hour-session-times/2027-07-16/
LOCATION:Battlegroundz\, 100 Higginson Ave\, Lincoln\, RI\, 02865\, United States
CATEGORIES:Airsoft,Airsoft
ATTACH;FMTTYPE=image/jpeg:https://battlegroundz.net/wp-content/uploads/2026/03/3-27-26-Friday-Session-Times.jpg
END:VEVENT
BEGIN:VEVENT
DTSTART;TZID=America/New_York:20270720T170000
DTEND;TZID=America/New_York:20270720T220000
DTSTAMP:20260422T184609
CREATED:20240828T134553Z
LAST-MODIFIED:20260331T195455Z
UID:10005761-1816102800-1816120800@battlegroundz.net
SUMMARY:Airsoft $20 Tuesday
DESCRIPTION:5pm-10pm \n$20 \n5 Hours session of Unlimited Game Time + 2 slices of pizza \n*Rental gear not included
URL:https://battlegroundz.net/event/airsoft-20-tuesday-2-2/2027-07-20/
LOCATION:RI
CATEGORIES:Airsoft
ATTACH;FMTTYPE=image/png:https://battlegroundz.net/wp-content/uploads/2023/08/20-tuesday-new-post.png
END:VEVENT
BEGIN:VEVENT
DTSTART;TZID=America/New_York:20270723T160000
DTEND;TZID=America/New_York:20270723T235900
DTSTAMP:20260422T184609
CREATED:20260331T164837Z
LAST-MODIFIED:20260331T164837Z
UID:10009026-1816358400-1816387140@battlegroundz.net
SUMMARY:Special 6-Hour Session Times!
DESCRIPTION:BattlegroundZ is offering two 6 hour sessions from 4-12 tonight. An airsoft extension is only $10! Stop by tonight for hours of fun!
URL:https://battlegroundz.net/event/special-6-hour-session-times/2027-07-23/
LOCATION:Battlegroundz\, 100 Higginson Ave\, Lincoln\, RI\, 02865\, United States
CATEGORIES:Airsoft,Airsoft
ATTACH;FMTTYPE=image/jpeg:https://battlegroundz.net/wp-content/uploads/2026/03/3-27-26-Friday-Session-Times.jpg
END:VEVENT
BEGIN:VEVENT
DTSTART;TZID=America/New_York:20270727T170000
DTEND;TZID=America/New_York:20270727T220000
DTSTAMP:20260422T184609
CREATED:20240828T134553Z
LAST-MODIFIED:20260331T195455Z
UID:10005762-1816707600-1816725600@battlegroundz.net
SUMMARY:Airsoft $20 Tuesday
DESCRIPTION:5pm-10pm \n$20 \n5 Hours session of Unlimited Game Time + 2 slices of pizza \n*Rental gear not included
URL:https://battlegroundz.net/event/airsoft-20-tuesday-2-2/2027-07-27/
LOCATION:RI
CATEGORIES:Airsoft
ATTACH;FMTTYPE=image/png:https://battlegroundz.net/wp-content/uploads/2023/08/20-tuesday-new-post.png
END:VEVENT
BEGIN:VEVENT
DTSTART;TZID=America/New_York:20270730T160000
DTEND;TZID=America/New_York:20270730T235900
DTSTAMP:20260422T184609
CREATED:20260331T164837Z
LAST-MODIFIED:20260331T164837Z
UID:10009027-1816963200-1816991940@battlegroundz.net
SUMMARY:Special 6-Hour Session Times!
DESCRIPTION:BattlegroundZ is offering two 6 hour sessions from 4-12 tonight. An airsoft extension is only $10! Stop by tonight for hours of fun!
URL:https://battlegroundz.net/event/special-6-hour-session-times/2027-07-30/
LOCATION:Battlegroundz\, 100 Higginson Ave\, Lincoln\, RI\, 02865\, United States
CATEGORIES:Airsoft,Airsoft
ATTACH;FMTTYPE=image/jpeg:https://battlegroundz.net/wp-content/uploads/2026/03/3-27-26-Friday-Session-Times.jpg
END:VEVENT
BEGIN:VEVENT
DTSTART;TZID=America/New_York:20270803T170000
DTEND;TZID=America/New_York:20270803T220000
DTSTAMP:20260422T184609
CREATED:20240828T134553Z
LAST-MODIFIED:20260331T195455Z
UID:10005763-1817312400-1817330400@battlegroundz.net
SUMMARY:Airsoft $20 Tuesday
DESCRIPTION:5pm-10pm \n$20 \n5 Hours session of Unlimited Game Time + 2 slices of pizza \n*Rental gear not included
URL:https://battlegroundz.net/event/airsoft-20-tuesday-2-2/2027-08-03/
LOCATION:RI
CATEGORIES:Airsoft
ATTACH;FMTTYPE=image/png:https://battlegroundz.net/wp-content/uploads/2023/08/20-tuesday-new-post.png
END:VEVENT
BEGIN:VEVENT
DTSTART;TZID=America/New_York:20270806T160000
DTEND;TZID=America/New_York:20270806T235900
DTSTAMP:20260422T184609
CREATED:20260331T164837Z
LAST-MODIFIED:20260331T164837Z
UID:10009028-1817568000-1817596740@battlegroundz.net
SUMMARY:Special 6-Hour Session Times!
DESCRIPTION:BattlegroundZ is offering two 6 hour sessions from 4-12 tonight. An airsoft extension is only $10! Stop by tonight for hours of fun!
URL:https://battlegroundz.net/event/special-6-hour-session-times/2027-08-06/
LOCATION:Battlegroundz\, 100 Higginson Ave\, Lincoln\, RI\, 02865\, United States
CATEGORIES:Airsoft,Airsoft
ATTACH;FMTTYPE=image/jpeg:https://battlegroundz.net/wp-content/uploads/2026/03/3-27-26-Friday-Session-Times.jpg
END:VEVENT
BEGIN:VEVENT
DTSTART;TZID=America/New_York:20270810T170000
DTEND;TZID=America/New_York:20270810T220000
DTSTAMP:20260422T184609
CREATED:20240828T134553Z
LAST-MODIFIED:20260331T195455Z
UID:10005764-1817917200-1817935200@battlegroundz.net
SUMMARY:Airsoft $20 Tuesday
DESCRIPTION:5pm-10pm \n$20 \n5 Hours session of Unlimited Game Time + 2 slices of pizza \n*Rental gear not included
URL:https://battlegroundz.net/event/airsoft-20-tuesday-2-2/2027-08-10/
LOCATION:RI
CATEGORIES:Airsoft
ATTACH;FMTTYPE=image/png:https://battlegroundz.net/wp-content/uploads/2023/08/20-tuesday-new-post.png
END:VEVENT
BEGIN:VEVENT
DTSTART;TZID=America/New_York:20270813T160000
DTEND;TZID=America/New_York:20270813T235900
DTSTAMP:20260422T184609
CREATED:20260331T164837Z
LAST-MODIFIED:20260331T164837Z
UID:10009029-1818172800-1818201540@battlegroundz.net
SUMMARY:Special 6-Hour Session Times!
DESCRIPTION:BattlegroundZ is offering two 6 hour sessions from 4-12 tonight. An airsoft extension is only $10! Stop by tonight for hours of fun!
URL:https://battlegroundz.net/event/special-6-hour-session-times/2027-08-13/
LOCATION:Battlegroundz\, 100 Higginson Ave\, Lincoln\, RI\, 02865\, United States
CATEGORIES:Airsoft,Airsoft
ATTACH;FMTTYPE=image/jpeg:https://battlegroundz.net/wp-content/uploads/2026/03/3-27-26-Friday-Session-Times.jpg
END:VEVENT
BEGIN:VEVENT
DTSTART;TZID=America/New_York:20270817T170000
DTEND;TZID=America/New_York:20270817T220000
DTSTAMP:20260422T184609
CREATED:20240828T134553Z
LAST-MODIFIED:20260331T195455Z
UID:10005765-1818522000-1818540000@battlegroundz.net
SUMMARY:Airsoft $20 Tuesday
DESCRIPTION:5pm-10pm \n$20 \n5 Hours session of Unlimited Game Time + 2 slices of pizza \n*Rental gear not included
URL:https://battlegroundz.net/event/airsoft-20-tuesday-2-2/2027-08-17/
LOCATION:RI
CATEGORIES:Airsoft
ATTACH;FMTTYPE=image/png:https://battlegroundz.net/wp-content/uploads/2023/08/20-tuesday-new-post.png
END:VEVENT
BEGIN:VEVENT
DTSTART;TZID=America/New_York:20270820T160000
DTEND;TZID=America/New_York:20270820T235900
DTSTAMP:20260422T184609
CREATED:20260331T164837Z
LAST-MODIFIED:20260331T164837Z
UID:10009030-1818777600-1818806340@battlegroundz.net
SUMMARY:Special 6-Hour Session Times!
DESCRIPTION:BattlegroundZ is offering two 6 hour sessions from 4-12 tonight. An airsoft extension is only $10! Stop by tonight for hours of fun!
URL:https://battlegroundz.net/event/special-6-hour-session-times/2027-08-20/
LOCATION:Battlegroundz\, 100 Higginson Ave\, Lincoln\, RI\, 02865\, United States
CATEGORIES:Airsoft,Airsoft
ATTACH;FMTTYPE=image/jpeg:https://battlegroundz.net/wp-content/uploads/2026/03/3-27-26-Friday-Session-Times.jpg
END:VEVENT
BEGIN:VEVENT
DTSTART;TZID=America/New_York:20270824T170000
DTEND;TZID=America/New_York:20270824T220000
DTSTAMP:20260422T184609
CREATED:20240828T134553Z
LAST-MODIFIED:20260331T195455Z
UID:10005766-1819126800-1819144800@battlegroundz.net
SUMMARY:Airsoft $20 Tuesday
DESCRIPTION:5pm-10pm \n$20 \n5 Hours session of Unlimited Game Time + 2 slices of pizza \n*Rental gear not included
URL:https://battlegroundz.net/event/airsoft-20-tuesday-2-2/2027-08-24/
LOCATION:RI
CATEGORIES:Airsoft
ATTACH;FMTTYPE=image/png:https://battlegroundz.net/wp-content/uploads/2023/08/20-tuesday-new-post.png
END:VEVENT
BEGIN:VEVENT
DTSTART;TZID=America/New_York:20270827T160000
DTEND;TZID=America/New_York:20270827T235900
DTSTAMP:20260422T184609
CREATED:20260331T164837Z
LAST-MODIFIED:20260331T164837Z
UID:10009031-1819382400-1819411140@battlegroundz.net
SUMMARY:Special 6-Hour Session Times!
DESCRIPTION:BattlegroundZ is offering two 6 hour sessions from 4-12 tonight. An airsoft extension is only $10! Stop by tonight for hours of fun!
URL:https://battlegroundz.net/event/special-6-hour-session-times/2027-08-27/
LOCATION:Battlegroundz\, 100 Higginson Ave\, Lincoln\, RI\, 02865\, United States
CATEGORIES:Airsoft,Airsoft
ATTACH;FMTTYPE=image/jpeg:https://battlegroundz.net/wp-content/uploads/2026/03/3-27-26-Friday-Session-Times.jpg
END:VEVENT
BEGIN:VEVENT
DTSTART;TZID=America/New_York:20270831T170000
DTEND;TZID=America/New_York:20270831T220000
DTSTAMP:20260422T184609
CREATED:20240828T134553Z
LAST-MODIFIED:20260331T195455Z
UID:10005767-1819731600-1819749600@battlegroundz.net
SUMMARY:Airsoft $20 Tuesday
DESCRIPTION:5pm-10pm \n$20 \n5 Hours session of Unlimited Game Time + 2 slices of pizza \n*Rental gear not included
URL:https://battlegroundz.net/event/airsoft-20-tuesday-2-2/2027-08-31/
LOCATION:RI
CATEGORIES:Airsoft
ATTACH;FMTTYPE=image/png:https://battlegroundz.net/wp-content/uploads/2023/08/20-tuesday-new-post.png
END:VEVENT
BEGIN:VEVENT
DTSTART;TZID=America/New_York:20270903T160000
DTEND;TZID=America/New_York:20270903T235900
DTSTAMP:20260422T184609
CREATED:20260331T164837Z
LAST-MODIFIED:20260331T164837Z
UID:10009032-1819987200-1820015940@battlegroundz.net
SUMMARY:Special 6-Hour Session Times!
DESCRIPTION:BattlegroundZ is offering two 6 hour sessions from 4-12 tonight. An airsoft extension is only $10! Stop by tonight for hours of fun!
URL:https://battlegroundz.net/event/special-6-hour-session-times/2027-09-03/
LOCATION:Battlegroundz\, 100 Higginson Ave\, Lincoln\, RI\, 02865\, United States
CATEGORIES:Airsoft,Airsoft
ATTACH;FMTTYPE=image/jpeg:https://battlegroundz.net/wp-content/uploads/2026/03/3-27-26-Friday-Session-Times.jpg
END:VEVENT
BEGIN:VEVENT
DTSTART;TZID=America/New_York:20270907T170000
DTEND;TZID=America/New_York:20270907T220000
DTSTAMP:20260422T184609
CREATED:20240828T134553Z
LAST-MODIFIED:20260331T195455Z
UID:10005768-1820336400-1820354400@battlegroundz.net
SUMMARY:Airsoft $20 Tuesday
DESCRIPTION:5pm-10pm \n$20 \n5 Hours session of Unlimited Game Time + 2 slices of pizza \n*Rental gear not included
URL:https://battlegroundz.net/event/airsoft-20-tuesday-2-2/2027-09-07/
LOCATION:RI
CATEGORIES:Airsoft
ATTACH;FMTTYPE=image/png:https://battlegroundz.net/wp-content/uploads/2023/08/20-tuesday-new-post.png
END:VEVENT
BEGIN:VEVENT
DTSTART;TZID=America/New_York:20270910T160000
DTEND;TZID=America/New_York:20270910T235900
DTSTAMP:20260422T184609
CREATED:20260331T164837Z
LAST-MODIFIED:20260331T164837Z
UID:10009033-1820592000-1820620740@battlegroundz.net
SUMMARY:Special 6-Hour Session Times!
DESCRIPTION:BattlegroundZ is offering two 6 hour sessions from 4-12 tonight. An airsoft extension is only $10! Stop by tonight for hours of fun!
URL:https://battlegroundz.net/event/special-6-hour-session-times/2027-09-10/
LOCATION:Battlegroundz\, 100 Higginson Ave\, Lincoln\, RI\, 02865\, United States
CATEGORIES:Airsoft,Airsoft
ATTACH;FMTTYPE=image/jpeg:https://battlegroundz.net/wp-content/uploads/2026/03/3-27-26-Friday-Session-Times.jpg
END:VEVENT
BEGIN:VEVENT
DTSTART;TZID=America/New_York:20270914T170000
DTEND;TZID=America/New_York:20270914T220000
DTSTAMP:20260422T184609
CREATED:20240828T134553Z
LAST-MODIFIED:20260331T195455Z
UID:10005769-1820941200-1820959200@battlegroundz.net
SUMMARY:Airsoft $20 Tuesday
DESCRIPTION:5pm-10pm \n$20 \n5 Hours session of Unlimited Game Time + 2 slices of pizza \n*Rental gear not included
URL:https://battlegroundz.net/event/airsoft-20-tuesday-2-2/2027-09-14/
LOCATION:RI
CATEGORIES:Airsoft
ATTACH;FMTTYPE=image/png:https://battlegroundz.net/wp-content/uploads/2023/08/20-tuesday-new-post.png
END:VEVENT
BEGIN:VEVENT
DTSTART;TZID=America/New_York:20270917T160000
DTEND;TZID=America/New_York:20270917T235900
DTSTAMP:20260422T184609
CREATED:20260331T164837Z
LAST-MODIFIED:20260331T164837Z
UID:10009034-1821196800-1821225540@battlegroundz.net
SUMMARY:Special 6-Hour Session Times!
DESCRIPTION:BattlegroundZ is offering two 6 hour sessions from 4-12 tonight. An airsoft extension is only $10! Stop by tonight for hours of fun!
URL:https://battlegroundz.net/event/special-6-hour-session-times/2027-09-17/
LOCATION:Battlegroundz\, 100 Higginson Ave\, Lincoln\, RI\, 02865\, United States
CATEGORIES:Airsoft,Airsoft
ATTACH;FMTTYPE=image/jpeg:https://battlegroundz.net/wp-content/uploads/2026/03/3-27-26-Friday-Session-Times.jpg
END:VEVENT
BEGIN:VEVENT
DTSTART;TZID=America/New_York:20270921T170000
DTEND;TZID=America/New_York:20270921T220000
DTSTAMP:20260422T184609
CREATED:20240828T134553Z
LAST-MODIFIED:20260331T195455Z
UID:10005770-1821546000-1821564000@battlegroundz.net
SUMMARY:Airsoft $20 Tuesday
DESCRIPTION:5pm-10pm \n$20 \n5 Hours session of Unlimited Game Time + 2 slices of pizza \n*Rental gear not included
URL:https://battlegroundz.net/event/airsoft-20-tuesday-2-2/2027-09-21/
LOCATION:RI
CATEGORIES:Airsoft
ATTACH;FMTTYPE=image/png:https://battlegroundz.net/wp-content/uploads/2023/08/20-tuesday-new-post.png
END:VEVENT
BEGIN:VEVENT
DTSTART;TZID=America/New_York:20270924T160000
DTEND;TZID=America/New_York:20270924T235900
DTSTAMP:20260422T184609
CREATED:20260331T164837Z
LAST-MODIFIED:20260331T164837Z
UID:10009035-1821801600-1821830340@battlegroundz.net
SUMMARY:Special 6-Hour Session Times!
DESCRIPTION:BattlegroundZ is offering two 6 hour sessions from 4-12 tonight. An airsoft extension is only $10! Stop by tonight for hours of fun!
URL:https://battlegroundz.net/event/special-6-hour-session-times/2027-09-24/
LOCATION:Battlegroundz\, 100 Higginson Ave\, Lincoln\, RI\, 02865\, United States
CATEGORIES:Airsoft,Airsoft
ATTACH;FMTTYPE=image/jpeg:https://battlegroundz.net/wp-content/uploads/2026/03/3-27-26-Friday-Session-Times.jpg
END:VEVENT
BEGIN:VEVENT
DTSTART;TZID=America/New_York:20270928T170000
DTEND;TZID=America/New_York:20270928T220000
DTSTAMP:20260422T184609
CREATED:20240828T134553Z
LAST-MODIFIED:20260331T195455Z
UID:10005771-1822150800-1822168800@battlegroundz.net
SUMMARY:Airsoft $20 Tuesday
DESCRIPTION:5pm-10pm \n$20 \n5 Hours session of Unlimited Game Time + 2 slices of pizza \n*Rental gear not included
URL:https://battlegroundz.net/event/airsoft-20-tuesday-2-2/2027-09-28/
LOCATION:RI
CATEGORIES:Airsoft
ATTACH;FMTTYPE=image/png:https://battlegroundz.net/wp-content/uploads/2023/08/20-tuesday-new-post.png
END:VEVENT
BEGIN:VEVENT
DTSTART;TZID=America/New_York:20271001T160000
DTEND;TZID=America/New_York:20271001T235900
DTSTAMP:20260422T184609
CREATED:20260331T164837Z
LAST-MODIFIED:20260331T164837Z
UID:10009036-1822406400-1822435140@battlegroundz.net
SUMMARY:Special 6-Hour Session Times!
DESCRIPTION:BattlegroundZ is offering two 6 hour sessions from 4-12 tonight. An airsoft extension is only $10! Stop by tonight for hours of fun!
URL:https://battlegroundz.net/event/special-6-hour-session-times/2027-10-01/
LOCATION:Battlegroundz\, 100 Higginson Ave\, Lincoln\, RI\, 02865\, United States
CATEGORIES:Airsoft,Airsoft
ATTACH;FMTTYPE=image/jpeg:https://battlegroundz.net/wp-content/uploads/2026/03/3-27-26-Friday-Session-Times.jpg
END:VEVENT
BEGIN:VEVENT
DTSTART;TZID=America/New_York:20271005T170000
DTEND;TZID=America/New_York:20271005T220000
DTSTAMP:20260422T184609
CREATED:20240828T134553Z
LAST-MODIFIED:20260331T195455Z
UID:10005772-1822755600-1822773600@battlegroundz.net
SUMMARY:Airsoft $20 Tuesday
DESCRIPTION:5pm-10pm \n$20 \n5 Hours session of Unlimited Game Time + 2 slices of pizza \n*Rental gear not included
URL:https://battlegroundz.net/event/airsoft-20-tuesday-2-2/2027-10-05/
LOCATION:RI
CATEGORIES:Airsoft
ATTACH;FMTTYPE=image/png:https://battlegroundz.net/wp-content/uploads/2023/08/20-tuesday-new-post.png
END:VEVENT
BEGIN:VEVENT
DTSTART;TZID=America/New_York:20271008T160000
DTEND;TZID=America/New_York:20271008T235900
DTSTAMP:20260422T184609
CREATED:20260331T164837Z
LAST-MODIFIED:20260331T164837Z
UID:10009037-1823011200-1823039940@battlegroundz.net
SUMMARY:Special 6-Hour Session Times!
DESCRIPTION:BattlegroundZ is offering two 6 hour sessions from 4-12 tonight. An airsoft extension is only $10! Stop by tonight for hours of fun!
URL:https://battlegroundz.net/event/special-6-hour-session-times/2027-10-08/
LOCATION:Battlegroundz\, 100 Higginson Ave\, Lincoln\, RI\, 02865\, United States
CATEGORIES:Airsoft,Airsoft
ATTACH;FMTTYPE=image/jpeg:https://battlegroundz.net/wp-content/uploads/2026/03/3-27-26-Friday-Session-Times.jpg
END:VEVENT
END:VCALENDAR