BEGIN:VCALENDAR
VERSION:2.0
PRODID:-//BattleGroundZ - ECPv6.15.20//NONSGML v1.0//EN
CALSCALE:GREGORIAN
METHOD:PUBLISH
X-WR-CALNAME:BattleGroundZ
X-ORIGINAL-URL:https://battlegroundz.net
X-WR-CALDESC:Events for BattleGroundZ
REFRESH-INTERVAL;VALUE=DURATION:PT1H
X-Robots-Tag:noindex
X-PUBLISHED-TTL:PT1H
BEGIN:VTIMEZONE
TZID:America/New_York
BEGIN:DAYLIGHT
TZOFFSETFROM:-0500
TZOFFSETTO:-0400
TZNAME:EDT
DTSTART:20290311T070000
END:DAYLIGHT
BEGIN:STANDARD
TZOFFSETFROM:-0400
TZOFFSETTO:-0500
TZNAME:EST
DTSTART:20291104T060000
END:STANDARD
BEGIN:DAYLIGHT
TZOFFSETFROM:-0500
TZOFFSETTO:-0400
TZNAME:EDT
DTSTART:20300310T070000
END:DAYLIGHT
BEGIN:STANDARD
TZOFFSETFROM:-0400
TZOFFSETTO:-0500
TZNAME:EST
DTSTART:20301103T060000
END:STANDARD
BEGIN:DAYLIGHT
TZOFFSETFROM:-0500
TZOFFSETTO:-0400
TZNAME:EDT
DTSTART:20310309T070000
END:DAYLIGHT
BEGIN:STANDARD
TZOFFSETFROM:-0400
TZOFFSETTO:-0500
TZNAME:EST
DTSTART:20311102T060000
END:STANDARD
BEGIN:DAYLIGHT
TZOFFSETFROM:-0500
TZOFFSETTO:-0400
TZNAME:EDT
DTSTART:20320314T070000
END:DAYLIGHT
BEGIN:STANDARD
TZOFFSETFROM:-0400
TZOFFSETTO:-0500
TZNAME:EST
DTSTART:20321107T060000
END:STANDARD
END:VTIMEZONE
BEGIN:VEVENT
DTSTART;TZID=America/New_York:20300830T160000
DTEND;TZID=America/New_York:20300830T235900
DTSTAMP:20260421T224147
CREATED:20260331T164837Z
LAST-MODIFIED:20260331T164837Z
UID:10009188-1914336000-1914364740@battlegroundz.net
SUMMARY:Special 6-Hour Session Times!
DESCRIPTION:BattlegroundZ is offering two 6 hour sessions from 4-12 tonight. An airsoft extension is only $10! Stop by tonight for hours of fun!
URL:https://battlegroundz.net/event/special-6-hour-session-times/2030-08-30/
LOCATION:Battlegroundz\, 100 Higginson Ave\, Lincoln\, RI\, 02865\, United States
CATEGORIES:Airsoft,Airsoft
ATTACH;FMTTYPE=image/jpeg:https://battlegroundz.net/wp-content/uploads/2026/03/3-27-26-Friday-Session-Times.jpg
END:VEVENT
BEGIN:VEVENT
DTSTART;TZID=America/New_York:20300906T160000
DTEND;TZID=America/New_York:20300906T235900
DTSTAMP:20260421T224147
CREATED:20260331T164837Z
LAST-MODIFIED:20260331T164837Z
UID:10009189-1914940800-1914969540@battlegroundz.net
SUMMARY:Special 6-Hour Session Times!
DESCRIPTION:BattlegroundZ is offering two 6 hour sessions from 4-12 tonight. An airsoft extension is only $10! Stop by tonight for hours of fun!
URL:https://battlegroundz.net/event/special-6-hour-session-times/2030-09-06/
LOCATION:Battlegroundz\, 100 Higginson Ave\, Lincoln\, RI\, 02865\, United States
CATEGORIES:Airsoft,Airsoft
ATTACH;FMTTYPE=image/jpeg:https://battlegroundz.net/wp-content/uploads/2026/03/3-27-26-Friday-Session-Times.jpg
END:VEVENT
BEGIN:VEVENT
DTSTART;TZID=America/New_York:20300913T160000
DTEND;TZID=America/New_York:20300913T235900
DTSTAMP:20260421T224147
CREATED:20260331T164837Z
LAST-MODIFIED:20260331T164837Z
UID:10009190-1915545600-1915574340@battlegroundz.net
SUMMARY:Special 6-Hour Session Times!
DESCRIPTION:BattlegroundZ is offering two 6 hour sessions from 4-12 tonight. An airsoft extension is only $10! Stop by tonight for hours of fun!
URL:https://battlegroundz.net/event/special-6-hour-session-times/2030-09-13/
LOCATION:Battlegroundz\, 100 Higginson Ave\, Lincoln\, RI\, 02865\, United States
CATEGORIES:Airsoft,Airsoft
ATTACH;FMTTYPE=image/jpeg:https://battlegroundz.net/wp-content/uploads/2026/03/3-27-26-Friday-Session-Times.jpg
END:VEVENT
BEGIN:VEVENT
DTSTART;TZID=America/New_York:20300920T160000
DTEND;TZID=America/New_York:20300920T235900
DTSTAMP:20260421T224147
CREATED:20260331T164837Z
LAST-MODIFIED:20260331T164837Z
UID:10009191-1916150400-1916179140@battlegroundz.net
SUMMARY:Special 6-Hour Session Times!
DESCRIPTION:BattlegroundZ is offering two 6 hour sessions from 4-12 tonight. An airsoft extension is only $10! Stop by tonight for hours of fun!
URL:https://battlegroundz.net/event/special-6-hour-session-times/2030-09-20/
LOCATION:Battlegroundz\, 100 Higginson Ave\, Lincoln\, RI\, 02865\, United States
CATEGORIES:Airsoft,Airsoft
ATTACH;FMTTYPE=image/jpeg:https://battlegroundz.net/wp-content/uploads/2026/03/3-27-26-Friday-Session-Times.jpg
END:VEVENT
BEGIN:VEVENT
DTSTART;TZID=America/New_York:20300927T160000
DTEND;TZID=America/New_York:20300927T235900
DTSTAMP:20260421T224147
CREATED:20260331T164837Z
LAST-MODIFIED:20260331T164837Z
UID:10009192-1916755200-1916783940@battlegroundz.net
SUMMARY:Special 6-Hour Session Times!
DESCRIPTION:BattlegroundZ is offering two 6 hour sessions from 4-12 tonight. An airsoft extension is only $10! Stop by tonight for hours of fun!
URL:https://battlegroundz.net/event/special-6-hour-session-times/2030-09-27/
LOCATION:Battlegroundz\, 100 Higginson Ave\, Lincoln\, RI\, 02865\, United States
CATEGORIES:Airsoft,Airsoft
ATTACH;FMTTYPE=image/jpeg:https://battlegroundz.net/wp-content/uploads/2026/03/3-27-26-Friday-Session-Times.jpg
END:VEVENT
BEGIN:VEVENT
DTSTART;TZID=America/New_York:20301004T160000
DTEND;TZID=America/New_York:20301004T235900
DTSTAMP:20260421T224147
CREATED:20260331T164837Z
LAST-MODIFIED:20260331T164837Z
UID:10009193-1917360000-1917388740@battlegroundz.net
SUMMARY:Special 6-Hour Session Times!
DESCRIPTION:BattlegroundZ is offering two 6 hour sessions from 4-12 tonight. An airsoft extension is only $10! Stop by tonight for hours of fun!
URL:https://battlegroundz.net/event/special-6-hour-session-times/2030-10-04/
LOCATION:Battlegroundz\, 100 Higginson Ave\, Lincoln\, RI\, 02865\, United States
CATEGORIES:Airsoft,Airsoft
ATTACH;FMTTYPE=image/jpeg:https://battlegroundz.net/wp-content/uploads/2026/03/3-27-26-Friday-Session-Times.jpg
END:VEVENT
BEGIN:VEVENT
DTSTART;TZID=America/New_York:20301011T160000
DTEND;TZID=America/New_York:20301011T235900
DTSTAMP:20260421T224147
CREATED:20260331T164837Z
LAST-MODIFIED:20260331T164837Z
UID:10009194-1917964800-1917993540@battlegroundz.net
SUMMARY:Special 6-Hour Session Times!
DESCRIPTION:BattlegroundZ is offering two 6 hour sessions from 4-12 tonight. An airsoft extension is only $10! Stop by tonight for hours of fun!
URL:https://battlegroundz.net/event/special-6-hour-session-times/2030-10-11/
LOCATION:Battlegroundz\, 100 Higginson Ave\, Lincoln\, RI\, 02865\, United States
CATEGORIES:Airsoft,Airsoft
ATTACH;FMTTYPE=image/jpeg:https://battlegroundz.net/wp-content/uploads/2026/03/3-27-26-Friday-Session-Times.jpg
END:VEVENT
BEGIN:VEVENT
DTSTART;TZID=America/New_York:20301018T160000
DTEND;TZID=America/New_York:20301018T235900
DTSTAMP:20260421T224147
CREATED:20260331T164837Z
LAST-MODIFIED:20260331T164837Z
UID:10009195-1918569600-1918598340@battlegroundz.net
SUMMARY:Special 6-Hour Session Times!
DESCRIPTION:BattlegroundZ is offering two 6 hour sessions from 4-12 tonight. An airsoft extension is only $10! Stop by tonight for hours of fun!
URL:https://battlegroundz.net/event/special-6-hour-session-times/2030-10-18/
LOCATION:Battlegroundz\, 100 Higginson Ave\, Lincoln\, RI\, 02865\, United States
CATEGORIES:Airsoft,Airsoft
ATTACH;FMTTYPE=image/jpeg:https://battlegroundz.net/wp-content/uploads/2026/03/3-27-26-Friday-Session-Times.jpg
END:VEVENT
BEGIN:VEVENT
DTSTART;TZID=America/New_York:20301025T160000
DTEND;TZID=America/New_York:20301025T235900
DTSTAMP:20260421T224148
CREATED:20260331T164837Z
LAST-MODIFIED:20260331T164837Z
UID:10009196-1919174400-1919203140@battlegroundz.net
SUMMARY:Special 6-Hour Session Times!
DESCRIPTION:BattlegroundZ is offering two 6 hour sessions from 4-12 tonight. An airsoft extension is only $10! Stop by tonight for hours of fun!
URL:https://battlegroundz.net/event/special-6-hour-session-times/2030-10-25/
LOCATION:Battlegroundz\, 100 Higginson Ave\, Lincoln\, RI\, 02865\, United States
CATEGORIES:Airsoft,Airsoft
ATTACH;FMTTYPE=image/jpeg:https://battlegroundz.net/wp-content/uploads/2026/03/3-27-26-Friday-Session-Times.jpg
END:VEVENT
BEGIN:VEVENT
DTSTART;TZID=America/New_York:20301101T160000
DTEND;TZID=America/New_York:20301101T235900
DTSTAMP:20260421T224148
CREATED:20260331T164837Z
LAST-MODIFIED:20260331T164837Z
UID:10009197-1919779200-1919807940@battlegroundz.net
SUMMARY:Special 6-Hour Session Times!
DESCRIPTION:BattlegroundZ is offering two 6 hour sessions from 4-12 tonight. An airsoft extension is only $10! Stop by tonight for hours of fun!
URL:https://battlegroundz.net/event/special-6-hour-session-times/2030-11-01/
LOCATION:Battlegroundz\, 100 Higginson Ave\, Lincoln\, RI\, 02865\, United States
CATEGORIES:Airsoft,Airsoft
ATTACH;FMTTYPE=image/jpeg:https://battlegroundz.net/wp-content/uploads/2026/03/3-27-26-Friday-Session-Times.jpg
END:VEVENT
BEGIN:VEVENT
DTSTART;TZID=America/New_York:20301108T160000
DTEND;TZID=America/New_York:20301108T235900
DTSTAMP:20260421T224148
CREATED:20260331T164837Z
LAST-MODIFIED:20260331T164837Z
UID:10009198-1920384000-1920412740@battlegroundz.net
SUMMARY:Special 6-Hour Session Times!
DESCRIPTION:BattlegroundZ is offering two 6 hour sessions from 4-12 tonight. An airsoft extension is only $10! Stop by tonight for hours of fun!
URL:https://battlegroundz.net/event/special-6-hour-session-times/2030-11-08/
LOCATION:Battlegroundz\, 100 Higginson Ave\, Lincoln\, RI\, 02865\, United States
CATEGORIES:Airsoft,Airsoft
ATTACH;FMTTYPE=image/jpeg:https://battlegroundz.net/wp-content/uploads/2026/03/3-27-26-Friday-Session-Times.jpg
END:VEVENT
BEGIN:VEVENT
DTSTART;TZID=America/New_York:20301115T160000
DTEND;TZID=America/New_York:20301115T235900
DTSTAMP:20260421T224148
CREATED:20260331T164837Z
LAST-MODIFIED:20260331T164837Z
UID:10009199-1920988800-1921017540@battlegroundz.net
SUMMARY:Special 6-Hour Session Times!
DESCRIPTION:BattlegroundZ is offering two 6 hour sessions from 4-12 tonight. An airsoft extension is only $10! Stop by tonight for hours of fun!
URL:https://battlegroundz.net/event/special-6-hour-session-times/2030-11-15/
LOCATION:Battlegroundz\, 100 Higginson Ave\, Lincoln\, RI\, 02865\, United States
CATEGORIES:Airsoft,Airsoft
ATTACH;FMTTYPE=image/jpeg:https://battlegroundz.net/wp-content/uploads/2026/03/3-27-26-Friday-Session-Times.jpg
END:VEVENT
BEGIN:VEVENT
DTSTART;TZID=America/New_York:20301122T160000
DTEND;TZID=America/New_York:20301122T235900
DTSTAMP:20260421T224148
CREATED:20260331T164837Z
LAST-MODIFIED:20260331T164837Z
UID:10009200-1921593600-1921622340@battlegroundz.net
SUMMARY:Special 6-Hour Session Times!
DESCRIPTION:BattlegroundZ is offering two 6 hour sessions from 4-12 tonight. An airsoft extension is only $10! Stop by tonight for hours of fun!
URL:https://battlegroundz.net/event/special-6-hour-session-times/2030-11-22/
LOCATION:Battlegroundz\, 100 Higginson Ave\, Lincoln\, RI\, 02865\, United States
CATEGORIES:Airsoft,Airsoft
ATTACH;FMTTYPE=image/jpeg:https://battlegroundz.net/wp-content/uploads/2026/03/3-27-26-Friday-Session-Times.jpg
END:VEVENT
BEGIN:VEVENT
DTSTART;TZID=America/New_York:20301129T160000
DTEND;TZID=America/New_York:20301129T235900
DTSTAMP:20260421T224148
CREATED:20260331T164837Z
LAST-MODIFIED:20260331T164837Z
UID:10009201-1922198400-1922227140@battlegroundz.net
SUMMARY:Special 6-Hour Session Times!
DESCRIPTION:BattlegroundZ is offering two 6 hour sessions from 4-12 tonight. An airsoft extension is only $10! Stop by tonight for hours of fun!
URL:https://battlegroundz.net/event/special-6-hour-session-times/2030-11-29/
LOCATION:Battlegroundz\, 100 Higginson Ave\, Lincoln\, RI\, 02865\, United States
CATEGORIES:Airsoft,Airsoft
ATTACH;FMTTYPE=image/jpeg:https://battlegroundz.net/wp-content/uploads/2026/03/3-27-26-Friday-Session-Times.jpg
END:VEVENT
BEGIN:VEVENT
DTSTART;TZID=America/New_York:20301206T160000
DTEND;TZID=America/New_York:20301206T235900
DTSTAMP:20260421T224148
CREATED:20260331T164837Z
LAST-MODIFIED:20260331T164837Z
UID:10009202-1922803200-1922831940@battlegroundz.net
SUMMARY:Special 6-Hour Session Times!
DESCRIPTION:BattlegroundZ is offering two 6 hour sessions from 4-12 tonight. An airsoft extension is only $10! Stop by tonight for hours of fun!
URL:https://battlegroundz.net/event/special-6-hour-session-times/2030-12-06/
LOCATION:Battlegroundz\, 100 Higginson Ave\, Lincoln\, RI\, 02865\, United States
CATEGORIES:Airsoft,Airsoft
ATTACH;FMTTYPE=image/jpeg:https://battlegroundz.net/wp-content/uploads/2026/03/3-27-26-Friday-Session-Times.jpg
END:VEVENT
BEGIN:VEVENT
DTSTART;TZID=America/New_York:20301213T160000
DTEND;TZID=America/New_York:20301213T235900
DTSTAMP:20260421T224148
CREATED:20260331T164837Z
LAST-MODIFIED:20260331T164837Z
UID:10009203-1923408000-1923436740@battlegroundz.net
SUMMARY:Special 6-Hour Session Times!
DESCRIPTION:BattlegroundZ is offering two 6 hour sessions from 4-12 tonight. An airsoft extension is only $10! Stop by tonight for hours of fun!
URL:https://battlegroundz.net/event/special-6-hour-session-times/2030-12-13/
LOCATION:Battlegroundz\, 100 Higginson Ave\, Lincoln\, RI\, 02865\, United States
CATEGORIES:Airsoft,Airsoft
ATTACH;FMTTYPE=image/jpeg:https://battlegroundz.net/wp-content/uploads/2026/03/3-27-26-Friday-Session-Times.jpg
END:VEVENT
BEGIN:VEVENT
DTSTART;TZID=America/New_York:20301220T160000
DTEND;TZID=America/New_York:20301220T235900
DTSTAMP:20260421T224148
CREATED:20260331T164837Z
LAST-MODIFIED:20260331T164837Z
UID:10009204-1924012800-1924041540@battlegroundz.net
SUMMARY:Special 6-Hour Session Times!
DESCRIPTION:BattlegroundZ is offering two 6 hour sessions from 4-12 tonight. An airsoft extension is only $10! Stop by tonight for hours of fun!
URL:https://battlegroundz.net/event/special-6-hour-session-times/2030-12-20/
LOCATION:Battlegroundz\, 100 Higginson Ave\, Lincoln\, RI\, 02865\, United States
CATEGORIES:Airsoft,Airsoft
ATTACH;FMTTYPE=image/jpeg:https://battlegroundz.net/wp-content/uploads/2026/03/3-27-26-Friday-Session-Times.jpg
END:VEVENT
BEGIN:VEVENT
DTSTART;TZID=America/New_York:20301227T160000
DTEND;TZID=America/New_York:20301227T235900
DTSTAMP:20260421T224148
CREATED:20260331T164837Z
LAST-MODIFIED:20260331T164837Z
UID:10009205-1924617600-1924646340@battlegroundz.net
SUMMARY:Special 6-Hour Session Times!
DESCRIPTION:BattlegroundZ is offering two 6 hour sessions from 4-12 tonight. An airsoft extension is only $10! Stop by tonight for hours of fun!
URL:https://battlegroundz.net/event/special-6-hour-session-times/2030-12-27/
LOCATION:Battlegroundz\, 100 Higginson Ave\, Lincoln\, RI\, 02865\, United States
CATEGORIES:Airsoft,Airsoft
ATTACH;FMTTYPE=image/jpeg:https://battlegroundz.net/wp-content/uploads/2026/03/3-27-26-Friday-Session-Times.jpg
END:VEVENT
BEGIN:VEVENT
DTSTART;TZID=America/New_York:20310103T160000
DTEND;TZID=America/New_York:20310103T235900
DTSTAMP:20260421T224148
CREATED:20260331T164837Z
LAST-MODIFIED:20260331T164837Z
UID:10009206-1925222400-1925251140@battlegroundz.net
SUMMARY:Special 6-Hour Session Times!
DESCRIPTION:BattlegroundZ is offering two 6 hour sessions from 4-12 tonight. An airsoft extension is only $10! Stop by tonight for hours of fun!
URL:https://battlegroundz.net/event/special-6-hour-session-times/2031-01-03/
LOCATION:Battlegroundz\, 100 Higginson Ave\, Lincoln\, RI\, 02865\, United States
CATEGORIES:Airsoft,Airsoft
ATTACH;FMTTYPE=image/jpeg:https://battlegroundz.net/wp-content/uploads/2026/03/3-27-26-Friday-Session-Times.jpg
END:VEVENT
BEGIN:VEVENT
DTSTART;TZID=America/New_York:20310110T160000
DTEND;TZID=America/New_York:20310110T235900
DTSTAMP:20260421T224148
CREATED:20260331T164837Z
LAST-MODIFIED:20260331T164837Z
UID:10009207-1925827200-1925855940@battlegroundz.net
SUMMARY:Special 6-Hour Session Times!
DESCRIPTION:BattlegroundZ is offering two 6 hour sessions from 4-12 tonight. An airsoft extension is only $10! Stop by tonight for hours of fun!
URL:https://battlegroundz.net/event/special-6-hour-session-times/2031-01-10/
LOCATION:Battlegroundz\, 100 Higginson Ave\, Lincoln\, RI\, 02865\, United States
CATEGORIES:Airsoft,Airsoft
ATTACH;FMTTYPE=image/jpeg:https://battlegroundz.net/wp-content/uploads/2026/03/3-27-26-Friday-Session-Times.jpg
END:VEVENT
BEGIN:VEVENT
DTSTART;TZID=America/New_York:20310117T160000
DTEND;TZID=America/New_York:20310117T235900
DTSTAMP:20260421T224148
CREATED:20260331T164837Z
LAST-MODIFIED:20260331T164837Z
UID:10009208-1926432000-1926460740@battlegroundz.net
SUMMARY:Special 6-Hour Session Times!
DESCRIPTION:BattlegroundZ is offering two 6 hour sessions from 4-12 tonight. An airsoft extension is only $10! Stop by tonight for hours of fun!
URL:https://battlegroundz.net/event/special-6-hour-session-times/2031-01-17/
LOCATION:Battlegroundz\, 100 Higginson Ave\, Lincoln\, RI\, 02865\, United States
CATEGORIES:Airsoft,Airsoft
ATTACH;FMTTYPE=image/jpeg:https://battlegroundz.net/wp-content/uploads/2026/03/3-27-26-Friday-Session-Times.jpg
END:VEVENT
BEGIN:VEVENT
DTSTART;TZID=America/New_York:20310124T160000
DTEND;TZID=America/New_York:20310124T235900
DTSTAMP:20260421T224148
CREATED:20260331T164837Z
LAST-MODIFIED:20260331T164837Z
UID:10009209-1927036800-1927065540@battlegroundz.net
SUMMARY:Special 6-Hour Session Times!
DESCRIPTION:BattlegroundZ is offering two 6 hour sessions from 4-12 tonight. An airsoft extension is only $10! Stop by tonight for hours of fun!
URL:https://battlegroundz.net/event/special-6-hour-session-times/2031-01-24/
LOCATION:Battlegroundz\, 100 Higginson Ave\, Lincoln\, RI\, 02865\, United States
CATEGORIES:Airsoft,Airsoft
ATTACH;FMTTYPE=image/jpeg:https://battlegroundz.net/wp-content/uploads/2026/03/3-27-26-Friday-Session-Times.jpg
END:VEVENT
BEGIN:VEVENT
DTSTART;TZID=America/New_York:20310131T160000
DTEND;TZID=America/New_York:20310131T235900
DTSTAMP:20260421T224148
CREATED:20260331T164837Z
LAST-MODIFIED:20260331T164837Z
UID:10009210-1927641600-1927670340@battlegroundz.net
SUMMARY:Special 6-Hour Session Times!
DESCRIPTION:BattlegroundZ is offering two 6 hour sessions from 4-12 tonight. An airsoft extension is only $10! Stop by tonight for hours of fun!
URL:https://battlegroundz.net/event/special-6-hour-session-times/2031-01-31/
LOCATION:Battlegroundz\, 100 Higginson Ave\, Lincoln\, RI\, 02865\, United States
CATEGORIES:Airsoft,Airsoft
ATTACH;FMTTYPE=image/jpeg:https://battlegroundz.net/wp-content/uploads/2026/03/3-27-26-Friday-Session-Times.jpg
END:VEVENT
BEGIN:VEVENT
DTSTART;TZID=America/New_York:20310207T160000
DTEND;TZID=America/New_York:20310207T235900
DTSTAMP:20260421T224148
CREATED:20260331T164837Z
LAST-MODIFIED:20260331T164837Z
UID:10009211-1928246400-1928275140@battlegroundz.net
SUMMARY:Special 6-Hour Session Times!
DESCRIPTION:BattlegroundZ is offering two 6 hour sessions from 4-12 tonight. An airsoft extension is only $10! Stop by tonight for hours of fun!
URL:https://battlegroundz.net/event/special-6-hour-session-times/2031-02-07/
LOCATION:Battlegroundz\, 100 Higginson Ave\, Lincoln\, RI\, 02865\, United States
CATEGORIES:Airsoft,Airsoft
ATTACH;FMTTYPE=image/jpeg:https://battlegroundz.net/wp-content/uploads/2026/03/3-27-26-Friday-Session-Times.jpg
END:VEVENT
BEGIN:VEVENT
DTSTART;TZID=America/New_York:20310214T160000
DTEND;TZID=America/New_York:20310214T235900
DTSTAMP:20260421T224148
CREATED:20260331T164837Z
LAST-MODIFIED:20260331T164837Z
UID:10009212-1928851200-1928879940@battlegroundz.net
SUMMARY:Special 6-Hour Session Times!
DESCRIPTION:BattlegroundZ is offering two 6 hour sessions from 4-12 tonight. An airsoft extension is only $10! Stop by tonight for hours of fun!
URL:https://battlegroundz.net/event/special-6-hour-session-times/2031-02-14/
LOCATION:Battlegroundz\, 100 Higginson Ave\, Lincoln\, RI\, 02865\, United States
CATEGORIES:Airsoft,Airsoft
ATTACH;FMTTYPE=image/jpeg:https://battlegroundz.net/wp-content/uploads/2026/03/3-27-26-Friday-Session-Times.jpg
END:VEVENT
BEGIN:VEVENT
DTSTART;TZID=America/New_York:20310221T160000
DTEND;TZID=America/New_York:20310221T235900
DTSTAMP:20260421T224148
CREATED:20260331T164837Z
LAST-MODIFIED:20260331T164837Z
UID:10009213-1929456000-1929484740@battlegroundz.net
SUMMARY:Special 6-Hour Session Times!
DESCRIPTION:BattlegroundZ is offering two 6 hour sessions from 4-12 tonight. An airsoft extension is only $10! Stop by tonight for hours of fun!
URL:https://battlegroundz.net/event/special-6-hour-session-times/2031-02-21/
LOCATION:Battlegroundz\, 100 Higginson Ave\, Lincoln\, RI\, 02865\, United States
CATEGORIES:Airsoft,Airsoft
ATTACH;FMTTYPE=image/jpeg:https://battlegroundz.net/wp-content/uploads/2026/03/3-27-26-Friday-Session-Times.jpg
END:VEVENT
BEGIN:VEVENT
DTSTART;TZID=America/New_York:20310228T160000
DTEND;TZID=America/New_York:20310228T235900
DTSTAMP:20260421T224148
CREATED:20260331T164837Z
LAST-MODIFIED:20260331T164837Z
UID:10009214-1930060800-1930089540@battlegroundz.net
SUMMARY:Special 6-Hour Session Times!
DESCRIPTION:BattlegroundZ is offering two 6 hour sessions from 4-12 tonight. An airsoft extension is only $10! Stop by tonight for hours of fun!
URL:https://battlegroundz.net/event/special-6-hour-session-times/2031-02-28/
LOCATION:Battlegroundz\, 100 Higginson Ave\, Lincoln\, RI\, 02865\, United States
CATEGORIES:Airsoft,Airsoft
ATTACH;FMTTYPE=image/jpeg:https://battlegroundz.net/wp-content/uploads/2026/03/3-27-26-Friday-Session-Times.jpg
END:VEVENT
BEGIN:VEVENT
DTSTART;TZID=America/New_York:20310307T160000
DTEND;TZID=America/New_York:20310307T235900
DTSTAMP:20260421T224148
CREATED:20260331T164837Z
LAST-MODIFIED:20260331T164837Z
UID:10009215-1930665600-1930694340@battlegroundz.net
SUMMARY:Special 6-Hour Session Times!
DESCRIPTION:BattlegroundZ is offering two 6 hour sessions from 4-12 tonight. An airsoft extension is only $10! Stop by tonight for hours of fun!
URL:https://battlegroundz.net/event/special-6-hour-session-times/2031-03-07/
LOCATION:Battlegroundz\, 100 Higginson Ave\, Lincoln\, RI\, 02865\, United States
CATEGORIES:Airsoft,Airsoft
ATTACH;FMTTYPE=image/jpeg:https://battlegroundz.net/wp-content/uploads/2026/03/3-27-26-Friday-Session-Times.jpg
END:VEVENT
BEGIN:VEVENT
DTSTART;TZID=America/New_York:20310314T160000
DTEND;TZID=America/New_York:20310314T235900
DTSTAMP:20260421T224148
CREATED:20260331T164837Z
LAST-MODIFIED:20260331T164837Z
UID:10009216-1931270400-1931299140@battlegroundz.net
SUMMARY:Special 6-Hour Session Times!
DESCRIPTION:BattlegroundZ is offering two 6 hour sessions from 4-12 tonight. An airsoft extension is only $10! Stop by tonight for hours of fun!
URL:https://battlegroundz.net/event/special-6-hour-session-times/2031-03-14/
LOCATION:Battlegroundz\, 100 Higginson Ave\, Lincoln\, RI\, 02865\, United States
CATEGORIES:Airsoft,Airsoft
ATTACH;FMTTYPE=image/jpeg:https://battlegroundz.net/wp-content/uploads/2026/03/3-27-26-Friday-Session-Times.jpg
END:VEVENT
BEGIN:VEVENT
DTSTART;TZID=America/New_York:20310321T160000
DTEND;TZID=America/New_York:20310321T235900
DTSTAMP:20260421T224148
CREATED:20260331T164837Z
LAST-MODIFIED:20260331T164837Z
UID:10009217-1931875200-1931903940@battlegroundz.net
SUMMARY:Special 6-Hour Session Times!
DESCRIPTION:BattlegroundZ is offering two 6 hour sessions from 4-12 tonight. An airsoft extension is only $10! Stop by tonight for hours of fun!
URL:https://battlegroundz.net/event/special-6-hour-session-times/2031-03-21/
LOCATION:Battlegroundz\, 100 Higginson Ave\, Lincoln\, RI\, 02865\, United States
CATEGORIES:Airsoft,Airsoft
ATTACH;FMTTYPE=image/jpeg:https://battlegroundz.net/wp-content/uploads/2026/03/3-27-26-Friday-Session-Times.jpg
END:VEVENT
END:VCALENDAR