BEGIN:VCALENDAR
VERSION:2.0
PRODID:-//BattleGroundZ - ECPv6.15.20//NONSGML v1.0//EN
CALSCALE:GREGORIAN
METHOD:PUBLISH
X-WR-CALNAME:BattleGroundZ
X-ORIGINAL-URL:https://battlegroundz.net
X-WR-CALDESC:Events for BattleGroundZ
REFRESH-INTERVAL;VALUE=DURATION:PT1H
X-Robots-Tag:noindex
X-PUBLISHED-TTL:PT1H
BEGIN:VTIMEZONE
TZID:America/New_York
BEGIN:DAYLIGHT
TZOFFSETFROM:-0500
TZOFFSETTO:-0400
TZNAME:EDT
DTSTART:20250309T070000
END:DAYLIGHT
BEGIN:STANDARD
TZOFFSETFROM:-0400
TZOFFSETTO:-0500
TZNAME:EST
DTSTART:20251102T060000
END:STANDARD
BEGIN:DAYLIGHT
TZOFFSETFROM:-0500
TZOFFSETTO:-0400
TZNAME:EDT
DTSTART:20260308T070000
END:DAYLIGHT
BEGIN:STANDARD
TZOFFSETFROM:-0400
TZOFFSETTO:-0500
TZNAME:EST
DTSTART:20261101T060000
END:STANDARD
BEGIN:DAYLIGHT
TZOFFSETFROM:-0500
TZOFFSETTO:-0400
TZNAME:EDT
DTSTART:20270314T070000
END:DAYLIGHT
BEGIN:STANDARD
TZOFFSETFROM:-0400
TZOFFSETTO:-0500
TZNAME:EST
DTSTART:20271107T060000
END:STANDARD
END:VTIMEZONE
BEGIN:VEVENT
DTSTART;TZID=America/New_York:20260424T120000
DTEND;TZID=America/New_York:20260424T235900
DTSTAMP:20260420T113421
CREATED:20260331T204454Z
LAST-MODIFIED:20260331T204454Z
UID:10009300-1777032000-1777075140@battlegroundz.net
SUMMARY:Three 6 Hour Sessions Available Today For April Vacation!
DESCRIPTION:For April Vacation\, BattlegroundZ is offering three 6 hour sessions today from 12PM-12AM. Stop by tonight for hours of action-packed fun!
URL:https://battlegroundz.net/event/three-6-hour-sessions-available-today-for-april-vacation/
LOCATION:Battlegroundz\, 100 Higginson Ave\, Lincoln\, RI\, 02865\, United States
CATEGORIES:Airsoft,Airsoft
ATTACH;FMTTYPE=image/jpeg:https://battlegroundz.net/wp-content/uploads/2026/03/4-24-26-Friday-Session-Times.jpg
END:VEVENT
BEGIN:VEVENT
DTSTART;TZID=America/New_York:20260424T160000
DTEND;TZID=America/New_York:20260424T235900
DTSTAMP:20260420T113421
CREATED:20260331T164837Z
LAST-MODIFIED:20260331T164837Z
UID:10008961-1777046400-1777075140@battlegroundz.net
SUMMARY:Special 6-Hour Session Times!
DESCRIPTION:BattlegroundZ is offering two 6 hour sessions from 4-12 tonight. An airsoft extension is only $10! Stop by tonight for hours of fun!
URL:https://battlegroundz.net/event/special-6-hour-session-times/2026-04-24/
LOCATION:Battlegroundz\, 100 Higginson Ave\, Lincoln\, RI\, 02865\, United States
CATEGORIES:Airsoft,Airsoft
ATTACH;FMTTYPE=image/jpeg:https://battlegroundz.net/wp-content/uploads/2026/03/3-27-26-Friday-Session-Times.jpg
END:VEVENT
BEGIN:VEVENT
DTSTART;TZID=America/New_York:20260501T160000
DTEND;TZID=America/New_York:20260501T235900
DTSTAMP:20260420T113421
CREATED:20260331T164837Z
LAST-MODIFIED:20260331T164837Z
UID:10008962-1777651200-1777679940@battlegroundz.net
SUMMARY:Special 6-Hour Session Times!
DESCRIPTION:BattlegroundZ is offering two 6 hour sessions from 4-12 tonight. An airsoft extension is only $10! Stop by tonight for hours of fun!
URL:https://battlegroundz.net/event/special-6-hour-session-times/2026-05-01/
LOCATION:Battlegroundz\, 100 Higginson Ave\, Lincoln\, RI\, 02865\, United States
CATEGORIES:Airsoft,Airsoft
ATTACH;FMTTYPE=image/jpeg:https://battlegroundz.net/wp-content/uploads/2026/03/3-27-26-Friday-Session-Times.jpg
END:VEVENT
BEGIN:VEVENT
DTSTART;TZID=America/New_York:20260508T160000
DTEND;TZID=America/New_York:20260508T235900
DTSTAMP:20260420T113421
CREATED:20260331T164837Z
LAST-MODIFIED:20260331T164837Z
UID:10008963-1778256000-1778284740@battlegroundz.net
SUMMARY:Special 6-Hour Session Times!
DESCRIPTION:BattlegroundZ is offering two 6 hour sessions from 4-12 tonight. An airsoft extension is only $10! Stop by tonight for hours of fun!
URL:https://battlegroundz.net/event/special-6-hour-session-times/2026-05-08/
LOCATION:Battlegroundz\, 100 Higginson Ave\, Lincoln\, RI\, 02865\, United States
CATEGORIES:Airsoft,Airsoft
ATTACH;FMTTYPE=image/jpeg:https://battlegroundz.net/wp-content/uploads/2026/03/3-27-26-Friday-Session-Times.jpg
END:VEVENT
BEGIN:VEVENT
DTSTART;TZID=America/New_York:20260515T160000
DTEND;TZID=America/New_York:20260515T235900
DTSTAMP:20260420T113421
CREATED:20260331T164837Z
LAST-MODIFIED:20260331T164837Z
UID:10008964-1778860800-1778889540@battlegroundz.net
SUMMARY:Special 6-Hour Session Times!
DESCRIPTION:BattlegroundZ is offering two 6 hour sessions from 4-12 tonight. An airsoft extension is only $10! Stop by tonight for hours of fun!
URL:https://battlegroundz.net/event/special-6-hour-session-times/2026-05-15/
LOCATION:Battlegroundz\, 100 Higginson Ave\, Lincoln\, RI\, 02865\, United States
CATEGORIES:Airsoft,Airsoft
ATTACH;FMTTYPE=image/jpeg:https://battlegroundz.net/wp-content/uploads/2026/03/3-27-26-Friday-Session-Times.jpg
END:VEVENT
BEGIN:VEVENT
DTSTART;TZID=America/New_York:20260522T160000
DTEND;TZID=America/New_York:20260522T235900
DTSTAMP:20260420T113421
CREATED:20260331T164837Z
LAST-MODIFIED:20260331T164837Z
UID:10008965-1779465600-1779494340@battlegroundz.net
SUMMARY:Special 6-Hour Session Times!
DESCRIPTION:BattlegroundZ is offering two 6 hour sessions from 4-12 tonight. An airsoft extension is only $10! Stop by tonight for hours of fun!
URL:https://battlegroundz.net/event/special-6-hour-session-times/2026-05-22/
LOCATION:Battlegroundz\, 100 Higginson Ave\, Lincoln\, RI\, 02865\, United States
CATEGORIES:Airsoft,Airsoft
ATTACH;FMTTYPE=image/jpeg:https://battlegroundz.net/wp-content/uploads/2026/03/3-27-26-Friday-Session-Times.jpg
END:VEVENT
BEGIN:VEVENT
DTSTART;TZID=America/New_York:20260529T160000
DTEND;TZID=America/New_York:20260529T235900
DTSTAMP:20260420T113421
CREATED:20260331T164837Z
LAST-MODIFIED:20260331T164837Z
UID:10008966-1780070400-1780099140@battlegroundz.net
SUMMARY:Special 6-Hour Session Times!
DESCRIPTION:BattlegroundZ is offering two 6 hour sessions from 4-12 tonight. An airsoft extension is only $10! Stop by tonight for hours of fun!
URL:https://battlegroundz.net/event/special-6-hour-session-times/2026-05-29/
LOCATION:Battlegroundz\, 100 Higginson Ave\, Lincoln\, RI\, 02865\, United States
CATEGORIES:Airsoft,Airsoft
ATTACH;FMTTYPE=image/jpeg:https://battlegroundz.net/wp-content/uploads/2026/03/3-27-26-Friday-Session-Times.jpg
END:VEVENT
BEGIN:VEVENT
DTSTART;TZID=America/New_York:20260605T160000
DTEND;TZID=America/New_York:20260605T235900
DTSTAMP:20260420T113421
CREATED:20260331T164837Z
LAST-MODIFIED:20260331T164837Z
UID:10008967-1780675200-1780703940@battlegroundz.net
SUMMARY:Special 6-Hour Session Times!
DESCRIPTION:BattlegroundZ is offering two 6 hour sessions from 4-12 tonight. An airsoft extension is only $10! Stop by tonight for hours of fun!
URL:https://battlegroundz.net/event/special-6-hour-session-times/2026-06-05/
LOCATION:Battlegroundz\, 100 Higginson Ave\, Lincoln\, RI\, 02865\, United States
CATEGORIES:Airsoft,Airsoft
ATTACH;FMTTYPE=image/jpeg:https://battlegroundz.net/wp-content/uploads/2026/03/3-27-26-Friday-Session-Times.jpg
END:VEVENT
BEGIN:VEVENT
DTSTART;TZID=America/New_York:20260612T160000
DTEND;TZID=America/New_York:20260612T235900
DTSTAMP:20260420T113421
CREATED:20260331T164837Z
LAST-MODIFIED:20260331T164837Z
UID:10008968-1781280000-1781308740@battlegroundz.net
SUMMARY:Special 6-Hour Session Times!
DESCRIPTION:BattlegroundZ is offering two 6 hour sessions from 4-12 tonight. An airsoft extension is only $10! Stop by tonight for hours of fun!
URL:https://battlegroundz.net/event/special-6-hour-session-times/2026-06-12/
LOCATION:Battlegroundz\, 100 Higginson Ave\, Lincoln\, RI\, 02865\, United States
CATEGORIES:Airsoft,Airsoft
ATTACH;FMTTYPE=image/jpeg:https://battlegroundz.net/wp-content/uploads/2026/03/3-27-26-Friday-Session-Times.jpg
END:VEVENT
BEGIN:VEVENT
DTSTART;TZID=America/New_York:20260619T160000
DTEND;TZID=America/New_York:20260619T235900
DTSTAMP:20260420T113421
CREATED:20260331T164837Z
LAST-MODIFIED:20260331T164837Z
UID:10008969-1781884800-1781913540@battlegroundz.net
SUMMARY:Special 6-Hour Session Times!
DESCRIPTION:BattlegroundZ is offering two 6 hour sessions from 4-12 tonight. An airsoft extension is only $10! Stop by tonight for hours of fun!
URL:https://battlegroundz.net/event/special-6-hour-session-times/2026-06-19/
LOCATION:Battlegroundz\, 100 Higginson Ave\, Lincoln\, RI\, 02865\, United States
CATEGORIES:Airsoft,Airsoft
ATTACH;FMTTYPE=image/jpeg:https://battlegroundz.net/wp-content/uploads/2026/03/3-27-26-Friday-Session-Times.jpg
END:VEVENT
BEGIN:VEVENT
DTSTART;TZID=America/New_York:20260626T160000
DTEND;TZID=America/New_York:20260626T235900
DTSTAMP:20260420T113421
CREATED:20260331T164837Z
LAST-MODIFIED:20260331T164837Z
UID:10008970-1782489600-1782518340@battlegroundz.net
SUMMARY:Special 6-Hour Session Times!
DESCRIPTION:BattlegroundZ is offering two 6 hour sessions from 4-12 tonight. An airsoft extension is only $10! Stop by tonight for hours of fun!
URL:https://battlegroundz.net/event/special-6-hour-session-times/2026-06-26/
LOCATION:Battlegroundz\, 100 Higginson Ave\, Lincoln\, RI\, 02865\, United States
CATEGORIES:Airsoft,Airsoft
ATTACH;FMTTYPE=image/jpeg:https://battlegroundz.net/wp-content/uploads/2026/03/3-27-26-Friday-Session-Times.jpg
END:VEVENT
BEGIN:VEVENT
DTSTART;TZID=America/New_York:20260703T160000
DTEND;TZID=America/New_York:20260703T235900
DTSTAMP:20260420T113421
CREATED:20260331T164837Z
LAST-MODIFIED:20260331T164837Z
UID:10008971-1783094400-1783123140@battlegroundz.net
SUMMARY:Special 6-Hour Session Times!
DESCRIPTION:BattlegroundZ is offering two 6 hour sessions from 4-12 tonight. An airsoft extension is only $10! Stop by tonight for hours of fun!
URL:https://battlegroundz.net/event/special-6-hour-session-times/2026-07-03/
LOCATION:Battlegroundz\, 100 Higginson Ave\, Lincoln\, RI\, 02865\, United States
CATEGORIES:Airsoft,Airsoft
ATTACH;FMTTYPE=image/jpeg:https://battlegroundz.net/wp-content/uploads/2026/03/3-27-26-Friday-Session-Times.jpg
END:VEVENT
BEGIN:VEVENT
DTSTART;TZID=America/New_York:20260710T160000
DTEND;TZID=America/New_York:20260710T235900
DTSTAMP:20260420T113421
CREATED:20260331T164837Z
LAST-MODIFIED:20260331T164837Z
UID:10008972-1783699200-1783727940@battlegroundz.net
SUMMARY:Special 6-Hour Session Times!
DESCRIPTION:BattlegroundZ is offering two 6 hour sessions from 4-12 tonight. An airsoft extension is only $10! Stop by tonight for hours of fun!
URL:https://battlegroundz.net/event/special-6-hour-session-times/2026-07-10/
LOCATION:Battlegroundz\, 100 Higginson Ave\, Lincoln\, RI\, 02865\, United States
CATEGORIES:Airsoft,Airsoft
ATTACH;FMTTYPE=image/jpeg:https://battlegroundz.net/wp-content/uploads/2026/03/3-27-26-Friday-Session-Times.jpg
END:VEVENT
BEGIN:VEVENT
DTSTART;TZID=America/New_York:20260717T160000
DTEND;TZID=America/New_York:20260717T235900
DTSTAMP:20260420T113421
CREATED:20260331T164837Z
LAST-MODIFIED:20260331T164837Z
UID:10008973-1784304000-1784332740@battlegroundz.net
SUMMARY:Special 6-Hour Session Times!
DESCRIPTION:BattlegroundZ is offering two 6 hour sessions from 4-12 tonight. An airsoft extension is only $10! Stop by tonight for hours of fun!
URL:https://battlegroundz.net/event/special-6-hour-session-times/2026-07-17/
LOCATION:Battlegroundz\, 100 Higginson Ave\, Lincoln\, RI\, 02865\, United States
CATEGORIES:Airsoft,Airsoft
ATTACH;FMTTYPE=image/jpeg:https://battlegroundz.net/wp-content/uploads/2026/03/3-27-26-Friday-Session-Times.jpg
END:VEVENT
BEGIN:VEVENT
DTSTART;TZID=America/New_York:20260724T160000
DTEND;TZID=America/New_York:20260724T235900
DTSTAMP:20260420T113421
CREATED:20260331T164837Z
LAST-MODIFIED:20260331T164837Z
UID:10008974-1784908800-1784937540@battlegroundz.net
SUMMARY:Special 6-Hour Session Times!
DESCRIPTION:BattlegroundZ is offering two 6 hour sessions from 4-12 tonight. An airsoft extension is only $10! Stop by tonight for hours of fun!
URL:https://battlegroundz.net/event/special-6-hour-session-times/2026-07-24/
LOCATION:Battlegroundz\, 100 Higginson Ave\, Lincoln\, RI\, 02865\, United States
CATEGORIES:Airsoft,Airsoft
ATTACH;FMTTYPE=image/jpeg:https://battlegroundz.net/wp-content/uploads/2026/03/3-27-26-Friday-Session-Times.jpg
END:VEVENT
BEGIN:VEVENT
DTSTART;TZID=America/New_York:20260731T160000
DTEND;TZID=America/New_York:20260731T235900
DTSTAMP:20260420T113421
CREATED:20260331T164837Z
LAST-MODIFIED:20260331T164837Z
UID:10008975-1785513600-1785542340@battlegroundz.net
SUMMARY:Special 6-Hour Session Times!
DESCRIPTION:BattlegroundZ is offering two 6 hour sessions from 4-12 tonight. An airsoft extension is only $10! Stop by tonight for hours of fun!
URL:https://battlegroundz.net/event/special-6-hour-session-times/2026-07-31/
LOCATION:Battlegroundz\, 100 Higginson Ave\, Lincoln\, RI\, 02865\, United States
CATEGORIES:Airsoft,Airsoft
ATTACH;FMTTYPE=image/jpeg:https://battlegroundz.net/wp-content/uploads/2026/03/3-27-26-Friday-Session-Times.jpg
END:VEVENT
BEGIN:VEVENT
DTSTART;TZID=America/New_York:20260807T160000
DTEND;TZID=America/New_York:20260807T235900
DTSTAMP:20260420T113421
CREATED:20260331T164837Z
LAST-MODIFIED:20260331T164837Z
UID:10008976-1786118400-1786147140@battlegroundz.net
SUMMARY:Special 6-Hour Session Times!
DESCRIPTION:BattlegroundZ is offering two 6 hour sessions from 4-12 tonight. An airsoft extension is only $10! Stop by tonight for hours of fun!
URL:https://battlegroundz.net/event/special-6-hour-session-times/2026-08-07/
LOCATION:Battlegroundz\, 100 Higginson Ave\, Lincoln\, RI\, 02865\, United States
CATEGORIES:Airsoft,Airsoft
ATTACH;FMTTYPE=image/jpeg:https://battlegroundz.net/wp-content/uploads/2026/03/3-27-26-Friday-Session-Times.jpg
END:VEVENT
BEGIN:VEVENT
DTSTART;TZID=America/New_York:20260814T160000
DTEND;TZID=America/New_York:20260814T235900
DTSTAMP:20260420T113421
CREATED:20260331T164837Z
LAST-MODIFIED:20260331T164837Z
UID:10008977-1786723200-1786751940@battlegroundz.net
SUMMARY:Special 6-Hour Session Times!
DESCRIPTION:BattlegroundZ is offering two 6 hour sessions from 4-12 tonight. An airsoft extension is only $10! Stop by tonight for hours of fun!
URL:https://battlegroundz.net/event/special-6-hour-session-times/2026-08-14/
LOCATION:Battlegroundz\, 100 Higginson Ave\, Lincoln\, RI\, 02865\, United States
CATEGORIES:Airsoft,Airsoft
ATTACH;FMTTYPE=image/jpeg:https://battlegroundz.net/wp-content/uploads/2026/03/3-27-26-Friday-Session-Times.jpg
END:VEVENT
BEGIN:VEVENT
DTSTART;TZID=America/New_York:20260821T160000
DTEND;TZID=America/New_York:20260821T235900
DTSTAMP:20260420T113421
CREATED:20260331T164837Z
LAST-MODIFIED:20260331T164837Z
UID:10008978-1787328000-1787356740@battlegroundz.net
SUMMARY:Special 6-Hour Session Times!
DESCRIPTION:BattlegroundZ is offering two 6 hour sessions from 4-12 tonight. An airsoft extension is only $10! Stop by tonight for hours of fun!
URL:https://battlegroundz.net/event/special-6-hour-session-times/2026-08-21/
LOCATION:Battlegroundz\, 100 Higginson Ave\, Lincoln\, RI\, 02865\, United States
CATEGORIES:Airsoft,Airsoft
ATTACH;FMTTYPE=image/jpeg:https://battlegroundz.net/wp-content/uploads/2026/03/3-27-26-Friday-Session-Times.jpg
END:VEVENT
BEGIN:VEVENT
DTSTART;TZID=America/New_York:20260828T160000
DTEND;TZID=America/New_York:20260828T235900
DTSTAMP:20260420T113421
CREATED:20260331T164837Z
LAST-MODIFIED:20260331T164837Z
UID:10008979-1787932800-1787961540@battlegroundz.net
SUMMARY:Special 6-Hour Session Times!
DESCRIPTION:BattlegroundZ is offering two 6 hour sessions from 4-12 tonight. An airsoft extension is only $10! Stop by tonight for hours of fun!
URL:https://battlegroundz.net/event/special-6-hour-session-times/2026-08-28/
LOCATION:Battlegroundz\, 100 Higginson Ave\, Lincoln\, RI\, 02865\, United States
CATEGORIES:Airsoft,Airsoft
ATTACH;FMTTYPE=image/jpeg:https://battlegroundz.net/wp-content/uploads/2026/03/3-27-26-Friday-Session-Times.jpg
END:VEVENT
BEGIN:VEVENT
DTSTART;TZID=America/New_York:20260904T160000
DTEND;TZID=America/New_York:20260904T235900
DTSTAMP:20260420T113421
CREATED:20260331T164837Z
LAST-MODIFIED:20260331T164837Z
UID:10008980-1788537600-1788566340@battlegroundz.net
SUMMARY:Special 6-Hour Session Times!
DESCRIPTION:BattlegroundZ is offering two 6 hour sessions from 4-12 tonight. An airsoft extension is only $10! Stop by tonight for hours of fun!
URL:https://battlegroundz.net/event/special-6-hour-session-times/2026-09-04/
LOCATION:Battlegroundz\, 100 Higginson Ave\, Lincoln\, RI\, 02865\, United States
CATEGORIES:Airsoft,Airsoft
ATTACH;FMTTYPE=image/jpeg:https://battlegroundz.net/wp-content/uploads/2026/03/3-27-26-Friday-Session-Times.jpg
END:VEVENT
BEGIN:VEVENT
DTSTART;TZID=America/New_York:20260911T160000
DTEND;TZID=America/New_York:20260911T235900
DTSTAMP:20260420T113421
CREATED:20260331T164837Z
LAST-MODIFIED:20260331T164837Z
UID:10008981-1789142400-1789171140@battlegroundz.net
SUMMARY:Special 6-Hour Session Times!
DESCRIPTION:BattlegroundZ is offering two 6 hour sessions from 4-12 tonight. An airsoft extension is only $10! Stop by tonight for hours of fun!
URL:https://battlegroundz.net/event/special-6-hour-session-times/2026-09-11/
LOCATION:Battlegroundz\, 100 Higginson Ave\, Lincoln\, RI\, 02865\, United States
CATEGORIES:Airsoft,Airsoft
ATTACH;FMTTYPE=image/jpeg:https://battlegroundz.net/wp-content/uploads/2026/03/3-27-26-Friday-Session-Times.jpg
END:VEVENT
BEGIN:VEVENT
DTSTART;TZID=America/New_York:20260918T160000
DTEND;TZID=America/New_York:20260918T235900
DTSTAMP:20260420T113421
CREATED:20260331T164837Z
LAST-MODIFIED:20260331T164837Z
UID:10008982-1789747200-1789775940@battlegroundz.net
SUMMARY:Special 6-Hour Session Times!
DESCRIPTION:BattlegroundZ is offering two 6 hour sessions from 4-12 tonight. An airsoft extension is only $10! Stop by tonight for hours of fun!
URL:https://battlegroundz.net/event/special-6-hour-session-times/2026-09-18/
LOCATION:Battlegroundz\, 100 Higginson Ave\, Lincoln\, RI\, 02865\, United States
CATEGORIES:Airsoft,Airsoft
ATTACH;FMTTYPE=image/jpeg:https://battlegroundz.net/wp-content/uploads/2026/03/3-27-26-Friday-Session-Times.jpg
END:VEVENT
BEGIN:VEVENT
DTSTART;TZID=America/New_York:20260925T160000
DTEND;TZID=America/New_York:20260925T235900
DTSTAMP:20260420T113421
CREATED:20260331T164837Z
LAST-MODIFIED:20260331T164837Z
UID:10008983-1790352000-1790380740@battlegroundz.net
SUMMARY:Special 6-Hour Session Times!
DESCRIPTION:BattlegroundZ is offering two 6 hour sessions from 4-12 tonight. An airsoft extension is only $10! Stop by tonight for hours of fun!
URL:https://battlegroundz.net/event/special-6-hour-session-times/2026-09-25/
LOCATION:Battlegroundz\, 100 Higginson Ave\, Lincoln\, RI\, 02865\, United States
CATEGORIES:Airsoft,Airsoft
ATTACH;FMTTYPE=image/jpeg:https://battlegroundz.net/wp-content/uploads/2026/03/3-27-26-Friday-Session-Times.jpg
END:VEVENT
BEGIN:VEVENT
DTSTART;TZID=America/New_York:20261002T160000
DTEND;TZID=America/New_York:20261002T235900
DTSTAMP:20260420T113421
CREATED:20260331T164837Z
LAST-MODIFIED:20260331T164837Z
UID:10008984-1790956800-1790985540@battlegroundz.net
SUMMARY:Special 6-Hour Session Times!
DESCRIPTION:BattlegroundZ is offering two 6 hour sessions from 4-12 tonight. An airsoft extension is only $10! Stop by tonight for hours of fun!
URL:https://battlegroundz.net/event/special-6-hour-session-times/2026-10-02/
LOCATION:Battlegroundz\, 100 Higginson Ave\, Lincoln\, RI\, 02865\, United States
CATEGORIES:Airsoft,Airsoft
ATTACH;FMTTYPE=image/jpeg:https://battlegroundz.net/wp-content/uploads/2026/03/3-27-26-Friday-Session-Times.jpg
END:VEVENT
BEGIN:VEVENT
DTSTART;TZID=America/New_York:20261009T160000
DTEND;TZID=America/New_York:20261009T235900
DTSTAMP:20260420T113421
CREATED:20260331T164837Z
LAST-MODIFIED:20260331T164837Z
UID:10008985-1791561600-1791590340@battlegroundz.net
SUMMARY:Special 6-Hour Session Times!
DESCRIPTION:BattlegroundZ is offering two 6 hour sessions from 4-12 tonight. An airsoft extension is only $10! Stop by tonight for hours of fun!
URL:https://battlegroundz.net/event/special-6-hour-session-times/2026-10-09/
LOCATION:Battlegroundz\, 100 Higginson Ave\, Lincoln\, RI\, 02865\, United States
CATEGORIES:Airsoft,Airsoft
ATTACH;FMTTYPE=image/jpeg:https://battlegroundz.net/wp-content/uploads/2026/03/3-27-26-Friday-Session-Times.jpg
END:VEVENT
BEGIN:VEVENT
DTSTART;TZID=America/New_York:20261016T160000
DTEND;TZID=America/New_York:20261016T235900
DTSTAMP:20260420T113421
CREATED:20260331T164837Z
LAST-MODIFIED:20260331T164837Z
UID:10008986-1792166400-1792195140@battlegroundz.net
SUMMARY:Special 6-Hour Session Times!
DESCRIPTION:BattlegroundZ is offering two 6 hour sessions from 4-12 tonight. An airsoft extension is only $10! Stop by tonight for hours of fun!
URL:https://battlegroundz.net/event/special-6-hour-session-times/2026-10-16/
LOCATION:Battlegroundz\, 100 Higginson Ave\, Lincoln\, RI\, 02865\, United States
CATEGORIES:Airsoft,Airsoft
ATTACH;FMTTYPE=image/jpeg:https://battlegroundz.net/wp-content/uploads/2026/03/3-27-26-Friday-Session-Times.jpg
END:VEVENT
BEGIN:VEVENT
DTSTART;TZID=America/New_York:20261023T160000
DTEND;TZID=America/New_York:20261023T235900
DTSTAMP:20260420T113421
CREATED:20260331T164837Z
LAST-MODIFIED:20260331T164837Z
UID:10008987-1792771200-1792799940@battlegroundz.net
SUMMARY:Special 6-Hour Session Times!
DESCRIPTION:BattlegroundZ is offering two 6 hour sessions from 4-12 tonight. An airsoft extension is only $10! Stop by tonight for hours of fun!
URL:https://battlegroundz.net/event/special-6-hour-session-times/2026-10-23/
LOCATION:Battlegroundz\, 100 Higginson Ave\, Lincoln\, RI\, 02865\, United States
CATEGORIES:Airsoft,Airsoft
ATTACH;FMTTYPE=image/jpeg:https://battlegroundz.net/wp-content/uploads/2026/03/3-27-26-Friday-Session-Times.jpg
END:VEVENT
BEGIN:VEVENT
DTSTART;TZID=America/New_York:20261030T160000
DTEND;TZID=America/New_York:20261030T235900
DTSTAMP:20260420T113421
CREATED:20260331T164837Z
LAST-MODIFIED:20260331T164837Z
UID:10008988-1793376000-1793404740@battlegroundz.net
SUMMARY:Special 6-Hour Session Times!
DESCRIPTION:BattlegroundZ is offering two 6 hour sessions from 4-12 tonight. An airsoft extension is only $10! Stop by tonight for hours of fun!
URL:https://battlegroundz.net/event/special-6-hour-session-times/2026-10-30/
LOCATION:Battlegroundz\, 100 Higginson Ave\, Lincoln\, RI\, 02865\, United States
CATEGORIES:Airsoft,Airsoft
ATTACH;FMTTYPE=image/jpeg:https://battlegroundz.net/wp-content/uploads/2026/03/3-27-26-Friday-Session-Times.jpg
END:VEVENT
BEGIN:VEVENT
DTSTART;TZID=America/New_York:20261106T160000
DTEND;TZID=America/New_York:20261106T235900
DTSTAMP:20260420T113421
CREATED:20260331T164837Z
LAST-MODIFIED:20260331T164837Z
UID:10008989-1793980800-1794009540@battlegroundz.net
SUMMARY:Special 6-Hour Session Times!
DESCRIPTION:BattlegroundZ is offering two 6 hour sessions from 4-12 tonight. An airsoft extension is only $10! Stop by tonight for hours of fun!
URL:https://battlegroundz.net/event/special-6-hour-session-times/2026-11-06/
LOCATION:Battlegroundz\, 100 Higginson Ave\, Lincoln\, RI\, 02865\, United States
CATEGORIES:Airsoft,Airsoft
ATTACH;FMTTYPE=image/jpeg:https://battlegroundz.net/wp-content/uploads/2026/03/3-27-26-Friday-Session-Times.jpg
END:VEVENT
END:VCALENDAR