BEGIN:VCALENDAR
VERSION:2.0
PRODID:-//BattleGroundZ - ECPv6.15.20//NONSGML v1.0//EN
CALSCALE:GREGORIAN
METHOD:PUBLISH
X-ORIGINAL-URL:https://battlegroundz.net
X-WR-CALDESC:Events for BattleGroundZ
REFRESH-INTERVAL;VALUE=DURATION:PT1H
X-Robots-Tag:noindex
X-PUBLISHED-TTL:PT1H
BEGIN:VTIMEZONE
TZID:America/New_York
BEGIN:DAYLIGHT
TZOFFSETFROM:-0500
TZOFFSETTO:-0400
TZNAME:EDT
DTSTART:20250309T070000
END:DAYLIGHT
BEGIN:STANDARD
TZOFFSETFROM:-0400
TZOFFSETTO:-0500
TZNAME:EST
DTSTART:20251102T060000
END:STANDARD
BEGIN:DAYLIGHT
TZOFFSETFROM:-0500
TZOFFSETTO:-0400
TZNAME:EDT
DTSTART:20260308T070000
END:DAYLIGHT
BEGIN:STANDARD
TZOFFSETFROM:-0400
TZOFFSETTO:-0500
TZNAME:EST
DTSTART:20261101T060000
END:STANDARD
BEGIN:DAYLIGHT
TZOFFSETFROM:-0500
TZOFFSETTO:-0400
TZNAME:EDT
DTSTART:20270314T070000
END:DAYLIGHT
BEGIN:STANDARD
TZOFFSETFROM:-0400
TZOFFSETTO:-0500
TZNAME:EST
DTSTART:20271107T060000
END:STANDARD
END:VTIMEZONE
BEGIN:VEVENT
DTSTART;VALUE=DATE:20260420
DTEND;VALUE=DATE:20260422
DTSTAMP:20260420T071053
CREATED:20260327T031235Z
LAST-MODIFIED:20260327T031235Z
UID:10008954-1776646800-1776733199@battlegroundz.net
SUMMARY:20th YEAR ANNIVERSARY!
DESCRIPTION:Battlegroundz was established April 20\, 2006 so today marks our 20th Anniversary! We are very thankful to our patrons over the years that have seen us move through new locations\, surviving COVID\, and changing activities and fields over the past twenty years. Here’s to another 20!
URL:https://battlegroundz.net/event/20th-year-anniversary/
LOCATION:RI
END:VEVENT
BEGIN:VEVENT
DTSTART;TZID=America/New_York:20260420T120000
DTEND;TZID=America/New_York:20260420T220000
DTSTAMP:20260420T071053
CREATED:20260331T194909Z
LAST-MODIFIED:20260401T181355Z
UID:10009221-1776686400-1776722400@battlegroundz.net
SUMMARY:$20 Airsoft Session & $20 Airsoft Rental!
DESCRIPTION:BATTLEGROUNDZ THANKS YOU FOR 20 YEARS IN BUSINESS!\n\n\n\nWe’re really excited for next month as we celebrate this new milestone! Thank you to all of our valued customers for keeping the good times rolling at BGZ. Look out for April Vacation from April 20th-24th\, all activities (*unless noted) will open at 12PM! See you soon
URL:https://battlegroundz.net/event/20-off-airsoft-session-20-off-airsoft-rental/
LOCATION:Battlegroundz\, 100 Higginson Ave\, Lincoln\, RI\, 02865\, United States
CATEGORIES:Special Operating Hours
ATTACH;FMTTYPE=image/jpeg:https://battlegroundz.net/wp-content/uploads/2026/03/4-20-post.jpg
END:VEVENT
BEGIN:VEVENT
DTSTART;TZID=America/New_York:20260420T120000
DTEND;TZID=America/New_York:20260420T220000
DTSTAMP:20260420T071053
CREATED:20260331T200532Z
LAST-MODIFIED:20260331T202051Z
UID:10009293-1776686400-1776722400@battlegroundz.net
SUMMARY:Paintball And Airsoft Open at 12PM This Week!
DESCRIPTION:We’re excited to once again offer special hours for April vacation. All activities will be available at 12PM this week\, there’s no better time to stop by and try airsoft or paintball for the first time!
URL:https://battlegroundz.net/event/all-activities-open-at-12pm-this-week/2026-04-20/
LOCATION:Battlegroundz\, 100 Higginson Ave\, Lincoln\, RI\, 02865\, United States
CATEGORIES:Special Operating Hours
ATTACH;FMTTYPE=image/jpeg:https://battlegroundz.net/wp-content/uploads/2026/03/April-Vacation-Special-Hours.jpg
END:VEVENT
END:VCALENDAR