BEGIN:VCALENDAR
VERSION:2.0
PRODID:-//BattleGroundZ - ECPv6.15.20//NONSGML v1.0//EN
CALSCALE:GREGORIAN
METHOD:PUBLISH
X-WR-CALNAME:BattleGroundZ
X-ORIGINAL-URL:https://battlegroundz.net
X-WR-CALDESC:Events for BattleGroundZ
REFRESH-INTERVAL;VALUE=DURATION:PT1H
X-Robots-Tag:noindex
X-PUBLISHED-TTL:PT1H
BEGIN:VTIMEZONE
TZID:America/New_York
BEGIN:DAYLIGHT
TZOFFSETFROM:-0500
TZOFFSETTO:-0400
TZNAME:EDT
DTSTART:20240310T070000
END:DAYLIGHT
BEGIN:STANDARD
TZOFFSETFROM:-0400
TZOFFSETTO:-0500
TZNAME:EST
DTSTART:20241103T060000
END:STANDARD
BEGIN:DAYLIGHT
TZOFFSETFROM:-0500
TZOFFSETTO:-0400
TZNAME:EDT
DTSTART:20250309T070000
END:DAYLIGHT
BEGIN:STANDARD
TZOFFSETFROM:-0400
TZOFFSETTO:-0500
TZNAME:EST
DTSTART:20251102T060000
END:STANDARD
BEGIN:DAYLIGHT
TZOFFSETFROM:-0500
TZOFFSETTO:-0400
TZNAME:EDT
DTSTART:20260308T070000
END:DAYLIGHT
BEGIN:STANDARD
TZOFFSETFROM:-0400
TZOFFSETTO:-0500
TZNAME:EST
DTSTART:20261101T060000
END:STANDARD
END:VTIMEZONE
BEGIN:VEVENT
DTSTART;TZID=America/New_York:20250824T120000
DTEND;TZID=America/New_York:20250824T210000
DTSTAMP:20260421T062321
CREATED:20250724T201550Z
LAST-MODIFIED:20250724T220230Z
UID:10008486-1756036800-1756069200@battlegroundz.net
SUMMARY:Cheeseburger Club with Fries for $12.49
DESCRIPTION:Enjoy our club combo meal including a quartered triple-decker angus cheeseburger on white or wheat bread stacked with lettuce\, tomato\, bacon\, and mayo along with a boat full of fries
URL:https://battlegroundz.net/event/cheese-burger-club-with-fries-for-12-49/
LOCATION:RI
ATTACH;FMTTYPE=image/png:https://battlegroundz.net/wp-content/uploads/2025/07/Mess-Hall-Menu-one-page-2.png
END:VEVENT
END:VCALENDAR