BEGIN:VCALENDAR
VERSION:2.0
PRODID:-//BattleGroundZ - ECPv6.15.20//NONSGML v1.0//EN
CALSCALE:GREGORIAN
METHOD:PUBLISH
X-WR-CALNAME:BattleGroundZ
X-ORIGINAL-URL:https://battlegroundz.net
X-WR-CALDESC:Events for BattleGroundZ
REFRESH-INTERVAL;VALUE=DURATION:PT1H
X-Robots-Tag:noindex
X-PUBLISHED-TTL:PT1H
BEGIN:VTIMEZONE
TZID:America/New_York
BEGIN:DAYLIGHT
TZOFFSETFROM:-0500
TZOFFSETTO:-0400
TZNAME:EDT
DTSTART:20240310T070000
END:DAYLIGHT
BEGIN:STANDARD
TZOFFSETFROM:-0400
TZOFFSETTO:-0500
TZNAME:EST
DTSTART:20241103T060000
END:STANDARD
BEGIN:DAYLIGHT
TZOFFSETFROM:-0500
TZOFFSETTO:-0400
TZNAME:EDT
DTSTART:20250309T070000
END:DAYLIGHT
BEGIN:STANDARD
TZOFFSETFROM:-0400
TZOFFSETTO:-0500
TZNAME:EST
DTSTART:20251102T060000
END:STANDARD
BEGIN:DAYLIGHT
TZOFFSETFROM:-0500
TZOFFSETTO:-0400
TZNAME:EDT
DTSTART:20260308T070000
END:DAYLIGHT
BEGIN:STANDARD
TZOFFSETFROM:-0400
TZOFFSETTO:-0500
TZNAME:EST
DTSTART:20261101T060000
END:STANDARD
END:VTIMEZONE
BEGIN:VEVENT
DTSTART;TZID=America/New_York:20250817T120000
DTEND;TZID=America/New_York:20250817T210000
DTSTAMP:20260421T080210
CREATED:20250724T220534Z
LAST-MODIFIED:20250724T220534Z
UID:10008489-1755432000-1755464400@battlegroundz.net
SUMMARY:Mac n Cheese Bites 17% Off
DESCRIPTION:Get a 5 piece order of mac n cheese bites for $3.99 at the BGZ Mess Hall today 8/17/25
URL:https://battlegroundz.net/event/mac-n-cheese-bites-17-off-2/
LOCATION:RI
ATTACH;FMTTYPE=image/png:https://battlegroundz.net/wp-content/uploads/2025/07/Mess-Hall-Menu-one-page-2.png
END:VEVENT
END:VCALENDAR