BEGIN:VCALENDAR
VERSION:2.0
PRODID:-//BattleGroundZ - ECPv6.15.20//NONSGML v1.0//EN
CALSCALE:GREGORIAN
METHOD:PUBLISH
X-ORIGINAL-URL:https://battlegroundz.net
X-WR-CALDESC:Events for BattleGroundZ
REFRESH-INTERVAL;VALUE=DURATION:PT1H
X-Robots-Tag:noindex
X-PUBLISHED-TTL:PT1H
BEGIN:VTIMEZONE
TZID:America/New_York
BEGIN:DAYLIGHT
TZOFFSETFROM:-0500
TZOFFSETTO:-0400
TZNAME:EDT
DTSTART:20240310T070000
END:DAYLIGHT
BEGIN:STANDARD
TZOFFSETFROM:-0400
TZOFFSETTO:-0500
TZNAME:EST
DTSTART:20241103T060000
END:STANDARD
BEGIN:DAYLIGHT
TZOFFSETFROM:-0500
TZOFFSETTO:-0400
TZNAME:EDT
DTSTART:20250309T070000
END:DAYLIGHT
BEGIN:STANDARD
TZOFFSETFROM:-0400
TZOFFSETTO:-0500
TZNAME:EST
DTSTART:20251102T060000
END:STANDARD
BEGIN:DAYLIGHT
TZOFFSETFROM:-0500
TZOFFSETTO:-0400
TZNAME:EDT
DTSTART:20260308T070000
END:DAYLIGHT
BEGIN:STANDARD
TZOFFSETFROM:-0400
TZOFFSETTO:-0500
TZNAME:EST
DTSTART:20261101T060000
END:STANDARD
END:VTIMEZONE
BEGIN:VEVENT
DTSTART;TZID=America/New_York:20250615T120000
DTEND;TZID=America/New_York:20250615T210000
DTSTAMP:20260421T154715
CREATED:20250605T204511Z
LAST-MODIFIED:20250609T182751Z
UID:10008387-1749988800-1750021200@battlegroundz.net
SUMMARY:10pc Mac n Cheese Bites for $6.49
DESCRIPTION:Enjoy our fried mac and cheese bites\, $6.49 per order of 10\, with much more from the BGZ Mess Hall
URL:https://battlegroundz.net/event/10pc-mac-n-cheese-bites-for-6-49/
LOCATION:RI
ATTACH;FMTTYPE=image/png:https://battlegroundz.net/wp-content/uploads/2025/06/Mess-Hall-Menu-one-page-2.png
END:VEVENT
BEGIN:VEVENT
DTSTART;TZID=America/New_York:20250615T120000
DTEND;TZID=America/New_York:20250615T220000
DTSTAMP:20260421T154715
CREATED:20250608T202703Z
LAST-MODIFIED:20250609T201411Z
UID:10008395-1749988800-1750024800@battlegroundz.net
SUMMARY:Deal for Dad! Happy Father's Day!
DESCRIPTION:Happy Father’s Day Dad! Come on in Dad and enjoy 50% off your game play and rental gear. All fields open at noon today!
URL:https://battlegroundz.net/event/deal-for-dad-happy-fathers-day/
LOCATION:RI
ATTACH;FMTTYPE=image/png:https://battlegroundz.net/wp-content/uploads/2025/06/Fathers-Day-2025.png
END:VEVENT
END:VCALENDAR