BEGIN:VCALENDAR
VERSION:2.0
PRODID:-//BattleGroundZ - ECPv6.15.20//NONSGML v1.0//EN
CALSCALE:GREGORIAN
METHOD:PUBLISH
X-WR-CALNAME:BattleGroundZ
X-ORIGINAL-URL:https://battlegroundz.net
X-WR-CALDESC:Events for BattleGroundZ
REFRESH-INTERVAL;VALUE=DURATION:PT1H
X-Robots-Tag:noindex
X-PUBLISHED-TTL:PT1H
BEGIN:VTIMEZONE
TZID:America/New_York
BEGIN:DAYLIGHT
TZOFFSETFROM:-0500
TZOFFSETTO:-0400
TZNAME:EDT
DTSTART:20240310T070000
END:DAYLIGHT
BEGIN:STANDARD
TZOFFSETFROM:-0400
TZOFFSETTO:-0500
TZNAME:EST
DTSTART:20241103T060000
END:STANDARD
BEGIN:DAYLIGHT
TZOFFSETFROM:-0500
TZOFFSETTO:-0400
TZNAME:EDT
DTSTART:20250309T070000
END:DAYLIGHT
BEGIN:STANDARD
TZOFFSETFROM:-0400
TZOFFSETTO:-0500
TZNAME:EST
DTSTART:20251102T060000
END:STANDARD
BEGIN:DAYLIGHT
TZOFFSETFROM:-0500
TZOFFSETTO:-0400
TZNAME:EDT
DTSTART:20260308T070000
END:DAYLIGHT
BEGIN:STANDARD
TZOFFSETFROM:-0400
TZOFFSETTO:-0500
TZNAME:EST
DTSTART:20261101T060000
END:STANDARD
END:VTIMEZONE
BEGIN:VEVENT
DTSTART;TZID=America/New_York:20250421T120000
DTEND;TZID=America/New_York:20250421T213000
DTSTAMP:20260421T174954
CREATED:20250417T204344Z
LAST-MODIFIED:20250417T204344Z
UID:10008347-1745236800-1745271000@battlegroundz.net
SUMMARY:Unlimited Laser Tag $40/pp
DESCRIPTION:Come in today during Massachusetts school vacation and play Laser Tag for up to 5 hours for only $40 per person! Time frames for this deal are 12pm to 5pm and 5pm to 9:30pm. \nPlayers must be at least 5 years old to play\, have a Battlegroundz completed waiver\, and be wearing sneakers. We do not allow Crocs\, sandals\, slippers or open-toed footwear on our fields.
URL:https://battlegroundz.net/event/unlimited-laser-tag-40-pp/
LOCATION:Battlegroundz\, 100 Higginson Ave\, Lincoln\, RI\, 02865\, United States
END:VEVENT
END:VCALENDAR