BEGIN:VCALENDAR
VERSION:2.0
PRODID:-//BattleGroundZ - ECPv6.15.20//NONSGML v1.0//EN
CALSCALE:GREGORIAN
METHOD:PUBLISH
X-WR-CALNAME:BattleGroundZ
X-ORIGINAL-URL:https://battlegroundz.net
X-WR-CALDESC:Events for BattleGroundZ
REFRESH-INTERVAL;VALUE=DURATION:PT1H
X-Robots-Tag:noindex
X-PUBLISHED-TTL:PT1H
BEGIN:VTIMEZONE
TZID:America/New_York
BEGIN:DAYLIGHT
TZOFFSETFROM:-0500
TZOFFSETTO:-0400
TZNAME:EDT
DTSTART:20230312T070000
END:DAYLIGHT
BEGIN:STANDARD
TZOFFSETFROM:-0400
TZOFFSETTO:-0500
TZNAME:EST
DTSTART:20231105T060000
END:STANDARD
BEGIN:DAYLIGHT
TZOFFSETFROM:-0500
TZOFFSETTO:-0400
TZNAME:EDT
DTSTART:20240310T070000
END:DAYLIGHT
BEGIN:STANDARD
TZOFFSETFROM:-0400
TZOFFSETTO:-0500
TZNAME:EST
DTSTART:20241103T060000
END:STANDARD
BEGIN:DAYLIGHT
TZOFFSETFROM:-0500
TZOFFSETTO:-0400
TZNAME:EDT
DTSTART:20250309T070000
END:DAYLIGHT
BEGIN:STANDARD
TZOFFSETFROM:-0400
TZOFFSETTO:-0500
TZNAME:EST
DTSTART:20251102T060000
END:STANDARD
END:VTIMEZONE
BEGIN:VEVENT
DTSTART;TZID=America/New_York:20241220T160000
DTEND;TZID=America/New_York:20241221T000000
DTSTAMP:20260421T215413
CREATED:20240828T140743Z
LAST-MODIFIED:20241118T164711Z
UID:10005916-1734710400-1734739200@battlegroundz.net
SUMMARY:Airsoft Session Extension $10
DESCRIPTION:Buy a session of Airsoft and get the next same-day session for only $10 \n  \nSession 1 :4pm-8pm \nSession 2: 8pm-12am \n*Rental gear not included
URL:https://battlegroundz.net/event/buy-a-session-of-airsoft-and-get-the-next-same-day-session-for-only-10-2/2024-12-20/
LOCATION:RI
CATEGORIES:Airsoft
ATTACH;FMTTYPE=image/jpeg:https://battlegroundz.net/wp-content/uploads/2023/08/Airsoft-Extension-Friday.jpg
END:VEVENT
BEGIN:VEVENT
DTSTART;TZID=America/New_York:20241220T190000
DTEND;TZID=America/New_York:20241220T210000
DTSTAMP:20260421T215413
CREATED:20241118T173118Z
LAST-MODIFIED:20241118T173118Z
UID:10008025-1734721200-1734728400@battlegroundz.net
SUMMARY:Paint Nite: Snowy Sparkle Sunset
DESCRIPTION:7pm \nPaint Nite \nHosted by Joshua Altobelli \n\n\nPaint Night: Unleash your inner artist\n\n\nChristmas is coming! Let’s paint a nice winter scene for ourselves\, or as a gift! Let’s eat\, drink\, and socialize as we paint this magical scene! \nFeel free to purchase food or drinks while you paint! Supplies are provided. No prior experience is necessary. Please purchase your tickets well in advanced. \nSIGN UP TODAY
URL:https://battlegroundz.net/event/paint-nite-snowy-sparkle-sunset/
LOCATION:RI
CATEGORIES:Classes
ATTACH;FMTTYPE=image/jpeg:https://battlegroundz.net/wp-content/uploads/2024/11/Dec-2024-paintnite.jpg
END:VEVENT
END:VCALENDAR