BEGIN:VCALENDAR
VERSION:2.0
PRODID:-//BattleGroundZ - ECPv6.15.20//NONSGML v1.0//EN
CALSCALE:GREGORIAN
METHOD:PUBLISH
X-ORIGINAL-URL:https://battlegroundz.net
X-WR-CALDESC:Events for BattleGroundZ
REFRESH-INTERVAL;VALUE=DURATION:PT1H
X-Robots-Tag:noindex
X-PUBLISHED-TTL:PT1H
BEGIN:VTIMEZONE
TZID:America/New_York
BEGIN:DAYLIGHT
TZOFFSETFROM:-0500
TZOFFSETTO:-0400
TZNAME:EDT
DTSTART:20230312T070000
END:DAYLIGHT
BEGIN:STANDARD
TZOFFSETFROM:-0400
TZOFFSETTO:-0500
TZNAME:EST
DTSTART:20231105T060000
END:STANDARD
BEGIN:DAYLIGHT
TZOFFSETFROM:-0500
TZOFFSETTO:-0400
TZNAME:EDT
DTSTART:20240310T070000
END:DAYLIGHT
BEGIN:STANDARD
TZOFFSETFROM:-0400
TZOFFSETTO:-0500
TZNAME:EST
DTSTART:20241103T060000
END:STANDARD
BEGIN:DAYLIGHT
TZOFFSETFROM:-0500
TZOFFSETTO:-0400
TZNAME:EDT
DTSTART:20250309T070000
END:DAYLIGHT
BEGIN:STANDARD
TZOFFSETFROM:-0400
TZOFFSETTO:-0500
TZNAME:EST
DTSTART:20251102T060000
END:STANDARD
END:VTIMEZONE
BEGIN:VEVENT
DTSTART;VALUE=DATE:20241129
DTEND;VALUE=DATE:20241201
DTSTAMP:20260420T085354
CREATED:20231101T140835Z
LAST-MODIFIED:20241016T175834Z
UID:10004887-1732842000-1732928399@battlegroundz.net
SUMMARY:SPECIAL HOURS-BLACK FRIDAY
DESCRIPTION:ALL FIELDS OPEN AT 12pm \n12pm-12am \nAirsoft Sessions: \n1st Session: 12pm-4pm \n2nd Session: 4pm-8pm \n3rd Session: 8pm-12am \n***ONLY $20 Sessions! \n15% OFF of our Pro Shop Items
URL:https://battlegroundz.net/event/extended-hours-black-friday/
LOCATION:RI
CATEGORIES:Experience Special Hours
ATTACH;FMTTYPE=image/png:https://battlegroundz.net/wp-content/uploads/2023/11/Black-friday-2024-.png
END:VEVENT
BEGIN:VEVENT
DTSTART;TZID=America/New_York:20241129T120000
DTEND;TZID=America/New_York:20241130T000000
DTSTAMP:20260420T085354
CREATED:20231101T144630Z
LAST-MODIFIED:20241016T171854Z
UID:10005222-1732881600-1732924800@battlegroundz.net
SUMMARY:15% OFF EVERYTHING IN OUR PRO SHOP
DESCRIPTION:1 DAY ONLY ENJOY THIS BLACK FRIDAY DEAL \n  \n15% OFF EVERYTHING IN OUR PRO SHOP \n  \n 
URL:https://battlegroundz.net/event/20-off-everything-in-our-retail-store/
LOCATION:RI
CATEGORIES:Airsoft
END:VEVENT
BEGIN:VEVENT
DTSTART;TZID=America/New_York:20241129T120000
DTEND;TZID=America/New_York:20241130T000000
DTSTAMP:20260420T085354
CREATED:20231204T190458Z
LAST-MODIFIED:20241118T164837Z
UID:10005239-1732881600-1732924800@battlegroundz.net
SUMMARY:Airsoft Session Extension $10
DESCRIPTION:Buy a session of Airsoft and get the next same-day session for only $10 \nSession 1 :12pm-4pm \nSession 2 :4pm-8pm \nSession 3: 8pm-12am \n*Rental gear not included
URL:https://battlegroundz.net/event/airsoft-session-extension-10-6/2024-11-29/
LOCATION:RI
CATEGORIES:Airsoft
ATTACH;FMTTYPE=image/jpeg:https://battlegroundz.net/wp-content/uploads/2023/12/Airsoft-Extension-wfriday.jpg
END:VEVENT
BEGIN:VEVENT
DTSTART;TZID=America/New_York:20241129T120000
DTEND;TZID=America/New_York:20241130T000000
DTSTAMP:20260420T085354
CREATED:20241016T172349Z
LAST-MODIFIED:20241016T172507Z
UID:10006168-1732881600-1732924800@battlegroundz.net
SUMMARY:Airsoft Session Only $20
DESCRIPTION:12pm-4pm \n4pm-8pm \n4pm-12am \nAirsoft Session ONLY $20  **SAVE $10*** \n*Rental Gear not included
URL:https://battlegroundz.net/event/airsoft-session-only-20/
LOCATION:RI
CATEGORIES:Airsoft
ATTACH;FMTTYPE=image/jpeg:https://battlegroundz.net/wp-content/uploads/2023/05/IMG_2339.jpg
END:VEVENT
END:VCALENDAR